Workbook

Sheet 平台消耗统计
A1: Week | B1: Date | C1: Adpingid | D1: 包名 | E1: 地区 | F1: 平台 | G1: 平台转化数量 | H1: CPI平台成本 | I1: 花费 | J1: 信用消耗金额
A2: =WEEKNUM(B2,2) -> 42 | B2: 46309 | C2: 10813123 | D2: com.amazon.mShop.android.shopping | E2: BR | F2: Bigo | G2: 79 | H2: 0.2804 | I2: 22.1493
A3: =WEEKNUM(B3,2) -> 42 | B3: 46309 | C3: 1745925 | D3: tech.jm | E3: RU | F3: MTG | G3: 600 | H3: 0.15 | I3: 90
A4: =WEEKNUM(B4,2) -> 42 | B4: 46309 | C4: 6951600 | D4: com.king.candycrushsodasaga | E4: TH | F4: MTG | G4: 45 | H4: 0.174 | I4: 7.82
A5: =WEEKNUM(B5,2) -> 42 | B5: 46309 | C5: 6951594 | D5: com.king.candycrushsodasaga | E5: DE | F5: MTG | G5: 225 | H5: 0.702 | I5: 157.85
A6: =WEEKNUM(B6,2) -> 42 | B6: 46309 | C6: 2732727 | D6: com.amazon.mShop.android.shopping | E6: SA | F6: MTG | G6: 669 | H6: 0.249 | I6: 166.875
A7: =WEEKNUM(B7,2) -> 42 | B7: 46309 | C7: 5619156 | D7: com.amazon.mShop.android.shopping | E7: SA | F7: Bigo | G7: 49 | H7: 0.3042 | I7: 14.9053
A8: =WEEKNUM(B8,2) -> 42 | B8: 46309 | C8: 6425889 | D8: com.amazon.mShop.android.shopping | E8: ZA | F8: MTG | G8: 214 | H8: 0.25 | I8: 53.5
A9: =WEEKNUM(B9,2) -> 42 | B9: 46309 | C9: 6439005 | D9: com.amazon.mShop.android.shopping | E9: ZA | F9: Eagllwin | G9: 61 | H9: 0.3 | I9: 18.3
A10: =WEEKNUM(B10,2) -> 42 | B10: 46309 | C10: 7203110 | D10: com.fxpro.direct.application | E10: SY | F10: MTG | G10: 1 | H10: 0.2 | I10: 0.2
A11: =WEEKNUM(B11,2) -> 42 | B11: 46309 | C11: 7202934 | D11: com.fxpro.direct.application | E11: PK | F11: MTG | G11: 92 | H11: 0.35 | I11: 32.2
A12: =WEEKNUM(B12,2) -> 42 | B12: 46309 | C12: 5847496 | D12: com.amazon.mShop.android.shopping | E12: AE | F12: Bigo | G12: 2 | H12: 0.583 | I12: 1.165
A13: =WEEKNUM(B13,2) -> 42 | B13: 46309 | C13: 7572369 | D13: com.amazon.mShop.android.shopping | E13: AE | F13: MTG | G13: 143 | H13: 0.306 | I13: 43.74
... A18: =WEEKNUM(B18,2) -> 42 | B18: 46309 | C18: 10501490 | D18: tech.jm | E18: RU | F18: MTG | G18: 14 | H18: 0.13 | I18: 1.82
A19: =WEEKNUM(B19,2) -> 42 | B19: 46309 | C19: 10912510 | D19: com.amazon.mShop.android.shopping | E19: BR | F19: Kwai | G19: 400 | H19: 0.39 | I19: 154.78 | J19: 154.785
A20: =WEEKNUM(B20,2) -> 42 | B20: 46309 | C20: 11080098 | D20: com.fxpro.direct.application | E20: PK | F20: MTG | G20: 1 | H20: 0.6 | I20: 0.6
A21: =WEEKNUM(B21,2) -> 42 | B21: 46309 | C21: 11715627 | D21: com.esprit.rpg.cntrctfft | E21: RU | F21: MTG | G21: 0 | H21: 0 | I21: 0
A22: =WEEKNUM(B22,2) -> 42 | B22: 46309 | C22: 11715655 | D22: com.king.candycrushsodasaga | E22: BR | F22: MTG | G22: 0 | H22: 0 | I22: 0
A23: =WEEKNUM(B23,2) -> 42 | B23: 46309 | C23: 11715811 | D23: com.king.candycrushsodasaga | E23: TH | F23: MTG | G23: 0 | H23: 0 | I23: 0
A24: =WEEKNUM(B24,2) -> 42 | B24: 46309 | C24: 11729927 | D24: com.amazon.mShop.android.shopping | E24: ZA | F24: MTG | G24: 0 | H24: 0 | I24: 0
A25: =WEEKNUM(B25,2) -> 42 | B25: 46309 | C25: 11729820 | D25: com.amazon.mShop.android.shopping | E25: AE | F25: MTG | G25: 0 | H25: 0 | I25: 0
A26: =WEEKNUM(B26,2) -> 42 | B26: 46309 | C26: 11729830 | D26: com.amazon.mShop.android.shopping | E26: BR | F26: Bigo | G26: 0 | H26: 0 | I26: 0
A27: =WEEKNUM(B27,2) -> 42 | B27: 46309 | C27: 11892329 | D27: com.amazon.mShop.android.shopping | E27: BR | F27: MTG | G27: 1000 | H27: 0.25 | I27: 250
A28: =WEEKNUM(B28,2) -> 42 | B28: 46309 | C28: 91560708 | D28: com.king.candycrushsaga | E28: FR | F28: MTG | G28: 131 | H28: 0.101 | I28: 13.295
A29: =WEEKNUM(B29,2) -> 42 | B29: 46309 | C29: 91560709 | D29: com.king.candycrushsaga | E29: VN | F29: MTG | G29: 465 | H29: 0.06 | I29: 27.9
A30: =WEEKNUM(B30,2) -> 42 | B30: 46309 | C30: 12064281 | D30: com.king.candycrushsodasaga | E30: DE | F30: MTG | G30: 0 | H30: 0 | I30: 0
A31: =WEEKNUM(B31,2) -> 42 | B31: 46309 | C31: 11987622 | D31: com.amazon.mShop.android.shopping | E31: BR | F31: Kwai | G31: 10 | H31: 0.37 | I31: 3.73 | J31: 3.73
A32: =WEEKNUM(B32,2) -> 42 | B32: 46309 | C32: 91567811 | D32: ru.banki.banki | E32: RU | F32: MTG | G32: 38 | H32: 1 | I32: 38
A33: =WEEKNUM(B33,2) -> 42 | B33: 46309 | C33: 91548044 | D33: ru.banki.banki | E33: RU | F33: Bigo | G33: 50 | H33: 1.005 | I33: 50.2685
A34: =WEEKNUM(B34,2) -> 42 | B34: 46309 | C34: 12801942 | D34: com.amazon.mShop.android.shopping | E34: BR | F34: TaurusX | G34: 0 | H34: 0 | I34: 0.46
A35: =WEEKNUM(B35,2) -> 42 | B35: 46309 | C35: 13084710 | D35: com.amazon.mShop.android.shopping | E35: BR | F35: MTG | G35: 200 | H35: 0.23 | I35: 46
A36: =WEEKNUM(B36,2) -> 42 | B36: 46309 | C36: 13226265 | D36: com.amazon.mShop.android.shopping | E36: TR | F36: TaurusX | G36: 3 | H36: 0.3 | I36: 0.9
A37: =WEEKNUM(B37,2) -> 42 | B37: 46309 | C37: 12814874 | D37: com.amazon.mShop.android.shopping | E37: ZA | F37: TaurusX | G37: 9 | H37: 0.14 | I37: 1.28
A38: =WEEKNUM(B38,2) -> 42 | B38: 46309 | C38: 12814889 | D38: com.amazon.mShop.android.shopping | E38: AE | F38: TaurusX | G38: 0 | H38: 0 | I38: 0.02
A39: =WEEKNUM(B39,2) -> 42 | B39: 46309 | C39: 12814931 | D39: com.amazon.mShop.android.shopping | E39: SA | F39: TaurusX | G39: 0 | H39: 0 | I39: 0.49
A40: =WEEKNUM(B40,2) -> 42 | B40: 46309 | C40: 12809771 | D40: asrtum.ent.domovyata | E40: RU | F40: TaurusX | G40: 0 | H40: 0 | I40: 0
A41: =WEEKNUM(B41,2) -> 42 | B41: 46309 | C41: 12810152 | D41: com.fxpro.direct.application | E41: PK | F41: TaurusX | G41: 1 | H41: 1.61 | I41: 1.61
A42: =WEEKNUM(B42,2) -> 42 | B42: 46309 | C42: 6061077 | D42: ru.aliexpress.buyer | E42: RU | F42: MTG | G42: 9 | H42: 0.405 | I42: 3.647
A43: =WEEKNUM(B43,2) -> 42 | B43: 46309 | C43: 6607117 | D43: ru.aliexpress.buyer | E43: RU | F43: MTG | G43: 246 | H43: 0.763 | I43: 187.801
... A69: =WEEKNUM(B69,2) -> 42 | B69: 46309 | C69: 8057746 | D69: com.king.candycrushsaga | E69: MY | F69: MTG | G69: 0 | H69: 0 | I69: 0
...

Sheet 优化师维度统计
A1: 日期 | B1: 投放人 | C1: Adpingid | D1: 包名 | E1: 地区 | F1: 平台 | G1: 单价 | H1: Daily install cap | I1: Weekly budget | J1: 时段 | K1: 展示 | L1: 点击 | M1: 转化 | N1: CPC | O1: CPI | P1: 花费 | Q1: cap达成率
A2: 每日汇总 | B2: 周四 | K2: =SUM(K3:K506) -> 363304 | L2: =SUM(L3:L506) -> 44602 | P2: =SUM(P3:P506) -> 202.1931
A3: 46310 | B3: 黄政 | C3: 10813123 | D3: com.amazon.mShop.android.shopping | E3: BR | F3: Bigo | G3: 0.25 | H3: 1000 | I3: =G3*H3*7 -> 1750 | J3: 截止10点 | K3: 28015 | L3: 611 | M3: 4 | N3: 0 | O3: 0.563 | P3: 2.2529 | Q3: =M5/H3 -> 0
J4: 截止18点
J5: 截止24点
C6: 1745925 | D6: tech.jm | E6: RU | F6: MTG | G6: 0.15 | H6: 600 | I6: =G6*H6*7 -> 630 | J6: 截止10点 | K6: 396 | L6: 134 | M6: 0 | N6: 0 | O6: 0 | P6: 0 | Q6: =M8/H6 -> 0
J7: 截止18点
J8: 截止24点
C9: 6951600 | D9: com.king.candycrushsodasaga | E9: TH | F9: MTG | G9: 0.17 | H9: 100 | I9: =G9*H9*7 -> 119 | J9: 截止10点 | K9: 211 | L9: 83 | M9: 0 | N9: 0 | O9: 0 | P9: 0 | Q9: =M11/H9 -> 0
J10: 截止18点
J11: 截止24点
C12: 6951594 | D12: com.king.candycrushsodasaga | E12: DE | F12: MTG | G12: 0.7 | H12: 400 | I12: =G12*H12*7 -> 1960 | J12: 截止10点 | K12: 1132 | L12: 539 | M12: 0 | N12: 0 | O12: 0 | P12: 0 | Q12: =M14/H12 -> 0
J13: 截止18点
J14: 截止24点
C15: 2732727 | D15: com.amazon.mShop.android.shopping | E15: SA | F15: MTG | G15: 0.25 | H15: 1000 | I15: =G15*H15*7 -> 1750 | J15: 截止10点 | K15: 330 | L15: 125 | M15: 29 | N15: 0.058 | O15: 0.248 | P15: 7.2 | Q15: =M17/H15 -> 0
J16: 截止18点
J17: 截止24点
C18: 5619156 | D18: com.amazon.mShop.android.shopping | E18: SA | F18: Bigo | G18: 0.24 | H18: 500 | I18: =G18*H18*7 -> 840 | J18: 截止10点 | K18: 25160 | L18: 4535 | M18: 1 | N18: 0 | O18: 0.8957 | P18: 0.8957 | Q18: =M20/H18 -> 0
J19: 截止18点
J20: 截止24点
C21: 6425889 | D21: com.amazon.mShop.android.shopping | E21: ZA | F21: MTG | G21: 0.25 | H21: 400 | I21: =G21*H21*7 -> 700 | J21: 截止10点 | K21: 65 | L21: 17 | M21: 0 | N21: 0 | O21: 0 | P21: 0 | Q21: 0.003
J22: 截止18点
J23: 截止24点
C24: 6439005 | D24: com.amazon.mShop.android.shopping | E24: ZA | F24: Eagllwin | G24: 0.3 | H24: 300 | I24: =G24*H24*7 -> 630 | J24: 截止10点 | K24: 0 | L24: 0 | M24: 0 | N24: 0 | O24: 0 | P24: 0 | Q24: =M26/H24 -> 0
J25: 截止18点
J26: 截止24点
C27: 7203110 | D27: com.fxpro.direct.application | E27: SY | F27: MTG | G27: 0.2 | H27: 100 | I27: =G27*H27*7 -> 140 | J27: 截止10点 | K27: 0 | L27: 0 | M27: 0 | N27: 0 | O27: 0 | P27: 0 | Q27: =M29/H27 -> 0
J28: 截止18点
J29: 截止24点
C30: 7202934 | D30: com.fxpro.direct.application | E30: PK | F30: MTG | G30: 0.35 | H30: 200 | I30: =G30*H30*7 -> 490 | J30: 截止10点 | K30: 1244 | L30: 633 | M30: 0 | N30: 0 | O30: 0 | P30: 0 | Q30: 0
J31: 截止18点
J32: 截止24点
C33: 5847496 | D33: com.amazon.mShop.android.shopping | E33: AE | F33: Bigo | G33: 0.3 | H33: 200 | I33: =G33*H33*7 -> 420 | J33: 截止10点 | K33: 642 | L33: 42 | M33: 0 | N33: 0 | O33: 0 | P33: 0.0607 | Q33: =M35/H33 -> 0
J34: 截止18点
J35: 截止24点
C36: 7572369 | D36: com.amazon.mShop.android.shopping | E36: AE | F36: MTG | G36: 0.3 | H36: 400 | I36: =G36*H36*7 -> 840 | J36: 截止10点 | K36: 6 | L36: 1 | M36: 0 | N36: 0 | O36: 0 | P36: 0 | Q36: =M38/H36 -> 0
J37: 截止18点
J38: 截止24点
C39: 8460883 | D39: com.king.candycrushsodasaga | E39: BR | F39: MTG | G39: 0.14 | H39: 900 | I39: =G39*H39*7 -> 882 | J39: 截止10点 | K39: 4467 | L39: 1338 | M39: 66 | N39: 0.007 | O39: 0.14 | P39: 9.268 | Q39: =M41/H39 -> 0
J40: 截止18点
...

Sheet Playable素材统计
A1: 日期 | B1: 投放人 | C1: Adpingid | D1: 包名 | E1: 地区 | F1: 平台 | G1: 单价 | H1: Daily install cap | I1: Weekly budget | J1: 时段 | K1: 展示 | L1: 点击 | M1: 转化 | N1: CPC | O1: CPI | P1: 花费 | Q1: cap达成率 | S1: CTR | T1: CVR
A2: 每日汇总 | B2: 周四 | K2: =SUM(K3:K6) -> 0 | L2: =SUM(L3:L6) -> 0 | P2: =SUM(P3:P6) -> 0
A3: 46310 | B3: 万科 | C3: 8998645 | D3: com.king.candycrushsaga | E3: TH | F3: MTG | G3: 0.28 | H3: 200 | I3: =G3*H3*7 -> 392 | J3: 截止24点 | Q3: =M3/H3 -> 0 | S3: =IFERROR(L3/K3,0) -> 0 | T3: =IFERROR(M3/L3,0) -> 0
C4: 5497580 | D4: com.king.candycrushsaga | E4: TH | F4: MTG | G4: 0.28 | H4: 1300 | I4: =G4*H4*7 -> 2548 | J4: 截止24点 | Q4: =M4/H4 -> 0 | S4: =IFERROR(L4/K4,0) -> 0 | T4: =IFERROR(M4/L4,0) -> 0
C5: 91407542 | D5: com.king.candycrushsaga | E5: ID | F5: MTG | G5: 0.02 | H5: 600 | I5: =G5*H5*7 -> 84 | J5: 截止24点 | Q5: =M5/H5 -> 0 | S5: =IFERROR(L5/K5,0) -> 0 | T5: =IFERROR(M5/L5,0) -> 0
B6: 黄政 | C6: 6951594 | D6: com.king.candycrushsodasaga | E6: DE | F6: MTG | G6: 0.6 | H6: 250 | I6: =G6*H6*7 -> 1050 | J6: 截止24点 | Q6: =M6/H6 -> 0 | S6: =IFERROR(L6/K6,0) -> 0 | T6: =IFERROR(M6/L6,0) -> 0
B7: 谭超 | C7: 7815836 | D7: com.kwai.bulldog | E7: ID | F7: MTG | G7: 0.08 | H7: 12000 | I7: =G7*H7*7 -> 6720 | J7: 截止24点 | Q7: =M7/H7 -> 0 | S7: =IFERROR(L7/K7,0) -> 0 | T7: =IFERROR(M7/L7,0) -> 0
A9: 每日汇总 | B9: 周三 | K9: =SUM(K10:K13) -> 136514 | L9: =SUM(L10:L13) -> 84089 | P9: =SUM(P10:P13) -> 421.755
A10: 46309 | B10: 万科 | C10: 8998645 | D10: com.king.candycrushsaga | E10: TH | F10: MTG | G10: 0.28 | H10: 200 | I10: =G10*H10*7 -> 392 | J10: 截止24点 | K10: 21216 | L10: 12341 | M10: 125 | N10: 0.005 | O10: 0.491 | P10: 61.33 | Q10: =M10/H10 -> 0.625 | S10: =IFERROR(L10/K10,0) -> 0.58168363 | T10: =IFERROR(M10/L10,0) -> 0.010128839
C11: 5497580 | D11: com.king.candycrushsaga | E11: TH | F11: MTG | G11: 0.28 | H11: 1300 | I11: =G11*H11*7 -> 2548 | J11: 截止24点 | K11: 78466 | L11: 48808 | M11: 1147 | N11: 0.006 | O11: 0.255 | P11: 292.435 | Q11: =M11/H11 -> 0.88230769 | S11: =IFERROR(L11/K11,0) -> 0.62202737 | T11: =IFERROR(M11/L11,0) -> 0.023500246
C12: 91407542 | D12: com.king.candycrushsaga | E12: ID | F12: MTG | G12: 0.02 | H12: 600 | I12: =G12*H12*7 -> 84 | J12: 截止24点 | K12: 49 | L12: 21 | M12: 1 | N12: 0.001 | O12: 0.02 | P12: 0.02 | Q12: =M12/H12 -> 0.0016666667 | S12: =IFERROR(L12/K12,0) -> 0.42857143 | T12: =IFERROR(M12/L12,0) -> 0.047619048
B13: 黄政 | C13: 6951594 | D13: com.king.candycrushsodasaga | E13: DE | F13: MTG | G13: 0.6 | H13: 250 | I13: =G13*H13*7 -> 1050 | J13: 截止24点 | K13: 36783 | L13: 22919 | M13: 97 | N13: 0.003 | O13: 0.701 | P13: 67.97 | Q13: =M13/H13 -> 0.388 | S13: =IFERROR(L13/K13,0) -> 0.62308675 | T13: =IFERROR(M13/L13,0) -> 0.0042322963
B14: 谭超 | C14: 7815836 | D14: com.kwai.bulldog | E14: ID | F14: MTG | G14: 0.08 | H14: 12000 | I14: =G14*H14*7 -> 6720 | J14: 截止24点 | K14: 130803 | L14: 88290 | M14: 1334 | N14: 0.002 | O14: 0.11 | P14: 146.95 | Q14: =M14/H14 -> 0.11116667 | S14: =IFERROR(L14/K14,0) -> 0.67498452 | T14: =IFERROR(M14/L14,0) -> 0.015109299
A16: 每日汇总 | B16: 周二 | K16: =SUM(K17:K20) -> 112789 | L16: =SUM(L17:L20) -> 71862 | P16: =SUM(P17:P20) -> 380.965
A17: 46308 | B17: 万科 | C17: 8998645 | D17: com.king.candycrushsaga | E17: TH | F17: MTG | G17: 0.28 | H17: 200 | I17: =G17*H17*7 -> 392 | J17: 截止24点 | K17: 7960 | L17: 4789 | M17: 81 | N17: 0.008 | O17: 0.488 | P17: 39.5 | Q17: =M17/H17 -> 0.405 | S17: =IFERROR(L17/K17,0) -> 0.60163317 | T17: =IFERROR(M17/L17,0) -> 0.016913761
C18: 5497580 | D18: com.king.candycrushsaga | E18: TH | F18: MTG | G18: 0.28 | H18: 1300 | I18: =G18*H18*7 -> 2548 | J18: 截止24点 | K18: 68287 | L18: 43979 | M18: 1086 | N18: 0.006 | O18: 0.254 | P18: 276.155 | Q18: =M18/H18 -> 0.83538462 | S18: =IFERROR(L18/K18,0) -> 0.64403181 | T18: =IFERROR(M18/L18,0) -> 0.024693604
C19: 91407542 | D19: com.king.candycrushsaga | E19: ID | F19: MTG | G19: 0.02 | H19: 600 | I19: =G19*H19*7 -> 84 | J19: 截止24点 | K19: 60 | L19: 31 | M19: 0 | N19: 0 | O19: 0 | P19: 0 | Q19: =M19/H19 -> 0 | S19: =IFERROR(L19/K19,0) -> 0.51666667 | T19: =IFERROR(M19/L19,0) -> 0
B20: 黄政 | C20: 6951594 | D20: com.king.candycrushsodasaga | E20: DE | F20: MTG | G20: 0.6 | H20: 250 | I20: =G20*H20*7 -> 1050 | J20: 截止24点 | K20: 36482 | L20: 23063 | M20: 93 | N20: 0.003 | O20: 0.702 | P20: 65.31 | Q20: =M20/H20 -> 0.372 | S20: =IFERROR(L20/K20,0) -> 0.63217477 | T20: =IFERROR(M20/L20,0) -> 0.0040324329
B21: 周梓君 | C21: 12072287 | D21: com.yandex.bank | E21: RU | F21: MTG | G21: 0.5 | H21: 200 | I21: =G21*H21*7 -> 700 | J21: 截止24点 | K21: 45 | L21: 12 | M21: 1 | N21: 0.17 | O21: 2.034 | P21: 2.034 | Q21: =M21/H21 -> 0.005 | S21: =IFERROR(L21/K21,0) -> 0.26666667 | T21: =IFERROR(M21/L21,0) -> 0.083333333 | U21: 10/13 暂停
B22: 谭超 | C22: 7815836 | D22: com.kwai.bulldog | E22: ID | F22: MTG | G22: 0.08 | H22: 12000 | I22: =G22*H22*7 -> 6720 | J22: 截止24点 | K22: 179999 | L22: 124288 | M22: 1445 | N22: 0.001 | O22: 0.11 | P22: 158.92 | Q22: =M22/H22 -> 0.12041667 | S22: =IFERROR(L22/K22,0) -> 0.69049272 | T22: =IFERROR(M22/L22,0) -> 0.011626223
A24: 每日汇总 | B24: 周一 | K24: =SUM(K25:K28) -> 122005 | L24: =SUM(L25:L28) -> 77427 | P24: =SUM(P25:P28) -> 422.792
A25: 46307 | B25: 万科 | C25: 8998645 | D25: com.king.candycrushsaga | E25: TH | F25: MTG | G25: 0.28 | H25: 200 | I25: =G25*H25*7 -> 392 | J25: 截止24点 | K25: 12696 | L25: 7459 | M25: 134 | N25: 0.01 | O25: 0.537 | P25: 71.964 | Q25: =M25/H25 -> 0.67 | S25: =IFERROR(L25/K25,0) -> 0.58750788 | T25: =IFERROR(M25/L25,0) -> 0.017964875
C26: 5497580 | D26: com.king.candycrushsaga | E26: TH | F26: MTG | G26: 0.28 | H26: 1300 | I26: =G26*H26*7 -> 2548 | J26: 截止24点 | K26: 74655 | L26: 47499 | M26: 1138 | N26: 0.006 | O26: 0.254 | P26: 288.878 | Q26: =M26/H26 -> 0.87538462 | S26: =IFERROR(L26/K26,0) -> 0.63624673 | T26: =IFERROR(M26/L26,0) -> 0.023958399
C27: 91407542 | D27: com.king.candycrushsaga | E27: ID | F27: MTG | G27: 0.02 | H27: 600 | I27: =G27*H27*7 -> 84 | J27: 截止24点 | K27: 125 | L27: 88 | M27: 0 | N27: 0 | O27: 0 | P27: 0 | Q27: =M27/H27 -> 0 | S27: =IFERROR(L27/K27,0) -> 0.704 | T27: =IFERROR(M27/L27,0) -> 0
B28: 黄政 | C28: 6951594 | D28: com.king.candycrushsodasaga | E28: DE | F28: MTG | G28: 0.6 | H28: 250 | I28: =G28*H28*7 -> 1050 | J28: 截止24点 | K28: 34529 | L28: 22381 | M28: 88 | N28: 0.003 | O28: 0.704 | P28: 61.95 | Q28: =M28/H28 -> 0.352 | S28: =IFERROR(L28/K28,0) -> 0.64817979 | T28: =IFERROR(M28/L28,0) -> 0.0039319065
B29: 周梓君 | C29: 12072287 | D29: com.yandex.bank | E29: RU | F29: MTG | G29: 0.5 | H29: 200 | I29: =G29*H29*7 -> 700 | J29: 截止24点 | K29: 296 | L29: 60 | M29: 4 | N29: 0.013 | O29: 0.188 | P29: 0.752 | Q29: =M29/H29 -> 0.02 | S29: =IFERROR(L29/K29,0) -> 0.2027027 | T29: =IFERROR(M29/L29,0) -> 0.066666667
B30: 谭超 | C30: 7815836 | D30: com.kwai.bulldog | E30: ID | F30: MTG | G30: 0.08 | H30: 12000 | I30: =G30*H30*7 -> 6720 | J30: 截止24点 | K30: 157765 | L30: 108519 | M30: 1313 | N30: 0.001 | O30: 0.11 | P30: 144.17 | Q30: =M30/H30 -> 0.10941667 | S30: =IFERROR(L30/K30,0) -> 0.68785219 | T30: =IFERROR(M30/L30,0) -> 0.012099264
A32: 每日汇总 | B32: 周日 | K32: =SUM(K33:K36) -> 157198 | L32: =SUM(L33:L36) -> 99324 | P32: =SUM(P33:P36) -> 488.113
A33: 46306 | B33: 万科 | C33: 8998645 | D33: com.king.candycrushsaga | E33: TH | F33: MTG | G33: 0.28 | H33: 200 | I33: =G33*H33*7 -> 392 | J33: 截止24点 | K33: 30598 | L33: 18293 | M33: 137 | N33: 0.005 | O33: 0.615 | P33: 84.269 | Q33: =M33/H33 -> 0.685 | S33: =IFERROR(L33/K33,0) -> 0.59784953 | T33: =IFERROR(M33/L33,0) -> 0.0074892035
C34: 5497580 | D34: com.king.candycrushsaga | E34: TH | F34: MTG | G34: 0.28 | H34: 1300 | I34: =G34*H34*7 -> 2548 | J34: 截止24点 | K34: 91729 | L34: 58300 | M34: 1267 | N34: 0.006 | O34: 0.256 | P34: 324.354 | Q34: =M34/H34 -> 0.97461538 | S34: =IFERROR(L34/K34,0) -> 0.63556781 | T34: =IFERROR(M34/L34,0) -> 0.021732419
C35: 91407542 | D35: com.king.candycrushsaga | E35: ID | F35: MTG | G35: 0.02 | H35: 600 | I35: =G35*H35*7 -> 84 | J35: 截止24点 | K35: 321 | L35: 196 | M35: 2 | N35: 0 | O35: 0.02 | P35: 0.04 | Q35: =M35/H35 -> 0.0033333333 | S35: =IFERROR(L35/K35,0) -> 0.6105919 | T35: =IFERROR(M35/L35,0) -> 0.010204082
B36: 黄政 | C36: 6951594 | D36: com.king.candycrushsodasaga | E36: DE | F36: MTG | G36: 0.6 | H36: 250 | I36: =G36*H36*7 -> 1050 | J36: 截止24点 | K36: 34550 | L36: 22535 | M36: 113 | N36: 0.004 | O36: 0.703 | P36: 79.45 | Q36: =M36/H36 -> 0.452 | S36: =IFERROR(L36/K36,0) -> 0.65224313 | T36: =IFERROR(M36/L36,0) -> 0.005014422
B37: 周梓君 | C37: 12072287 | D37: com.yandex.bank | E37: RU | F37: MTG | G37: 0.5 | H37: 200 | I37: =G37*H37*7 -> 700 | J37: 截止24点 | K37: 217 | L37: 52 | M37: 4 | N37: 0.045 | O37: 0.583 | P37: 2.332 | Q37: =M37/H37 -> 0.02 | S37: =IFERROR(L37/K37,0) -> 0.23963134 | T37: =IFERROR(M37/L37,0) -> 0.076923077
A39: 每日汇总 | B39: 周六 | K39: =SUM(K40:K43) -> 114447 | L39: =SUM(L40:L43) -> 72359 | P39: =SUM(P40:P43) -> 436.288
A40: 46305 | B40: 万科 | C40: 8998645 | D40: com.king.candycrushsaga | E40: TH | F40: MTG | G40: 0.28 | H40: 200 | I40: =G40*H40*7 -> 392 | J40: 截止24点 | K40: 32885 | L40: 19856 | M40: 160 | N40: 0.005 | O40: 0.6 | P40: 95.923 | Q40: =M40/H40 -> 0.8 | S40: =IFERROR(L40/K40,0) -> 0.60380113 | T40: =IFERROR(M40/L40,0) -> 0.0080580177
C41: 5497580 | D41: com.king.candycrushsaga | E41: TH | F41: MTG | G41: 0.28 | H41: 1300 | I41: =G41*H41*7 -> 2548 | J41: 截止24点 | K41: 59439 | L41: 37856 | M41: 1113 | N41: 0.007 | O41: 0.255 | P41: 283.385 | Q41: =M41/H41 -> 0.85615385 | S41: =IFERROR(L41/K41,0) -> 0.63688824 | T41: =IFERROR(M41/L41,0) -> 0.029400888
C42: 91407542 | D42: com.king.candycrushsaga | E42: ID | F42: MTG | G42: 0.02 | H42: 600 | I42: =G42*H42*7 -> 84 | J42: 截止24点 | K42: 149 | L42: 84 | M42: 0 | N42: 0 | O42: 0 | P42: 0 | Q42: =M42/H42 -> 0 | S42: =IFERROR(L42/K42,0) -> 0.56375839 | T42: =IFERROR(M42/L42,0) -> 0
B43: 黄政 | C43: 6951594 | D43: com.king.candycrushsodasaga | E43: DE | F43: MTG | G43: 0.6 | H43: 250 | I43: =G43*H43*7 -> 1050 | J43: 截止24点 | K43: 21974 | L43: 14563 | M43: 81 | N43: 0.004 | O43: 0.703 | P43: 56.98 | Q43: =M43/H43 -> 0.324 | S43: =IFERROR(L43/K43,0) -> 0.66273778 | T43: =IFERROR(M43/L43,0) -> 0.0055620408
B44: 周梓君 | C44: 12072287 | D44: com.yandex.bank | E44: RU | F44: MTG | G44: 0.5 | H44: 200 | I44: =G44*H44*7 -> 700 | J44: 截止24点 | K44: 75 | L44: 23 | M44: 0 | N44: 0 | O44: 0 | P44: 0 | Q44: =M44/H44 -> 0 | S44: =IFERROR(L44/K44,0) -> 0.30666667 | T44: =IFERROR(M44/L44,0) -> 0
A46: 每日汇总 | B46: 周五 | K46: =SUM(K47:K50) -> 115511 | L46: =SUM(L47:L50) -> 70751 | P46: =SUM(P47:P50) -> 360.999
...

Sheet 数据透视表
B1: 41
A3: Adpingid | B3: 包名 | C3: 平台 | D3: 地区 | E3: 求和:平台转化数量 | F3: 求和:花费
A4: 11892329 | B4: com.amazon.mShop.android.shopping | C4: MTG | D4: BR | E4: 14434 | F4: 3608.48
A5: 11690181 | B5: astrum.ent.m2alyona | C5: MTG | D5: RU | E5: 7900 | F5: 3318
A6: 5497580 | B6: com.king.candycrushsaga | C6: MTG | D6: TH | E6: 10633 | F6: 2692.482
A7: 7815836 | B7: com.kwai.bulldog | C7: MTG | D7: ID | E7: 22384 | F7: 2494.55
A8: 11511535 | B8: com.yandex.bank | C8: Mediago | D8: RU | E8: 4430 | F8: 1662.3
A9: 5464039 | B9: com.king.candycrushsaga | C9: MTG | D9: MY | E9: 5515 | F9: 1637.93
A10: 5963354 | B10: ru.ozon.app.android | C10: MTG | D10: KZ | E10: 2542 | F10: 1445.453
A11: 8291713 | B11: ru.kinopoisk | C11: MTG | D11: RU | E11: 8712 | F11: 1219.655
A12: 8628042 | B12: asrtum.ent.domovyata | C12: Mediago | D12: RU | E12: 2547 | F12: 1051.21
A13: 6951594 | B13: com.king.candycrushsodasaga | C13: MTG | D13: DE | E13: 1455 | F13: 1029.77
A14: 2732727 | B14: com.amazon.mShop.android.shopping | C14: MTG | D14: SA | E14: 3864 | F14: 963.375
A15: 8156506 | B15: com.yandex.lavka | C15: MTG | D15: RU | E15: 7000 | F15: 954.838
... A164: 91573327 | B164: ru.yandex.yandexnavi | C164: MTG | D164: RU | E164: 0 | F164: 0

Sheet Week41
E1: Week
A2: Adpingid | B2: 包名 | C2: 平台 | D2: 地区 | E2: 41 | F2: 40 | G2: 消耗环比 | H2: 变动原因：差值在+-15%的都需要仔细复盘 1、具体的预算增加或者控量动作的时间点 2、如果有降预算问清楚降预算原因 3、广告自身的变化：素材增加/衰退后的表现，子渠道调整，价格调整 4、外部变化：平台流量变化/竞争原因，比如CPM？CPC？CTR？CVR？是否有变动？ | I2: 下一步计划 (根据变动原因需要做出的对应动作，以及需要什么支持？比如cap超跑需要帮助check是否有bug，需要check事件表现，需要新素材，需要提价&加预算等等)
A3: 11892329 | B3: com.amazon.mShop.android.shopping | C3: MTG | D3: BR | E3: =SUMIFS('平台消耗统计'!I:I,'平台消耗统计'!A:A,$E$2,'平台消耗统计'!C:C,A3) -> 3608.48 | F3: =IFERROR(VLOOKUP(A3,Q$4:U$174,5,FALSE),0) -> 3699.9 | G3: =IFERROR((E3-F3)/F3,0) -> -0.024708776 | H3: 基本没变化 | I3: 继续保持打满 | Q3: Adpingid | R3: 包名 | S3: 平台 | T3: 地区 | U3: 40
A4: 11690181 | B4: astrum.ent.m2alyona | C4: MTG | D4: RU | E4: =SUMIFS('平台消耗统计'!I:I,'平台消耗统计'!A:A,$E$2,'平台消耗统计'!C:C,A4) -> 3318 | F4: =IFERROR(VLOOKUP(A4,Q$4:U$174,5,FALSE),0) -> 1709.8 | G4: =IFERROR((E4-F4)/F4,0) -> 0.94057785 | H4: 10.2cap从400涨到1000，10.9再次上涨到1300 每天都能打满 | I4: 继续保持打满 | Q4: 11892329 | R4: com.amazon.mShop.android.shopping | S4: MTG | T4: BR | U4: 3699.9
A5: 5497580 | B5: com.king.candycrushsaga | C5: MTG | D5: TH | E5: =SUMIFS('平台消耗统计'!I:I,'平台消耗统计'!A:A,$E$2,'平台消耗统计'!C:C,A5) -> 2692.482 | F5: =IFERROR(VLOOKUP(A5,Q$4:U$174,5,FALSE),0) -> 2843.6 | G5: =IFERROR((E5-F5)/F5,0) -> -0.053143199 | H5: 正常差值，每天打满。 | I5: 定期优化子渠道保持量级不变。 | Q5: 7815836 | R5: com.kwai.bulldog | S5: MTG | T5: ID | U5: 3383.2
A6: 7815836 | B6: com.kwai.bulldog | C6: MTG | D6: ID | E6: =SUMIFS('平台消耗统计'!I:I,'平台消耗统计'!A:A,$E$2,'平台消耗统计'!C:C,A6) -> 2494.55 | F6: =IFERROR(VLOOKUP(A6,Q$4:U$174,5,FALSE),0) -> 3383.2 | G6: =IFERROR((E6-F6)/F6,0) -> -0.26266552 | H6: 10.2上新了素材 10.3调整压低了子渠道出价 cpi从0.122降到0.111，10.8又新建了没剃子渠道的广告但没什么效果 目前每天只能有三千多个转化 | I6: 持续上新素材 剔除子渠道 提价 | Q6: 5464039 | R6: com.king.candycrushsaga | S6: MTG | T6: MY | U6: 2187.9
A7: 11511535 | B7: com.yandex.bank | C7: Mediago | D7: RU | E7: =SUMIFS('平台消耗统计'!I:I,'平台消耗统计'!A:A,$E$2,'平台消耗统计'!C:C,A7) -> 1662.3 | F7: =IFERROR(VLOOKUP(A7,Q$4:U$174,5,FALSE),0) -> 1674.9 | G7: =IFERROR((E7-F7)/F7,0) -> -0.0075228372 | H7: 合理范围内波动，eCPI控制在较好范围，因数据库遇袭10/12 暂停 | Q7: 5497580 | R7: com.king.candycrushsaga | S7: MTG | T7: TH | U7: 2843.6
A8: 5464039 | B8: com.king.candycrushsaga | C8: MTG | D8: MY | E8: =SUMIFS('平台消耗统计'!I:I,'平台消耗统计'!A:A,$E$2,'平台消耗统计'!C:C,A8) -> 1637.93 | F8: =IFERROR(VLOOKUP(A8,Q$4:U$174,5,FALSE),0) -> 2187.9 | G8: =IFERROR((E8-F8)/F8,0) -> -0.25136889 | H8: 单元掉量出量渠道衰退 | I8: 试过加价和上新素材新单元，多换素材试试 | Q8: 11511535 | R8: com.yandex.bank | S8: Mediago | T8: RU | U8: 1674.9
A9: 5963354 | B9: ru.ozon.app.android | C9: MTG | D9: KZ | E9: =SUMIFS('平台消耗统计'!I:I,'平台消耗统计'!A:A,$E$2,'平台消耗统计'!C:C,A9) -> 1445.453 | F9: =IFERROR(VLOOKUP(A9,Q$4:U$174,5,FALSE),0) -> 1378.9 | G9: =IFERROR((E9-F9)/F9,0) -> 0.048265284 | H9: 竞争减小，Week41转化量增多，10/12 cap 500→200，需控量 | I9: cap下调控量 | Q9: 8291713 | R9: ru.kinopoisk | S9: MTG | T9: RU | U9: 1424.8
A10: 8291713 | B10: ru.kinopoisk | C10: MTG | D10: RU | E10: =SUMIFS('平台消耗统计'!I:I,'平台消耗统计'!A:A,$E$2,'平台消耗统计'!C:C,A10) -> 1219.655 | F10: =IFERROR(VLOOKUP(A10,Q$4:U$174,5,FALSE),0) -> 1424.8 | G10: =IFERROR((E10-F10)/F10,0) -> -0.14398161 | H10: 受数据库袭击影响10/12 暂停 | Q10: 5963354 | R10: ru.ozon.app.android | S10: MTG | T10: KZ | U10: 1378.9
A11: 8628042 | B11: asrtum.ent.domovyata | C11: Mediago | D11: RU | E11: =SUMIFS('平台消耗统计'!I:I,'平台消耗统计'!A:A,$E$2,'平台消耗统计'!C:C,A11) -> 1051.21 | F11: =IFERROR(VLOOKUP(A11,Q$4:U$174,5,FALSE),0) -> 1012 | G11: =IFERROR((E11-F11)/F11,0) -> 0.038745059 | H11: 比较稳定 有一天掉了100个转化 后续提价补回来了 其余时间都能打满 | I11: 继续保持 上新素材 | Q11: 11690181 | R11: astrum.ent.m2alyona | S11: MTG | T11: RU | U11: 1709.8
A12: 6951594 | B12: com.king.candycrushsodasaga | C12: MTG | D12: DE | E12: =SUMIFS('平台消耗统计'!I:I,'平台消耗统计'!A:A,$E$2,'平台消耗统计'!C:C,A12) -> 1029.77 | F12: =IFERROR(VLOOKUP(A12,Q$4:U$174,5,FALSE),0) -> 1348.6 | G12: =IFERROR((E12-F12)/F12,0) -> -0.23641554 | H12: 试玩素材有一个被拒受到了影响 | I12: 继续保持 上新素材 | Q12: 8628042 | R12: asrtum.ent.domovyata | S12: Mediago | T12: RU | U12: 1012
A13: 2732727 | B13: com.amazon.mShop.android.shopping | C13: MTG | D13: SA | E13: =SUMIFS('平台消耗统计'!I:I,'平台消耗统计'!A:A,$E$2,'平台消耗统计'!C:C,A13) -> 963.375 | F13: =IFERROR(VLOOKUP(A13,Q$4:U$174,5,FALSE),0) -> 980.6 | G13: =IFERROR((E13-F13)/F13,0) -> -0.017565776 | H13: 最近基本600cap能打满 | I13: 继续保持 上新素材 | Q13: 8460883 | R13: com.king.candycrushsodasaga | S13: MTG | T13: BR | U13: 1012.9
A14: 8156506 | B14: com.yandex.lavka | C14: MTG | D14: RU | E14: =SUMIFS('平台消耗统计'!I:I,'平台消耗统计'!A:A,$E$2,'平台消耗统计'!C:C,A14) -> 954.838 | F14: =IFERROR(VLOOKUP(A14,Q$4:U$174,5,FALSE),0) -> 928.9 | G14: =IFERROR((E14-F14)/F14,0) -> 0.02792335 | H14: 受数据库袭击影响10/12 暂停 | Q14: 6951594 | R14: com.king.candycrushsodasaga | S14: MTG | T14: DE | U14: 1348.6
A15: 8998645 | B15: com.king.candycrushsaga | C15: MTG | D15: TH | E15: =SUMIFS('平台消耗统计'!I:I,'平台消耗统计'!A:A,$E$2,'平台消耗统计'!C:C,A15) -> 895.944 | F15: =IFERROR(VLOOKUP(A15,Q$4:U$174,5,FALSE),0) -> 232.9 | G15: =IFERROR((E15-F15)/F15,0) -> 2.8469043 | H15: 新建了一个cpe起量了，先稳定度过学习期。 | I15: 稳住量 | Q15: 6607117 | R15: ru.aliexpress.buyer | S15: MTG | T15: RU | U15: 764.9
A16: 8094753 | B16: ru.aliexpress.buyer | C16: Mediago | D16: RU | E16: =SUMIFS('平台消耗统计'!I:I,'平台消耗统计'!A:A,$E$2,'平台消耗统计'!C:C,A16) -> 737.32 | F16: =IFERROR(VLOOKUP(A16,Q$4:U$174,5,FALSE),0) -> 593 | G16: =IFERROR((E16-F16)/F16,0) -> 0.24337268 | H16: 现在每天稳定打满，偶尔有点波动 | I16: 保持量级不掉，争取每天稳定打满 | Q16: 2732727 | R16: com.amazon.mShop.android.shopping | S16: MTG | T16: SA | U16: 980.6
A17: 6607117 | B17: ru.aliexpress.buyer | C17: MTG | D17: RU | E17: =SUMIFS('平台消耗统计'!I:I,'平台消耗统计'!A:A,$E$2,'平台消耗统计'!C:C,A17) -> 716.129 | F17: =IFERROR(VLOOKUP(A17,Q$4:U$174,5,FALSE),0) -> 764.9 | G17: =IFERROR((E17-F17)/F17,0) -> -0.063761276 | H17: CPE订单，偶尔有小波动整体的变化不是那么大 | I17: 定期优化素材，拿更多的量 | Q17: 8156506 | R17: com.yandex.lavka | S17: MTG | T17: RU | U17: 928.9
A18: 8460883 | B18: com.king.candycrushsodasaga | C18: MTG | D18: BR | E18: =SUMIFS('平台消耗统计'!I:I,'平台消耗统计'!A:A,$E$2,'平台消耗统计'!C:C,A18) -> 699.664 | F18: =IFERROR(VLOOKUP(A18,Q$4:U$174,5,FALSE),0) -> 1012.9 | G18: =IFERROR((E18-F18)/F18,0) -> -0.30924672 | H18: cap降到900，但始终在700左右徘徊 | I18: 试过加价和上新素材新单元，多换素材试试 | Q18: 8094753 | R18: ru.aliexpress.buyer | S18: Mediago | T18: RU | U18: 593
A19: 12072287 | B19: com.yandex.bank | C19: MTG | D19: RU | E19: =SUMIFS('平台消耗统计'!I:I,'平台消耗统计'!A:A,$E$2,'平台消耗统计'!C:C,A19) -> 607.193 | F19: =IFERROR(VLOOKUP(A19,Q$4:U$174,5,FALSE),0) -> 445.5 | G19: =IFERROR((E19-F19)/F19,0) -> 0.36294725 | H19: CPE订单，Week41持续逐步提价开始有效果，曝光点击转化均提升，10/13 暂停 | Q19: 1745925 | R19: tech.jm | S19: MTG | T19: RU | U19: 417.8
A20: 8566541 | B20: ru.yandex.music | C20: Mediago | D20: RU | E20: =SUMIFS('平台消耗统计'!I:I,'平台消耗统计'!A:A,$E$2,'平台消耗统计'!C:C,A20) -> 465.32 | F20: =IFERROR(VLOOKUP(A20,Q$4:U$174,5,FALSE),0) -> 451.8 | G20: =IFERROR((E20-F20)/F20,0) -> 0.029924745 | H20: 受数据库袭击影响10/12 暂停 | Q20: 8566541 | R20: ru.yandex.music | S20: Mediago | T20: RU | U20: 451.8
A21: 6395488 | B21: com.edadeal.android | C21: MTG | D21: RU | E21: =SUMIFS('平台消耗统计'!I:I,'平台消耗统计'!A:A,$E$2,'平台消耗统计'!C:C,A21) -> 420 | F21: =IFERROR(VLOOKUP(A21,Q$4:U$174,5,FALSE),0) -> 420 | G21: =IFERROR((E21-F21)/F21,0) -> 0 | H21: 稳定订单 | I21: 继续保持每日打满cap | Q21: 6395488 | R21: com.edadeal.android | S21: MTG | T21: RU | U21: 420
A22: 1745925 | B22: tech.jm | C22: MTG | D22: RU | E22: =SUMIFS('平台消耗统计'!I:I,'平台消耗统计'!A:A,$E$2,'平台消耗统计'!C:C,A22) -> 412.35 | F22: =IFERROR(VLOOKUP(A22,Q$4:U$174,5,FALSE),0) -> 417.8 | G22: =IFERROR((E22-F22)/F22,0) -> -0.013044519 | H22: 基本每日打满，但1012加cap，cap一加就开始掉量 | Q22: 10912510 | R22: com.amazon.mShop.android.shopping | S22: Kwai | T22: BR | U22: 192.2
A23: 6425889 | B23: com.amazon.mShop.android.shopping | C23: MTG | D23: ZA | E23: =SUMIFS('平台消耗统计'!I:I,'平台消耗统计'!A:A,$E$2,'平台消耗统计'!C:C,A23) -> 391.3 | F23: =IFERROR(VLOOKUP(A23,Q$4:U$174,5,FALSE),0) -> 381.2 | G23: =IFERROR((E23-F23)/F23,0) -> 0.026495278 | H23: 基本没变化，转化在200左右 | I23: 继续保持每日打满cap | Q23: 12336897 | R23: com.kwai.video | S23: MTG | T23: BR | U23: 126
A24: 10912510 | B24: com.amazon.mShop.android.shopping | C24: Kwai | D24: BR | E24: =SUMIFS('平台消耗统计'!I:I,'平台消耗统计'!A:A,$E$2,'平台消耗统计'!C:C,A24) -> 381.36 | F24: =IFERROR(VLOOKUP(A24,Q$4:U$174,5,FALSE),0) -> 192.2 | G24: =IFERROR((E24-F24)/F24,0) -> 0.98418314 | H24: 转化有提升，但是成本也在涨 | I24: 试过加价和上新素材新单元，多换素材试试 | Q24: 7572369 | R24: com.amazon.mShop.android.shopping | S24: MTG | T24: AE | U24: 325.2
A25: 6529449 | B25: com.yandex.bank | C25: Bigo | D25: RU | E25: =SUMIFS('平台消耗统计'!I:I,'平台消耗统计'!A:A,$E$2,'平台消耗统计'!C:C,A25) -> 365.354 | F25: =IFERROR(VLOOKUP(A25,Q$4:U$174,5,FALSE),0) -> 355.8 | G25: =IFERROR((E25-F25)/F25,0) -> 0.026852164 | H25: 受数据库袭击影响10/13 暂停 | Q25: 6425889 | R25: com.amazon.mShop.android.shopping | S25: MTG | T25: ZA | U25: 381.2
A26: 5365721 | B26: sports.caliente.mx.calientedeportes | C26: MTG | D26: MX | E26: =SUMIFS('平台消耗统计'!I:I,'平台消耗统计'!A:A,$E$2,'平台消耗统计'!C:C,A26) -> 338.5 | F26: =IFERROR(VLOOKUP(A26,Q$4:U$174,5,FALSE),0) -> 267.5 | G26: =IFERROR((E26-F26)/F26,0) -> 0.26542056 | H26: 每日打满 | I26: 继续保持每日打满cap | Q26: 10599681 | R26: ru.kinopoisk | S26: MTG | T26: RU | U26: 342.7
A27: 7872826 | B27: asrtum.ent.domovyata | C27: MTG | D27: RU | E27: =SUMIFS('平台消耗统计'!I:I,'平台消耗统计'!A:A,$E$2,'平台消耗统计'!C:C,A27) -> 337.824 | F27: =IFERROR(VLOOKUP(A27,Q$4:U$174,5,FALSE),0) -> 336.5 | G27: =IFERROR((E27-F27)/F27,0) -> 0.0039346211 | H27: 每日打满 | I27: 继续保持每日打满cap | Q27: 91399821 | R27: ru.kinopoisk | S27: Mediago | T27: RU | U27: 288.1
A28: 10514860 | B28: com.esprit.rpg.lttlefirykng | C28: MTG | D28: RU | E28: =SUMIFS('平台消耗统计'!I:I,'平台消耗统计'!A:A,$E$2,'平台消耗统计'!C:C,A28) -> 329.45 | F28: =IFERROR(VLOOKUP(A28,Q$4:U$174,5,FALSE),0) -> 344.3 | G28: =IFERROR((E28-F28)/F28,0) -> -0.04313099 | H28: 每天量波动较大，比较有限，新建单元掉量后关停，旧单元量上涨 | I28: 继续观察调整 | Q28: 6529449 | R28: com.yandex.bank | S28: Bigo | T28: RU | U28: 355.8
A29: 2783561 | B29: com.uma.musicvk | C29: MTG | D29: RU | E29: =SUMIFS('平台消耗统计'!I:I,'平台消耗统计'!A:A,$E$2,'平台消耗统计'!C:C,A29) -> 310.41 | F29: =IFERROR(VLOOKUP(A29,Q$4:U$174,5,FALSE),0) -> 311.9 | G29: =IFERROR((E29-F29)/F29,0) -> -0.0047771722 | H29: 稳定订单每天跑满，偶尔1天会掉100左右的转化 | I29: 定期优化子渠道保持量级不变。 | Q29: 2783561 | R29: com.uma.musicvk | S29: MTG | T29: RU | U29: 311.9
A30: 91399821 | B30: ru.kinopoisk | C30: Mediago | D30: RU | E30: =SUMIFS('平台消耗统计'!I:I,'平台消耗统计'!A:A,$E$2,'平台消耗统计'!C:C,A30) -> 285.83 | F30: =IFERROR(VLOOKUP(A30,Q$4:U$174,5,FALSE),0) -> 288.1 | G30: =IFERROR((E30-F30)/F30,0) -> -0.0078792086 | H30: 受数据库袭击影响10/13 暂停 | I30: / | Q30: 7872826 | R30: asrtum.ent.domovyata | S30: MTG | T30: RU | U30: 336.5
A31: 10599681 | B31: ru.kinopoisk | C31: MTG | D31: RU | E31: =SUMIFS('平台消耗统计'!I:I,'平台消耗统计'!A:A,$E$2,'平台消耗统计'!C:C,A31) -> 267.54 | F31: =IFERROR(VLOOKUP(A31,Q$4:U$174,5,FALSE),0) -> 342.7 | G31: =IFERROR((E31-F31)/F31,0) -> -0.21931719 | H31: 受数据库袭击影响10/13 暂停 | Q31: 12541739 | R31: otello.dgis.ru | S31: MTG | T31: RU | U31: 327.5
A32: 7572369 | B32: com.amazon.mShop.android.shopping | C32: MTG | D32: AE | E32: =SUMIFS('平台消耗统计'!I:I,'平台消耗统计'!A:A,$E$2,'平台消耗统计'!C:C,A32) -> 261.78 | F32: =IFERROR(VLOOKUP(A32,Q$4:U$174,5,FALSE),0) -> 325.2 | G32: =IFERROR((E32-F32)/F32,0) -> -0.19501845 | H32: 换素材后开始掉量，已经准备新的素材 | Q32: 91567363 | R32: com.oakever.meowdoku | S32: MTG | T32: RU | U32: 134.8
A33: 91548044 | B33: ru.banki.banki | C33: Bigo | D33: RU | E33: =SUMIFS('平台消耗统计'!I:I,'平台消耗统计'!A:A,$E$2,'平台消耗统计'!C:C,A33) -> 261.0785 | F33: =IFERROR(VLOOKUP(A33,Q$4:U$174,5,FALSE),0) -> 113 | G33: =IFERROR((E33-F33)/F33,0) -> 1.3104292 | H33: 基本打满 | I33: 继续保持每日打满cap | Q33: 10514860 | R33: com.esprit.rpg.lttlefirykng | S33: MTG | T33: RU | U33: 344.3
A34: 91560709 | B34: com.king.candycrushsaga | C34: MTG | D34: VN | E34: =SUMIFS('平台消耗统计'!I:I,'平台消耗统计'!A:A,$E$2,'平台消耗统计'!C:C,A34) -> 222.3 | F34: =IFERROR(VLOOKUP(A34,Q$4:U$174,5,FALSE),0) -> 202 | G34: =IFERROR((E34-F34)/F34,0) -> 0.10049505 | H34: 每日基本打满 | I34: 继续保持每日打满cap | Q34: 5365721 | R34: sports.caliente.mx.calientedeportes | S34: MTG | T34: MX | U34: 267.5
A35: 9297014 | B35: tech.jm | C35: Mediago | D35: RU | E35: =SUMIFS('平台消耗统计'!I:I,'平台消耗统计'!A:A,$E$2,'平台消耗统计'!C:C,A35) -> 221.61 | F35: =IFERROR(VLOOKUP(A35,Q$4:U$174,5,FALSE),0) -> 216.2 | G35: =IFERROR((E35-F35)/F35,0) -> 0.025023127 | H35: 稳定订单 每天打满 | I35: 继续保持 | Q35: 6439005 | R35: com.amazon.mShop.android.shopping | S35: Eagllwin | T35: ZA | U35: 152.3
A36: 11078963 | B36: com.yandex.bank | C36: MTG | D36: RU | E36: =SUMIFS('平台消耗统计'!I:I,'平台消耗统计'!A:A,$E$2,'平台消耗统计'!C:C,A36) -> 219.2 | F36: =IFERROR(VLOOKUP(A36,Q$4:U$174,5,FALSE),0) -> 224 | G36: =IFERROR((E36-F36)/F36,0) -> -0.021428571 | H36: 人群包订单，10/13 广告主叫停 | Q36: 9297014 | R36: tech.jm | S36: Mediago | T36: RU | U36: 216.2
A37: 9686529 | B37: ru.ozon.app.android | C37: MTG | D37: KG | E37: =SUMIFS('平台消耗统计'!I:I,'平台消耗统计'!A:A,$E$2,'平台消耗统计'!C:C,A37) -> 210.5 | F37: =IFERROR(VLOOKUP(A37,Q$4:U$174,5,FALSE),0) -> 143 | G37: =IFERROR((E37-F37)/F37,0) -> 0.47202797 | H37: Week41 CVR略有提升，转化量增多 | I37: 这个单子不太稳定，观察CVR的变化，正常更新素材 | Q37: 91564896 | R37: com.game.friends.ru | S37: MTG | T37: RU | U37: 230
A38: 10599157 | B38: com.edadeal.android | C38: MTG | D38: RU | E38: =SUMIFS('平台消耗统计'!I:I,'平台消耗统计'!A:A,$E$2,'平台消耗统计'!C:C,A38) -> 210.15 | F38: =IFERROR(VLOOKUP(A38,Q$4:U$174,5,FALSE),0) -> 210.7 | G38: =IFERROR((E38-F38)/F38,0) -> -0.0026103465 | H38: 稳定订单 | I38: 继续保持每日打满cap | Q38: 10599157 | R38: com.edadeal.android | S38: MTG | T38: RU | U38: 210.7
A39: 6060965 | B39: ru.aliexpress.buyer | C39: MTG | D39: RU | E39: =SUMIFS('平台消耗统计'!I:I,'平台消耗统计'!A:A,$E$2,'平台消耗统计'!C:C,A39) -> 207.6 | F39: =IFERROR(VLOOKUP(A39,Q$4:U$174,5,FALSE),0) -> 205.2 | G39: =IFERROR((E39-F39)/F39,0) -> 0.011695906 | H39: 人群包订单，每天稳定打满 | I39: 继续保持每日打满cap | Q39: 8531973 | R39: com.king.candycrushsodasaga | S39: Mediago | T39: DE | U39: 138.3
A40: 4383473 | B40: ru.aliexpress.buyer | C40: MTG | D40: RU | E40: =SUMIFS('平台消耗统计'!I:I,'平台消耗统计'!A:A,$E$2,'平台消耗统计'!C:C,A40) -> 206.694 | F40: =IFERROR(VLOOKUP(A40,Q$4:U$174,5,FALSE),0) -> 203.2 | G40: =IFERROR((E40-F40)/F40,0) -> 0.017194882 | H40: 稳定订单，每天打满 | I40: 继续保持每日打满cap | Q40: 12011132 | R40: ru.rt.video.app.mobile | S40: MTG | T40: RU | U40: 210
...
