Workbook

Sheet 平台消耗统计
A1: Week | B1: Date | C1: Adpingid | D1: 包名 | E1: 地区 | F1: 平台 | G1: 平台转化数量 | H1: CPI平台成本 | I1: 花费 | J1: 信用消耗金额
A2: =WEEKNUM(B2,2) -> 37 | B2: 46272 | C2: 10813123 | D2: com.amazon.mShop.android.shopping | E2: BR | F2: Bigo | G2: 107 | H2: 0.382 | I2: 40.841
A3: =WEEKNUM(B3,2) -> 37 | B3: 46272 | C3: 1745925 | D3: tech.jm | E3: RU | F3: MTG | G3: 448 | H3: 0.15 | I3: 67.2
A4: =WEEKNUM(B4,2) -> 37 | B4: 46272 | C4: 6951600 | D4: com.king.candycrushsodasaga | E4: TH | F4: MTG | G4: 70 | H4: 0.177 | I4: 12.376
A5: =WEEKNUM(B5,2) -> 37 | B5: 46272 | C5: 6951594 | D5: com.king.candycrushsodasaga | E5: DE | F5: MTG | G5: 192 | H5: 0.7 | I5: 134.4
A6: =WEEKNUM(B6,2) -> 37 | B6: 46272 | C6: 2732727 | D6: com.amazon.mShop.android.shopping | E6: SA | F6: MTG | G6: 505 | H6: 0.25 | I6: 126.275
A7: =WEEKNUM(B7,2) -> 37 | B7: 46272 | C7: 5619156 | D7: com.amazon.mShop.android.shopping | E7: SA | F7: Bigo | G7: 9 | H7: 0.417 | I7: 3.7544
A8: =WEEKNUM(B8,2) -> 37 | B8: 46272 | C8: 6425889 | D8: com.amazon.mShop.android.shopping | E8: ZA | F8: MTG | G8: 124 | H8: 0.252 | I8: 31.275
A9: =WEEKNUM(B9,2) -> 37 | B9: 46272 | C9: 6439005 | D9: com.amazon.mShop.android.shopping | E9: ZA | F9: Eagllwin | G9: 83 | H9: 0.25 | I9: 20.75
A10: =WEEKNUM(B10,2) -> 37 | B10: 46272 | C10: 7203110 | D10: com.fxpro.direct.application | E10: SY | F10: MTG | G10: 8 | H10: 0.2 | I10: 1.6
A11: =WEEKNUM(B11,2) -> 37 | B11: 46272 | C11: 7202934 | D11: com.fxpro.direct.application | E11: PK | F11: MTG | G11: 66 | H11: 0.354 | I11: 23.34
A12: =WEEKNUM(B12,2) -> 37 | B12: 46272 | C12: 5847496 | D12: com.amazon.mShop.android.shopping | E12: AE | F12: Bigo | G12: 4 | H12: 0.752 | I12: 3.0095
A13: =WEEKNUM(B13,2) -> 37 | B13: 46272 | C13: 7572369 | D13: com.amazon.mShop.android.shopping | E13: AE | F13: MTG | G13: 74 | H13: 0.305 | I13: 22.56
... A22: =WEEKNUM(B22,2) -> 37 | B22: 46272 | C22: 10501490 | D22: tech.jm | E22: RU | F22: MTG | G22: 6 | H22: 0.13 | I22: 0.78
A23: =WEEKNUM(B23,2) -> 37 | B23: 46272 | C23: 10912510 | D23: com.amazon.mShop.android.shopping | E23: BR | F23: Kwai | G23: 666 | H23: 0.23 | I23: 151.68 | J23: 151.679
A24: =WEEKNUM(B24,2) -> 37 | B24: 46272 | C24: 11080098 | D24: com.fxpro.direct.application | E24: PK | F24: MTG | G24: 0 | H24: 0 | I24: 0
A25: =WEEKNUM(B25,2) -> 37 | B25: 46272 | C25: 91540124 | D25: com.puzzlegames.puzzlebrickslegend | E25: US | F25: Bigo | G25: 21 | H25: 0.663 | I25: 13.9326
A26: =WEEKNUM(B26,2) -> 37 | B26: 46272 | C26: 91548042 | D26: tech.jm | E26: RU | F26: Bigo | G26: 0 | H26: 0 | I26: 0.0343
A27: =WEEKNUM(B27,2) -> 37 | B27: 46272 | C27: 91548043 | D27: com.king.candycrushsaga | E27: FR | F27: MTG | G27: 201 | H27: 0.1 | I27: 20.1
A28: =WEEKNUM(B28,2) -> 37 | B28: 46272 | C28: 11715627 | D28: com.esprit.rpg.cntrctfft | E28: RU | F28: MTG | G28: 0 | H28: 0 | I28: 0
A29: =WEEKNUM(B29,2) -> 37 | B29: 46272 | C29: 11715655 | D29: com.king.candycrushsodasaga | E29: BR | F29: MTG | G29: 0 | H29: 0 | I29: 0
A30: =WEEKNUM(B30,2) -> 37 | B30: 46272 | C30: 11715811 | D30: com.king.candycrushsodasaga | E30: TH | F30: MTG | G30: 0 | H30: 0 | I30: 0
A31: =WEEKNUM(B31,2) -> 37 | B31: 46272 | C31: 11729927 | D31: com.amazon.mShop.android.shopping | E31: ZA | F31: MTG | G31: 0 | H31: 0 | I31: 0
A32: =WEEKNUM(B32,2) -> 37 | B32: 46272 | C32: 11729820 | D32: com.amazon.mShop.android.shopping | E32: AE | F32: MTG | G32: 0 | H32: 0 | I32: 0
A33: =WEEKNUM(B33,2) -> 37 | B33: 46272 | C33: 11729830 | D33: com.amazon.mShop.android.shopping | E33: BR | F33: Bigo | G33: 0 | H33: 0 | I33: 0.0009
A34: =WEEKNUM(B34,2) -> 37 | B34: 46272 | C34: 11892329 | D34: com.amazon.mShop.android.shopping | E34: BR | F34: MTG | G34: 501 | H34: 0.25 | I34: 125.25
A35: =WEEKNUM(B35,2) -> 37 | B35: 46272 | C35: 91557161 | D35: ru.betboom.android | E35: RU | F35: Bigo | G35: 0 | H35: 0 | I35: 0.0017
... A62: =WEEKNUM(B62,2) -> 37 | B62: 46272 | C62: 91399821 | D62: ru.kinopoisk | E62: RU | F62: Mediago | G62: 492 | H62: 0.05 | I62: 24.1
A63: =WEEKNUM(B63,2) -> 37 | B63: 46272 | C63: 8670368 | D63: com.king.candycrushsodasaga | E63: BR | F63: Kwai | G63: 0 | H63: 0 | I63: 0.44 | J63: 0
A64: =WEEKNUM(B64,2) -> 37 | B64: 46272 | C64: 10514860 | D64: com.esprit.rpg.lttlefirykng | E64: RU | F64: MTG | G64: 167 | H64: 0.7 | I64: 116.9
A65: =WEEKNUM(B65,2) -> 37 | B65: 46272 | C65: 91532857 | D65: com.reefgames.fabletown | E65: RU | F65: Bigo | G65: 78 | H65: 0.156 | I65: 12.1729
A66: =WEEKNUM(B66,2) -> 37 | B66: 46272 | C66: 91534913 | D66: com.qookkagames.xczyw.gp.hk | E66: HK | F66: MTG | G66: 9 | H66: 1 | I66: 9
A67: =WEEKNUM(B67,2) -> 37 | B67: 46272 | C67: 91538336 | D67: cn.com.vtmarkets | E67: FR | F67: MTG | G67: 1 | H67: 0.8 | I67: 0.8
A68: =WEEKNUM(B68,2) -> 37 | B68: 46272 | C68: 91533906 | D68: com.sialiagames.xczyw.gp.tw | E68: TW | F68: MTG | G68: 7 | H68: 1 | I68: 7
A69: =WEEKNUM(B69,2) -> 37 | B69: 46272 | C69: 91538334 | D69: cn.com.vtmarkets | E69: DE | F69: MTG | G69: 54 | H69: 0.8 | I69: 43.2
A70: =WEEKNUM(B70,2) -> 37 | B70: 46272 | C70: 91545519 | D70: com.vuclip.viu | E70: MY | F70: MTG | G70: 50 | H70: 0.2 | I70: 10
A71: =WEEKNUM(B71,2) -> 37 | B71: 46272 | C71: 91551388 | D71: com.netease.newspike | E71: US | F71: Bigo | G71: 41 | H71: 0.703 | I71: 28.8302
A72: =WEEKNUM(B72,2) -> 37 | B72: 46272 | C72: 91550293 | D72: net.peakgames.Yuzbir | E72: TR | F72: MTG | G72: 56 | H72: 0.35 | I72: 19.6
A73: =WEEKNUM(B73,2) -> 37 | B73: 46272 | C73: 91550294 | D73: com.okinc.okex.gp | E73: US | F73: MTG | G73: 1 | H73: 0.8 | I73: 0.8
A74: =WEEKNUM(B74,2) -> 37 | B74: 46272 | C74: 9333145 | D74: com.gloriajeans.mobile | E74: RU | F74: Mediago | G74: 181 | H74: 0.37 | I74: 66.89
...

Sheet 优化师维度统计
A1: 日期 | B1: 投放人 | C1: Adpingid | D1: 包名 | E1: 地区 | F1: 平台 | G1: 单价 | H1: Daily install cap | I1: Weekly budget | J1: 时段 | K1: 展示 | L1: 点击 | M1: 转化 | N1: CPC | O1: CPI | P1: 花费 | Q1: cap达成率
A2: 每日汇总 | B2: 周二 | K2: =SUM(K3:K380) -> 289577 | L2: =SUM(L3:L380) -> 30896 | P2: =SUM(P3:P380) -> 175.7837
A3: 46273 | B3: 黄政 | C3: 10813123 | D3: com.amazon.mShop.android.shopping | E3: BR | F3: Bigo | G3: 0.25 | H3: 1000 | I3: =G3*H3*7 -> 1750 | J3: 截止10点 | K3: 34612 | L3: 1914 | M3: 7 | N3: 0.003 | O3: 0.766 | P3: 5.3591 | Q3: =M5/H3 -> 0
J4: 截止18点
J5: 截止24点
C6: 1745925 | D6: tech.jm | E6: RU | F6: MTG | G6: 0.15 | H6: 500 | I6: =G6*H6*7 -> 525 | J6: 截止10点 | K6: 94 | L6: 37 | M6: 0 | N6: 0 | O6: 0 | P6: 0 | Q6: =M8/H6 -> 0
J7: 截止18点
J8: 截止24点
C9: 6951600 | D9: com.king.candycrushsodasaga | E9: TH | F9: MTG | G9: 0.17 | H9: 100 | I9: =G9*H9*7 -> 119 | J9: 截止10点 | K9: 615 | L9: 290 | M9: 0 | N9: 0 | O9: 0 | P9: 0 | Q9: =M11/H9 -> 0
J10: 截止18点
J11: 截止24点
C12: 6951594 | D12: com.king.candycrushsodasaga | E12: DE | F12: MTG | G12: 0.7 | H12: 400 | I12: =G12*H12*7 -> 1960 | J12: 截止10点 | K12: 1212 | L12: 527 | M12: 0 | N12: 0 | O12: 0 | P12: 0 | Q12: =M14/H12 -> 0
J13: 截止18点
J14: 截止24点
C15: 2732727 | D15: com.amazon.mShop.android.shopping | E15: SA | F15: MTG | G15: 0.25 | H15: 1000 | I15: =G15*H15*7 -> 1750 | J15: 截止10点 | K15: 505 | L15: 192 | M15: 15 | N15: 0.02 | O15: 0.25 | P15: 3.75 | Q15: =M17/H15 -> 0
J16: 截止18点
J17: 截止24点
C18: 5619156 | D18: com.amazon.mShop.android.shopping | E18: SA | F18: Bigo | G18: 0.24 | H18: 500 | I18: =G18*H18*7 -> 840 | J18: 截止10点 | K18: 3935 | L18: 744 | M18: 1 | N18: 0 | O18: 0.1249 | P18: 0.1249 | Q18: =M20/H18 -> 0
J19: 截止18点
J20: 截止24点
C21: 6425889 | D21: com.amazon.mShop.android.shopping | E21: ZA | F21: MTG | G21: 0.25 | H21: 400 | I21: =G21*H21*7 -> 700 | J21: 截止10点 | K21: 81 | L21: 28 | M21: 0 | N21: 0 | O21: 0 | P21: 0 | Q21: 0.003
J22: 截止18点
J23: 截止24点
C24: 6439005 | D24: com.amazon.mShop.android.shopping | E24: ZA | F24: Eagllwin | G24: 0.25 | H24: 300 | I24: =G24*H24*7 -> 525 | J24: 截止10点 | K24: 0 | L24: 0 | M24: 0 | N24: 0 | O24: 0 | P24: 0 | Q24: =M26/H24 -> 0
J25: 截止18点
J26: 截止24点
C27: 7203110 | D27: com.fxpro.direct.application | E27: SY | F27: MTG | G27: 0.2 | H27: 100 | I27: =G27*H27*7 -> 140 | J27: 截止10点 | K27: 85 | L27: 50 | M27: 0 | N27: 0 | O27: 0 | P27: 0 | Q27: =M29/H27 -> 0
J28: 截止18点
J29: 截止24点
C30: 7202934 | D30: com.fxpro.direct.application | E30: PK | F30: MTG | G30: 0.35 | H30: 200 | I30: =G30*H30*7 -> 490 | J30: 截止10点 | K30: 602 | L30: 227 | M30: 0 | N30: 0 | O30: 0 | P30: 0 | Q30: 0
J31: 截止18点
J32: 截止24点
C33: 5847496 | D33: com.amazon.mShop.android.shopping | E33: AE | F33: Bigo | G33: 0.3 | H33: 200 | I33: =G33*H33*7 -> 420 | J33: 截止10点 | K33: 686 | L33: 10 | M33: 0 | N33: 0 | O33: 0 | P33: 0 | Q33: =M35/H33 -> 0
J34: 截止18点
J35: 截止24点
C36: 7572369 | D36: com.amazon.mShop.android.shopping | E36: AE | F36: MTG | G36: 0.3 | H36: 400 | I36: =G36*H36*7 -> 840 | J36: 截止10点 | K36: 17 | L36: 3 | M36: 0 | N36: 0 | O36: 0 | P36: 0 | Q36: =M38/H36 -> 0
J37: 截止18点
J38: 截止24点
C39: 8460883 | D39: com.king.candycrushsodasaga | E39: BR | F39: MTG | G39: 0.14 | H39: 1400 | I39: =G39*H39*7 -> 1372 | J39: 截止10点 | K39: 7661 | L39: 2518 | M39: 76 | N39: 0.004 | O39: 0.141 | P39: 10.682 | Q39: =M41/H39 -> 0
J40: 截止18点
...

Sheet Playable素材统计
A1: 日期 | B1: 投放人 | C1: Adpingid | D1: 包名 | E1: 地区 | F1: 平台 | G1: 单价 | H1: Daily install cap | I1: Weekly budget | J1: 时段 | K1: 展示 | L1: 点击 | M1: 转化 | N1: CPC | O1: CPI | P1: 花费 | Q1: cap达成率 | S1: CTR | T1: CVR
A2: 每日汇总 | B2: 周四 | K2: =SUM(K3:K6) -> 0 | L2: =SUM(L3:L6) -> 0 | P2: =SUM(P3:P6) -> 0
A3: 46275 | B3: 万科 | C3: 8998645 | D3: com.king.candycrushsaga | E3: TH | F3: MTG | G3: 0.28 | H3: 200 | I3: =G3*H3*7 -> 392 | J3: 截止24点 | Q3: =M3/H3 -> 0 | S3: =IFERROR(L3/K3,0) -> 0 | T3: =IFERROR(M3/L3,0) -> 0
C4: 5497580 | D4: com.king.candycrushsaga | E4: TH | F4: MTG | G4: 0.28 | H4: 1300 | I4: =G4*H4*7 -> 2548 | J4: 截止24点 | Q4: =M4/H4 -> 0 | S4: =IFERROR(L4/K4,0) -> 0 | T4: =IFERROR(M4/L4,0) -> 0
C5: 91407542 | D5: com.king.candycrushsaga | E5: ID | F5: MTG | G5: 0.02 | H5: 600 | I5: =G5*H5*7 -> 84 | J5: 截止24点 | Q5: =M5/H5 -> 0 | S5: =IFERROR(L5/K5,0) -> 0 | T5: =IFERROR(M5/L5,0) -> 0
B6: 黄政 | C6: 6951594 | D6: com.king.candycrushsodasaga | E6: DE | F6: MTG | G6: 0.6 | H6: 250 | I6: =G6*H6*7 -> 1050 | J6: 截止24点 | Q6: =M6/H6 -> 0 | S6: =IFERROR(L6/K6,0) -> 0 | T6: =IFERROR(M6/L6,0) -> 0
A8: 每日汇总 | B8: 周三 | K8: =SUM(K9:K12) -> 0 | L8: =SUM(L9:L12) -> 0 | P8: =SUM(P9:P12) -> 0
A9: 46274 | B9: 万科 | C9: 8998645 | D9: com.king.candycrushsaga | E9: TH | F9: MTG | G9: 0.28 | H9: 200 | I9: =G9*H9*7 -> 392 | J9: 截止24点 | Q9: =M9/H9 -> 0 | S9: =IFERROR(L9/K9,0) -> 0 | T9: =IFERROR(M9/L9,0) -> 0
C10: 5497580 | D10: com.king.candycrushsaga | E10: TH | F10: MTG | G10: 0.28 | H10: 1300 | I10: =G10*H10*7 -> 2548 | J10: 截止24点 | Q10: =M10/H10 -> 0 | S10: =IFERROR(L10/K10,0) -> 0 | T10: =IFERROR(M10/L10,0) -> 0
C11: 91407542 | D11: com.king.candycrushsaga | E11: ID | F11: MTG | G11: 0.02 | H11: 600 | I11: =G11*H11*7 -> 84 | J11: 截止24点 | Q11: =M11/H11 -> 0 | S11: =IFERROR(L11/K11,0) -> 0 | T11: =IFERROR(M11/L11,0) -> 0
B12: 黄政 | C12: 6951594 | D12: com.king.candycrushsodasaga | E12: DE | F12: MTG | G12: 0.6 | H12: 250 | I12: =G12*H12*7 -> 1050 | J12: 截止24点 | Q12: =M12/H12 -> 0 | S12: =IFERROR(L12/K12,0) -> 0 | T12: =IFERROR(M12/L12,0) -> 0
A14: 每日汇总 | B14: 周二 | K14: =SUM(K15:K18) -> 0 | L14: =SUM(L15:L18) -> 0 | P14: =SUM(P15:P18) -> 0
A15: 46273 | B15: 万科 | C15: 8998645 | D15: com.king.candycrushsaga | E15: TH | F15: MTG | G15: 0.28 | H15: 200 | I15: =G15*H15*7 -> 392 | J15: 截止24点 | Q15: =M15/H15 -> 0 | S15: =IFERROR(L15/K15,0) -> 0 | T15: =IFERROR(M15/L15,0) -> 0
C16: 5497580 | D16: com.king.candycrushsaga | E16: TH | F16: MTG | G16: 0.28 | H16: 1300 | I16: =G16*H16*7 -> 2548 | J16: 截止24点 | Q16: =M16/H16 -> 0 | S16: =IFERROR(L16/K16,0) -> 0 | T16: =IFERROR(M16/L16,0) -> 0
C17: 91407542 | D17: com.king.candycrushsaga | E17: ID | F17: MTG | G17: 0.02 | H17: 600 | I17: =G17*H17*7 -> 84 | J17: 截止24点 | Q17: =M17/H17 -> 0 | S17: =IFERROR(L17/K17,0) -> 0 | T17: =IFERROR(M17/L17,0) -> 0
B18: 黄政 | C18: 6951594 | D18: com.king.candycrushsodasaga | E18: DE | F18: MTG | G18: 0.6 | H18: 250 | I18: =G18*H18*7 -> 1050 | J18: 截止24点 | Q18: =M18/H18 -> 0 | S18: =IFERROR(L18/K18,0) -> 0 | T18: =IFERROR(M18/L18,0) -> 0
A20: 每日汇总 | B20: 周一 | K20: =SUM(K21:K24) -> 168602 | L20: =SUM(L21:L24) -> 98803 | P20: =SUM(P21:P24) -> 269.541
A21: 46272 | B21: 万科 | C21: 8998645 | D21: com.king.candycrushsaga | E21: TH | F21: MTG | G21: 0.28 | H21: 200 | I21: =G21*H21*7 -> 392 | J21: 截止24点 | K21: 145 | L21: 60 | M21: 0 | N21: 0 | O21: 0 | P21: 0 | Q21: =M21/H21 -> 0 | S21: =IFERROR(L21/K21,0) -> 0.4137931 | T21: =IFERROR(M21/L21,0) -> 0
C22: 5497580 | D22: com.king.candycrushsaga | E22: TH | F22: MTG | G22: 0.28 | H22: 1300 | I22: =G22*H22*7 -> 2548 | J22: 截止24点 | K22: 130313 | L22: 74664 | M22: 870 | N22: 0.003 | O22: 0.255 | P22: 221.721 | Q22: =M22/H22 -> 0.66923077 | S22: =IFERROR(L22/K22,0) -> 0.57295895 | T22: =IFERROR(M22/L22,0) -> 0.011652202
C23: 91407542 | D23: com.king.candycrushsaga | E23: ID | F23: MTG | G23: 0.02 | H23: 600 | I23: =G23*H23*7 -> 84 | J23: 截止24点 | K23: 10519 | L23: 6916 | M23: 180 | N23: 0.001 | O23: 0.021 | P23: 3.72 | Q23: =M23/H23 -> 0.3 | S23: =IFERROR(L23/K23,0) -> 0.65747695 | T23: =IFERROR(M23/L23,0) -> 0.026026605
B24: 黄政 | C24: 6951594 | D24: com.king.candycrushsodasaga | E24: DE | F24: MTG | G24: 0.6 | H24: 250 | I24: =G24*H24*7 -> 1050 | J24: 截止24点 | K24: 27625 | L24: 17163 | M24: 63 | N24: 0.003 | O24: 0.7 | P24: 44.1 | Q24: =M24/H24 -> 0.252 | S24: =IFERROR(L24/K24,0) -> 0.62128507 | T24: =IFERROR(M24/L24,0) -> 0.0036706869
A26: 每日汇总 | B26: 周日 | K26: =SUM(K27:K30) -> 73019 | L26: =SUM(L27:L30) -> 43138 | P26: =SUM(P27:P30) -> 269.701
A27: 46271 | B27: 万科 | C27: 8998645 | D27: com.king.candycrushsaga | E27: TH | F27: MTG | G27: 0.28 | H27: 200 | I27: =G27*H27*7 -> 392 | J27: 截止24点 | K27: 108 | L27: 29 | M27: 0 | N27: 0 | O27: 0 | P27: 0 | Q27: =M27/H27 -> 0 | S27: =IFERROR(L27/K27,0) -> 0.26851852 | T27: =IFERROR(M27/L27,0) -> 0
C28: 5497580 | D28: com.king.candycrushsaga | E28: TH | F28: MTG | G28: 0.28 | H28: 1300 | I28: =G28*H28*7 -> 2548 | J28: 截止24点 | K28: 42147 | L28: 23854 | M28: 865 | N28: 0.009 | O28: 0.254 | P28: 219.461 | Q28: =M28/H28 -> 0.66538462 | S28: =IFERROR(L28/K28,0) -> 0.56597148 | T28: =IFERROR(M28/L28,0) -> 0.036262262
C29: 91407542 | D29: com.king.candycrushsaga | E29: ID | F29: MTG | G29: 0.02 | H29: 600 | I29: =G29*H29*7 -> 84 | J29: 截止24点 | K29: 679 | L29: 400 | M29: 27 | N29: 0.001 | O29: 0.02 | P29: 0.54 | Q29: =M29/H29 -> 0.045 | S29: =IFERROR(L29/K29,0) -> 0.58910162 | T29: =IFERROR(M29/L29,0) -> 0.0675
B30: 黄政 | C30: 6951594 | D30: com.king.candycrushsodasaga | E30: DE | F30: MTG | G30: 0.6 | H30: 250 | I30: =G30*H30*7 -> 1050 | J30: 截止24点 | K30: 30085 | L30: 18855 | M30: 71 | N30: 0.003 | O30: 0.7 | P30: 49.7 | Q30: =M30/H30 -> 0.284 | S30: =IFERROR(L30/K30,0) -> 0.62672428 | T30: =IFERROR(M30/L30,0) -> 0.0037655794
A32: 每日汇总 | B32: 周六 | K32: =SUM(K33:K36) -> 146959 | L32: =SUM(L33:L36) -> 89683 | P32: =SUM(P33:P36) -> 284.241
A33: 46270 | B33: 万科 | C33: 8998645 | D33: com.king.candycrushsaga | E33: TH | F33: MTG | G33: 0.28 | H33: 200 | I33: =G33*H33*7 -> 392 | J33: 截止24点 | K33: 98 | L33: 35 | M33: 0 | N33: 0 | O33: 0 | P33: 0 | Q33: =M33/H33 -> 0 | S33: =IFERROR(L33/K33,0) -> 0.35714286 | T33: =IFERROR(M33/L33,0) -> 0
C34: 5497580 | D34: com.king.candycrushsaga | E34: TH | F34: MTG | G34: 0.28 | H34: 1300 | I34: =G34*H34*7 -> 2548 | J34: 截止24点 | K34: 104804 | L34: 62953 | M34: 917 | N34: 0.004 | O34: 0.249 | P34: 228.241 | Q34: =M34/H34 -> 0.70538462 | S34: =IFERROR(L34/K34,0) -> 0.60067364 | T34: =IFERROR(M34/L34,0) -> 0.014566423
C35: 91407542 | D35: com.king.candycrushsaga | E35: ID | F35: MTG | G35: 0.02 | H35: 600 | I35: =G35*H35*7 -> 84 | J35: 截止24点 | K35: 19612 | L35: 12177 | M35: 0 | N35: 0 | O35: 0 | P35: 0 | Q35: =M35/H35 -> 0 | S35: =IFERROR(L35/K35,0) -> 0.62089537 | T35: =IFERROR(M35/L35,0) -> 0
B36: 黄政 | C36: 6951594 | D36: com.king.candycrushsodasaga | E36: DE | F36: MTG | G36: 0.6 | H36: 250 | I36: =G36*H36*7 -> 1050 | J36: 截止24点 | K36: 22445 | L36: 14518 | M36: 80 | N36: 0.004 | O36: 0.7 | P36: 56 | Q36: =M36/H36 -> 0.32 | S36: =IFERROR(L36/K36,0) -> 0.64682557 | T36: =IFERROR(M36/L36,0) -> 0.0055104009
A38: 每日汇总 | B38: 周五 | K38: =SUM(K39:K43) -> 137204 | L38: =SUM(L39:L43) -> 81834 | P38: =SUM(P39:P43) -> 188.042
A39: 46269 | B39: 万科 | C39: 8998645 | D39: com.king.candycrushsaga | E39: TH | F39: MTG | G39: 0.28 | H39: 200 | I39: =G39*H39*7 -> 392 | J39: 截止24点 | K39: 85 | L39: 39 | M39: 1 | N39: 0.001 | O39: 0.038 | P39: 0.038 | Q39: =M39/H39 -> 0.005 | S39: =IFERROR(L39/K39,0) -> 0.45882353 | T39: =IFERROR(M39/L39,0) -> 0.025641026
C40: 5497580 | D40: com.king.candycrushsaga | E40: TH | F40: MTG | G40: 0.28 | H40: 1300 | I40: =G40*H40*7 -> 2548 | J40: 截止24点 | K40: 92650 | L40: 53766 | M40: 660 | N40: 0.003 | O40: 0.249 | P40: 164.624 | Q40: =M40/H40 -> 0.50769231 | S40: =IFERROR(L40/K40,0) -> 0.58031301 | T40: =IFERROR(M40/L40,0) -> 0.012275416
C41: 91407542 | D41: com.king.candycrushsaga | E41: ID | F41: MTG | G41: 0.02 | H41: 600 | I41: =G41*H41*7 -> 84 | J41: 截止24点 | K41: 18989 | L41: 11724 | M41: 186 | N41: 0 | O41: 0.02 | P41: 3.78 | Q41: =M41/H41 -> 0.31 | S41: =IFERROR(L41/K41,0) -> 0.61741008 | T41: =IFERROR(M41/L41,0) -> 0.015864893
C42: 9102719 | D42: com.tencent.ig | E42: EG | F42: MTG | G42: 0.05 | H42: 200 | I42: =G42*H42*7 -> 70 | J42: 截止24点 | K42: 233 | L42: 151 | M42: 0 | N42: 0 | O42: 0 | P42: 0 | Q42: =M42/H42 -> 0 | S42: =IFERROR(L42/K42,0) -> 0.64806867 | T42: =IFERROR(M42/L42,0) -> 0 | U42: 9/4 暂停
B43: 黄政 | C43: 6951594 | D43: com.king.candycrushsodasaga | E43: DE | F43: MTG | G43: 0.6 | H43: 250 | I43: =G43*H43*7 -> 1050 | J43: 截止24点 | K43: 25247 | L43: 16154 | M43: 28 | N43: 0.001 | O43: 0.7 | P43: 19.6 | Q43: =M43/H43 -> 0.112 | S43: =IFERROR(L43/K43,0) -> 0.6398384 | T43: =IFERROR(M43/L43,0) -> 0.0017333168
A45: 每日汇总 | B45: 周四 | K45: =SUM(K46:K50) -> 123135 | L45: =SUM(L46:L50) -> 74674 | P45: =SUM(P46:P50) -> 253.734
A46: 46268 | B46: 万科 | C46: 8998645 | D46: com.king.candycrushsaga | E46: TH | F46: MTG | G46: 0.28 | H46: 200 | I46: =G46*H46*7 -> 392 | J46: 截止24点 | K46: 115 | L46: 41 | M46: 2 | N46: 0.031 | O46: 0.625 | P46: 1.251 | Q46: =M46/H46 -> 0.01 | S46: =IFERROR(L46/K46,0) -> 0.35652174 | T46: =IFERROR(M46/L46,0) -> 0.048780488
C47: 5497580 | D47: com.king.candycrushsaga | E47: TH | F47: MTG | G47: 0.28 | H47: 1300 | I47: =G47*H47*7 -> 2548 | J47: 截止24点 | K47: 88002 | L47: 51949 | M47: 836 | N47: 0.004 | O47: 0.247 | P47: 206.609 | Q47: =M47/H47 -> 0.64307692 | S47: =IFERROR(L47/K47,0) -> 0.59031613 | T47: =IFERROR(M47/L47,0) -> 0.016092706
...

Sheet 数据透视表
B1: 36 | N1: Week
J2: Adpingid | K2: 包名 | L2: 平台 | M2: 地区 | N2: 35
A3: Adpingid | B3: 包名 | C3: 平台 | D3: 地区 | E3: 求和:平台转化数量 | F3: 求和:花费 | J3: 7815836 | K3: com.kwai.bulldog | L3: MTG | M3: ID | N3: 2711.24
A4: 7815836 | B4: com.kwai.bulldog | C4: MTG | D4: ID | E4: 20814 | F4: 2308.63 | J4: 5464039 | K4: com.king.candycrushsaga | L4: MTG | M4: MY | N4: 2521.29
A5: 5464039 | B5: com.king.candycrushsaga | C5: MTG | D5: MY | E5: 7717 | F5: 2285.57 | J5: 5497580 | K5: com.king.candycrushsaga | L5: MTG | M5: TH | N5: 2182.83
A6: 5497580 | B6: com.king.candycrushsaga | C6: MTG | D6: TH | E6: 8639 | F6: 2143.948 | J6: 8291713 | K6: ru.kinopoisk | L6: MTG | M6: RU | N6: 1395.8
A7: 8628042 | B7: asrtum.ent.domovyata | C7: Mediago | D7: RU | E7: 3626 | F7: 2123.53 | J7: 6607117 | K7: ru.aliexpress.buyer | L7: MTG | M7: RU | N7: 1374.971
A8: 8291713 | B8: ru.kinopoisk | C8: MTG | D8: RU | E8: 10500 | F8: 1468.57 | J8: 8460883 | K8: com.king.candycrushsodasaga | L8: MTG | M8: BR | N8: 1214.332
A9: 5963354 | B9: ru.ozon.app.android | C9: MTG | D9: KZ | E9: 2413 | F9: 1396.642 | J9: 5963354 | K9: ru.ozon.app.android | L9: MTG | M9: KZ | N9: 1159.41
A10: 10912510 | B10: com.amazon.mShop.android.shopping | C10: Kwai | D10: BR | E10: 6043 | F10: 1259.13 | J10: 6951594 | K10: com.king.candycrushsodasaga | L10: MTG | M10: DE | N10: 1145.725
A11: 2732727 | B11: com.amazon.mShop.android.shopping | C11: MTG | D11: SA | E11: 4002 | F11: 1000.725 | J11: 2732727 | K11: com.amazon.mShop.android.shopping | L11: MTG | M11: SA | N11: 1013.9
A12: 8460883 | B12: com.king.candycrushsodasaga | C12: MTG | D12: BR | E12: 7006 | F12: 988.918 | J12: 8156506 | K12: com.yandex.lavka | L12: MTG | M12: RU | N12: 640.85
A13: 6951594 | B13: com.king.candycrushsodasaga | C13: MTG | D13: DE | E13: 1358 | F13: 950.85 | J13: 8628042 | K13: asrtum.ent.domovyata | L13: Mediago | M13: RU | N13: 622.39
A14: 6607117 | B14: ru.aliexpress.buyer | C14: MTG | D14: RU | E14: 1673 | F14: 927.809 | J14: 10514860 | K14: com.esprit.rpg.lttlefirykng | L14: MTG | M14: RU | N14: 553.25
A15: 5963400 | B15: ru.ozon.app.android | C15: MTG | D15: UZ | E15: 1649 | F15: 793.15 | J15: 11690181 | K15: astrum.ent.m2alyona | L15: MTG | M15: RU | N15: 540
... A148: 91538308 | B148: com.vitastudio.mahjong | C148: MTG | D148: BR | E148: 0 | F148: 0 | J148: 11332331 | K148: com.dearmart.app | L148: MTG | M148: TH | N148: 0
A149: 8032074 | B149: com.mocamoca | C149: MTG | D149: PH | E149: 0 | F149: 0
A150: 11381987 | B150: com.espritgames.rpg.chsrgn | C150: MTG | D150: RU | E150: 0 | F150: 0
A151: 11687930 | B151: com.espritgames.rpg.chsrgn | C151: Bigo | D151: RU | E151: 0 | F151: 0

Sheet Week36
E1: Week
A2: Adpingid | B2: 包名 | C2: 平台 | D2: 地区 | E2: 36 | F2: 35 | G2: 消耗环比 | H2: 变动原因：差值在+-15%的都需要仔细复盘 1、具体的预算增加或者控量动作的时间点 2、如果有降预算问清楚降预算原因 3、广告自身的变化：素材增加/衰退后的表现，子渠道调整，价格调整 4、外部变化：平台流量变化/竞争原因，比如CPM？CPC？CTR？CVR？是否有变动？ | I2: 下一步计划 (根据变动原因需要做出的对应动作，以及需要什么支持？比如cap超跑需要帮助check是否有bug，需要check事件表现，需要新素材，需要提价&加预算等等)
A3: 7815836 | B3: com.kwai.bulldog | C3: MTG | D3: ID | E3: =SUMIFS('平台消耗统计'!I:I,'平台消耗统计'!A:A,$E$2,'平台消耗统计'!C:C,A3) -> 2308.63 | F3: =VLOOKUP(A3,'数据透视表'!J:N,5,FALSE) -> 2711.24 | G3: =IFERROR((E3-F3)/F3,0) -> -0.14849663 | H3: 8.31排了很多的无效子渠道导致曝光点击量都下滑很多掉量但cvr ivr都有上涨很多了 最近两天转化量也在慢慢恢复 | I3: 继续观察 然后压价
A4: 5464039 | B4: com.king.candycrushsaga | C4: MTG | D4: MY | E4: =SUMIFS('平台消耗统计'!I:I,'平台消耗统计'!A:A,$E$2,'平台消耗统计'!C:C,A4) -> 2285.57 | F4: =VLOOKUP(A4,'数据透视表'!J:N,5,FALSE) -> 2521.29 | G4: =IFERROR((E4-F4)/F4,0) -> -0.093491824 | H4: 尝试降价后掉量 | I4: 加点价观察
A5: 5497580 | B5: com.king.candycrushsaga | C5: MTG | D5: TH | E5: =SUMIFS('平台消耗统计'!I:I,'平台消耗统计'!A:A,$E$2,'平台消耗统计'!C:C,A5) -> 2143.948 | F5: =VLOOKUP(A5,'数据透视表'!J:N,5,FALSE) -> 2182.83 | G5: =IFERROR((E5-F5)/F5,0) -> -0.017812656 | H5: 正常差值，每天跑满。 | I5: 稳定流量，定期优化没用的子渠道
A6: 8628042 | B6: asrtum.ent.domovyata | C6: Mediago | D6: RU | E6: =SUMIFS('平台消耗统计'!I:I,'平台消耗统计'!A:A,$E$2,'平台消耗统计'!C:C,A6) -> 2123.53 | F6: =VLOOKUP(A6,'数据透视表'!J:N,5,FALSE) -> 622.39 | G6: =IFERROR((E6-F6)/F6,0) -> 2.4118961 | H6: week35一直没量提价到了1，然后9.1突然出量但成本涨了很多后续量也比较稳定成本也在慢慢下压 | I6: 继续压价
A7: 8291713 | B7: ru.kinopoisk | C7: MTG | D7: RU | E7: =SUMIFS('平台消耗统计'!I:I,'平台消耗统计'!A:A,$E$2,'平台消耗统计'!C:C,A7) -> 1468.57 | F7: =VLOOKUP(A7,'数据透视表'!J:N,5,FALSE) -> 1395.8 | G7: =IFERROR((E7-F7)/F7,0) -> 0.052134976 | H7: week36每日都打满了cap，比week35多了些转化量 | I7: 继续保持打满cap的同时稍微控制下成本，降一丢丢价
A8: 5963354 | B8: ru.ozon.app.android | C8: MTG | D8: KZ | E8: =SUMIFS('平台消耗统计'!I:I,'平台消耗统计'!A:A,$E$2,'平台消耗统计'!C:C,A8) -> 1396.642 | F8: =VLOOKUP(A8,'数据透视表'!J:N,5,FALSE) -> 1159.41 | G8: =IFERROR((E8-F8)/F8,0) -> 0.20461442 | H8: week36出量比week35多了一些 | I8: 稍微控一下价格，往给的price靠
A9: 10912510 | B9: com.amazon.mShop.android.shopping | C9: Kwai | D9: BR | E9: =SUMIFS('平台消耗统计'!I:I,'平台消耗统计'!A:A,$E$2,'平台消耗统计'!C:C,A9) -> 1259.13 | F9: =VLOOKUP(A9,'数据透视表'!J:N,5,FALSE) -> 498.08 | G9: =IFERROR((E9-F9)/F9,0) -> 1.5279674 | H9: 9月2日cap500加到1000，9月3日cap加到1500，目前稳定在1000以上，但跑不满1500 | I9: 持续更新素材
A10: 2732727 | B10: com.amazon.mShop.android.shopping | C10: MTG | D10: SA | E10: =SUMIFS('平台消耗统计'!I:I,'平台消耗统计'!A:A,$E$2,'平台消耗统计'!C:C,A10) -> 1000.725 | F10: =VLOOKUP(A10,'数据透视表'!J:N,5,FALSE) -> 1013.9 | G10: =IFERROR((E10-F10)/F10,0) -> -0.012994378 | H10: 新开系列，更换素材，转化量都不涨 | I10: 继续更新素材和新建系列
A11: 8460883 | B11: com.king.candycrushsodasaga | C11: MTG | D11: BR | E11: =SUMIFS('平台消耗统计'!I:I,'平台消耗统计'!A:A,$E$2,'平台消耗统计'!C:C,A11) -> 988.918 | F11: =VLOOKUP(A11,'数据透视表'!J:N,5,FALSE) -> 1214.332 | G11: =IFERROR((E11-F11)/F11,0) -> -0.18562798 | H11: 9.4日转化突然掉到100，直接掉了90%，第二天回到1000+的转化，新素材表现不佳，准备重新在做素材 | I11: 重新上素材
A12: 6951594 | B12: com.king.candycrushsodasaga | C12: MTG | D12: DE | E12: =SUMIFS('平台消耗统计'!I:I,'平台消耗统计'!A:A,$E$2,'平台消耗统计'!C:C,A12) -> 950.85 | F12: =VLOOKUP(A12,'数据透视表'!J:N,5,FALSE) -> 1145.725 | G12: =IFERROR((E12-F12)/F12,0) -> -0.17008881 | H12: 也是9.4日突然掉量，后续只能维持在200左右的转化量级 | I12: 新素材表现不佳，继续更新素材
A13: 6607117 | B13: ru.aliexpress.buyer | C13: MTG | D13: RU | E13: =SUMIFS('平台消耗统计'!I:I,'平台消耗统计'!A:A,$E$2,'平台消耗统计'!C:C,A13) -> 927.809 | F13: =VLOOKUP(A13,'数据透视表'!J:N,5,FALSE) -> 1374.971 | G13: =IFERROR((E13-F13)/F13,0) -> -0.32521559 | H13: 前期跑的有点超，预算控制下来了。 | I13: 定期更新素材，量保持稳住
A14: 5963400 | B14: ru.ozon.app.android | C14: MTG | D14: UZ | E14: =SUMIFS('平台消耗统计'!I:I,'平台消耗统计'!A:A,$E$2,'平台消耗统计'!C:C,A14) -> 793.15 | F14: =VLOOKUP(A14,'数据透视表'!J:N,5,FALSE) -> 495.22 | G14: =IFERROR((E14-F14)/F14,0) -> 0.60161141 | H14: week36转化量比week35大幅提升，9/7 cap 300→100 出价0.4→0.2 | I14: 按新出价打满cap
... A18: 10813123 | B18: com.amazon.mShop.android.shopping | C18: Bigo | D18: BR | E18: =SUMIFS('平台消耗统计'!I:I,'平台消耗统计'!A:A,$E$2,'平台消耗统计'!C:C,A18) -> 546.1175 | F18: =VLOOKUP(A18,'数据透视表'!J:N,5,FALSE) -> 95.0468 | G18: =IFERROR((E18-F18)/F18,0) -> 4.7457747 | H18: 目前每日都在更新素材，但表现不佳，曝光点击事件率都在降，量级目前只能维持在200左右 | I18: 持续更新素材
A19: 11892329 | B19: com.amazon.mShop.android.shopping | C19: MTG | D19: BR | E19: =SUMIFS('平台消耗统计'!I:I,'平台消耗统计'!A:A,$E$2,'平台消耗统计'!C:C,A19) -> 521.5 | F19: =IFERROR(VLOOKUP(A19,'数据透视表'!J:N,5,FALSE),0) -> 0 | G19: =IFERROR((E19-F19)/F19,0) -> 0 | H19: 9.2日开投，目前每日打满，且超跑
A20: 7872826 | B20: asrtum.ent.domovyata | C20: MTG | D20: RU | E20: =SUMIFS('平台消耗统计'!I:I,'平台消耗统计'!A:A,$E$2,'平台消耗统计'!C:C,A20) -> 490.654 | F20: =IFERROR(VLOOKUP(A20,'数据透视表'!J:N,5,FALSE),0) -> 530.599 | G20: =IFERROR((E20-F20)/F20,0) -> -0.075282841 | H20: 9.4日cap400降到200后，每日打不满，目前在调整 | I20: 持续更新素材
A21: 1745925 | B21: tech.jm | C21: MTG | D21: RU | E21: =SUMIFS('平台消耗统计'!I:I,'平台消耗统计'!A:A,$E$2,'平台消耗统计'!C:C,A21) -> 477.6 | F21: =IFERROR(VLOOKUP(A21,'数据透视表'!J:N,5,FALSE),0) -> 248.1 | G21: =IFERROR((E21-F21)/F21,0) -> 0.92503023 | H21: 每日基本打满500cap | I21: 继续保持打满cap
A22: 6395488 | B22: com.edadeal.android | C22: MTG | D22: RU | E22: =SUMIFS('平台消耗统计'!I:I,'平台消耗统计'!A:A,$E$2,'平台消耗统计'!C:C,A22) -> 420 | F22: =IFERROR(VLOOKUP(A22,'数据透视表'!J:N,5,FALSE),0) -> 420 | G22: =IFERROR((E22-F22)/F22,0) -> 0 | H22: 稳定订单，每日打满cap | I22: 继续保持打满cap
A23: 7202934 | B23: com.fxpro.direct.application | C23: MTG | D23: PK | E23: =SUMIFS('平台消耗统计'!I:I,'平台消耗统计'!A:A,$E$2,'平台消耗统计'!C:C,A23) -> 384.41 | F23: =IFERROR(VLOOKUP(A23,'数据透视表'!J:N,5,FALSE),0) -> 498.96 | G23: =IFERROR((E23-F23)/F23,0) -> -0.22957752 | H23: 9.3日出价从0.36降到0.35后，开始掉量，打不满，可能是加个降低后，重新对渠道继续了优先级的调整 | I23: 先继续观察，观察后打不满就进行提价
A24: 6060965 | B24: ru.aliexpress.buyer | C24: MTG | D24: RU | E24: =SUMIFS('平台消耗统计'!I:I,'平台消耗统计'!A:A,$E$2,'平台消耗统计'!C:C,A24) -> 365.54 | F24: =IFERROR(VLOOKUP(A24,'数据透视表'!J:N,5,FALSE),0) -> 289.69 | G24: =IFERROR((E24-F24)/F24,0) -> 0.26183161 | H24: 人群包订单，前面有点掉量优化了素材和子渠道量上来了。 | I24: 定期更新素材，优化子渠道，量保持稳住
A25: 8094753 | B25: ru.aliexpress.buyer | C25: Mediago | D25: RU | E25: =SUMIFS('平台消耗统计'!I:I,'平台消耗统计'!A:A,$E$2,'平台消耗统计'!C:C,A25) -> 354.55 | F25: =IFERROR(VLOOKUP(A25,'数据透视表'!J:N,5,FALSE),0) -> 244.71 | G25: =IFERROR((E25-F25)/F25,0) -> 0.44885783 | H25: 前面压价跑的利润有点超然后转化没打满现在回来了转化跑满。正常差值 | I25: 定期更新素材量保持稳住
A26: 6425889 | B26: com.amazon.mShop.android.shopping | C26: MTG | D26: ZA | E26: =SUMIFS('平台消耗统计'!I:I,'平台消耗统计'!A:A,$E$2,'平台消耗统计'!C:C,A26) -> 344.55 | F26: =IFERROR(VLOOKUP(A26,'数据透视表'!J:N,5,FALSE),0) -> 366.55 | G26: =IFERROR((E26-F26)/F26,0) -> -0.060019097 | H26: 9.4日转化降低后，在缓慢恢复，已经更新过新的素材和新的系列 | I26: 持续更新素材
A27: 7572369 | B27: com.amazon.mShop.android.shopping | C27: MTG | D27: AE | E27: =SUMIFS('平台消耗统计'!I:I,'平台消耗统计'!A:A,$E$2,'平台消耗统计'!C:C,A27) -> 342.75 | F27: =IFERROR(VLOOKUP(A27,'数据透视表'!J:N,5,FALSE),0) -> 432.69 | G27: =IFERROR((E27-F27)/F27,0) -> -0.20786244 | H27: 9.4日转化降低后，在缓慢恢复，已经更新过新的素材和新的系列 | I27: 持续更新素材
A28: 91467820 | B28: com.vitastudio.mahjong | C28: MTG | D28: ID | E28: =SUMIFS('平台消耗统计'!I:I,'平台消耗统计'!A:A,$E$2,'平台消耗统计'!C:C,A28) -> 323.1 | F28: =IFERROR(VLOOKUP(A28,'数据透视表'!J:N,5,FALSE),0) -> 271.3 | G28: =IFERROR((E28-F28)/F28,0) -> 0.19093255 | H28: 9.3cap从600降到500后9.4继续降到200，每天都能打满cap | I28: 继续保持打满
A29: 10599681 | B29: ru.kinopoisk | C29: MTG | D29: RU | E29: =SUMIFS('平台消耗统计'!I:I,'平台消耗统计'!A:A,$E$2,'平台消耗统计'!C:C,A29) -> 313.95 | F29: =IFERROR(VLOOKUP(A29,'数据透视表'!J:N,5,FALSE),0) -> 246.74 | G29: =IFERROR((E29-F29)/F29,0) -> 0.27239199 | H29: 人群包订单，优化了一下素材上量了现在每天打满 | I29: 定期更新素材，优化子渠道，量保持稳住
A30: 91399821 | B30: ru.kinopoisk | C30: Mediago | D30: RU | E30: =SUMIFS('平台消耗统计'!I:I,'平台消耗统计'!A:A,$E$2,'平台消耗统计'!C:C,A30) -> 295.82 | F30: =IFERROR(VLOOKUP(A30,'数据透视表'!J:N,5,FALSE),0) -> 185.98 | G30: =IFERROR((E30-F30)/F30,0) -> 0.59060114 | H30: 平台流量变化 | I30: 继续观察
A31: 9297014 | B31: tech.jm | C31: Mediago | D31: RU | E31: =SUMIFS('平台消耗统计'!I:I,'平台消耗统计'!A:A,$E$2,'平台消耗统计'!C:C,A31) -> 287.49 | F31: =IFERROR(VLOOKUP(A31,'数据透视表'!J:N,5,FALSE),0) -> 241.67 | G31: =IFERROR((E31-F31)/F31,0) -> 0.18959738 | H31: 8.31-9.3每天都能打满300cap但超成本后压价到0.18，后续成本降回正常但量少了很多 | I31: 保持订单稳定
... A41: 91551388 | B41: com.netease.newspike | C41: Bigo | D41: US | E41: =SUMIFS('平台消耗统计'!I:I,'平台消耗统计'!A:A,$E$2,'平台消耗统计'!C:C,A41) -> 174.816 | F41: =IFERROR(VLOOKUP(A41,'数据透视表'!J:N,5,FALSE),0) -> 74.0133 | G41: =IFERROR((E41-F41)/F41,0) -> 1.3619539 | H41: 跑出价超了 | I41: 上些素材降价
A42: 7953512 | B42: ru.mobstudio.andgalaxy | C42: MTG | D42: RU | E42: =SUMIFS('平台消耗统计'!I:I,'平台消耗统计'!A:A,$E$2,'平台消耗统计'!C:C,A42) -> 171.82 | F42: =IFERROR(VLOOKUP(A42,'数据透视表'!J:N,5,FALSE),0) -> 239.32 | G42: =IFERROR((E42-F42)/F42,0) -> -0.28204914 | H42: 9/4暂停容易跑超事件不行。
A43: 11690182 | B43: astrum.ent.m2alyona | C43: Mediago | D43: RU | E43: =SUMIFS('平台消耗统计'!I:I,'平台消耗统计'!A:A,$E$2,'平台消耗统计'!C:C,A43) -> 151.06 | F43: =IFERROR(VLOOKUP(A43,'数据透视表'!J:N,5,FALSE),0) -> 236.8 | G43: =IFERROR((E43-F43)/F43,0) -> -0.3620777 | H43: 9.1爆了拒绝 成本也很高 am关停 | I43: 等待重启后压价
A44: 8819666 | B44: com.yandex.lavka | C44: Bigo | D44: RU | E44: =SUMIFS('平台消耗统计'!I:I,'平台消耗统计'!A:A,$E$2,'平台消耗统计'!C:C,A44) -> 138.0552 | F44: =IFERROR(VLOOKUP(A44,'数据透视表'!J:N,5,FALSE),0) -> 135.6385 | G44: =IFERROR((E44-F44)/F44,0) -> 0.017817213 | H44: 稳定订单，每日打满cap | I44: 继续保持打满
A45: 91496147 | B45: com.vitastudio.mahjong | C45: MTG | D45: BR | E45: =SUMIFS('平台消耗统计'!I:I,'平台消耗统计'!A:A,$E$2,'平台消耗统计'!C:C,A45) -> 129.35 | F45: =IFERROR(VLOOKUP(A45,'数据透视表'!J:N,5,FALSE),0) -> 105.69 | G45: =IFERROR((E45-F45)/F45,0) -> 0.22386224 | H45: week35cap提到150大部分时间都能打满 其余时间每天就差十来个 | I45: 上新素材打满订单
A46: 6439005 | B46: com.amazon.mShop.android.shopping | C46: Eagllwin | D46: ZA | E46: =SUMIFS('平台消耗统计'!I:I,'平台消耗统计'!A:A,$E$2,'平台消耗统计'!C:C,A46) -> 128.5 | F46: =IFERROR(VLOOKUP(A46,'数据透视表'!J:N,5,FALSE),0) -> 92.5 | G46: =IFERROR((E46-F46)/F46,0) -> 0.38918919 | H46: 转化9。4日后有所提升，目前只能维持在100左右 | I46: 上新素材打满订单
A47: 91550293 | B47: net.peakgames.Yuzbir | C47: MTG | D47: TR | E47: =SUMIFS('平台消耗统计'!I:I,'平台消耗统计'!A:A,$E$2,'平台消耗统计'!C:C,A47) -> 126 | F47: =IFERROR(VLOOKUP(A47,'数据透视表'!J:N,5,FALSE),0) -> 44.7 | G47: =IFERROR((E47-F47)/F47,0) -> 1.8187919 | H47: 8/26开投 | I47: /
A48: 9686529 | B48: ru.ozon.app.android | C48: MTG | D48: KG | E48: =SUMIFS('平台消耗统计'!I:I,'平台消耗统计'!A:A,$E$2,'平台消耗统计'!C:C,A48) -> 125.5 | F48: =IFERROR(VLOOKUP(A48,'数据透视表'!J:N,5,FALSE),0) -> 88.9 | G48: =IFERROR((E48-F48)/F48,0) -> 0.41169854 | H48: 曝光点击量增多，对应的转化量增多，但是CVR依旧很低0.2%左右 | I48: 正常更新一组素材，看能否稳定当前的转化量
A49: 91548043 | B49: com.king.candycrushsaga | C49: MTG | D49: FR | E49: =SUMIFS('平台消耗统计'!I:I,'平台消耗统计'!A:A,$E$2,'平台消耗统计'!C:C,A49) -> 121.8 | F49: =IFERROR(VLOOKUP(A49,'数据透视表'!J:N,5,FALSE),0) -> 72.7 | G49: =IFERROR((E49-F49)/F49,0) -> 0.67537827 | H49: 9.4日转化降低后，在缓慢恢复，已经更新过新的素材 | I49: 保持观察，目前在恢复中
A50: 91467821 | B50: com.vitastudio.mahjong | C50: MTG | D50: TH | E50: =SUMIFS('平台消耗统计'!I:I,'平台消耗统计'!A:A,$E$2,'平台消耗统计'!C:C,A50) -> 117.81 | F50: =IFERROR(VLOOKUP(A50,'数据透视表'!J:N,5,FALSE),0) -> 118.66 | G50: =IFERROR((E50-F50)/F50,0) -> -0.0071633238 | H50: 稳定订单只有一天差几个打满 | I50: 继续保持打满
A51: 9298539 | B51: com.gloriajeans.mobile | C51: MTG | D51: RU | E51: =SUMIFS('平台消耗统计'!I:I,'平台消耗统计'!A:A,$E$2,'平台消耗统计'!C:C,A51) -> 114 | F51: =IFERROR(VLOOKUP(A51,'数据透视表'!J:N,5,FALSE),0) -> 0 | G51: =IFERROR((E51-F51)/F51,0) -> 0 | H51: 9/4重启 | I51: /
A52: 91538334 | B52: cn.com.vtmarkets | C52: MTG | D52: DE | E52: =SUMIFS('平台消耗统计'!I:I,'平台消耗统计'!A:A,$E$2,'平台消耗统计'!C:C,A52) -> 103.2 | F52: =IFERROR(VLOOKUP(A52,'数据透视表'!J:N,5,FALSE),0) -> 0 | G52: =IFERROR((E52-F52)/F52,0) -> 0 | H52: 9/1加价到0.8 | I52: 继续观察
...
