Workbook

Sheet 平台消耗统计
A1: Week | B1: Date | C1: Adpingid | D1: 包名 | E1: 地区 | F1: 平台 | G1: 平台转化数量 | H1: CPI平台成本 | I1: 花费 | J1: 信用消耗金额
A2: =WEEKNUM(B2,2) -> 39 | B2: 46292 | C2: 10813123 | D2: com.amazon.mShop.android.shopping | E2: BR | F2: Bigo | G2: 15 | H2: 0.4439 | I2: 6.5081
A3: =WEEKNUM(B3,2) -> 39 | B3: 46292 | C3: 1745925 | D3: tech.jm | E3: RU | F3: MTG | G3: 501 | H3: 0.15 | I3: 75.15
A4: =WEEKNUM(B4,2) -> 39 | B4: 46292 | C4: 6951600 | D4: com.king.candycrushsodasaga | E4: TH | F4: MTG | G4: 100 | H4: 0.177 | I4: 17.714
A5: =WEEKNUM(B5,2) -> 39 | B5: 46292 | C5: 6951594 | D5: com.king.candycrushsodasaga | E5: DE | F5: MTG | G5: 236 | H5: 0.704 | I5: 166.25
A6: =WEEKNUM(B6,2) -> 39 | B6: 46292 | C6: 2732727 | D6: com.amazon.mShop.android.shopping | E6: SA | F6: MTG | G6: 573 | H6: 0.25 | I6: 143
A7: =WEEKNUM(B7,2) -> 39 | B7: 46292 | C7: 5619156 | D7: com.amazon.mShop.android.shopping | E7: SA | F7: Bigo | G7: 14 | H7: 0.4446 | I7: 6.2248
A8: =WEEKNUM(B8,2) -> 39 | B8: 46292 | C8: 6425889 | D8: com.amazon.mShop.android.shopping | E8: ZA | F8: MTG | G8: 223 | H8: 0.25 | I8: 55.725
A9: =WEEKNUM(B9,2) -> 39 | B9: 46292 | C9: 6439005 | D9: com.amazon.mShop.android.shopping | E9: ZA | F9: Eagllwin | G9: 78 | H9: 0.2994 | I9: 23.35
A10: =WEEKNUM(B10,2) -> 39 | B10: 46292 | C10: 7203110 | D10: com.fxpro.direct.application | E10: SY | F10: MTG | G10: 5 | H10: 0.2 | I10: 1
A11: =WEEKNUM(B11,2) -> 39 | B11: 46292 | C11: 7202934 | D11: com.fxpro.direct.application | E11: PK | F11: MTG | G11: 72 | H11: 0.35 | I11: 25.2
A12: =WEEKNUM(B12,2) -> 39 | B12: 46292 | C12: 5847496 | D12: com.amazon.mShop.android.shopping | E12: AE | F12: Bigo | G12: 6 | H12: 0.584 | I12: 3.5067
A13: =WEEKNUM(B13,2) -> 39 | B13: 46292 | C13: 7572369 | D13: com.amazon.mShop.android.shopping | E13: AE | F13: MTG | G13: 220 | H13: 0.306 | I13: 67.32
... A21: =WEEKNUM(B21,2) -> 39 | B21: 46292 | C21: 10501490 | D21: tech.jm | E21: RU | F21: MTG | G21: 7 | H21: 0.13 | I21: 0.91
A22: =WEEKNUM(B22,2) -> 39 | B22: 46292 | C22: 10912510 | D22: com.amazon.mShop.android.shopping | E22: BR | F22: Kwai | G22: 46 | H22: 0.55 | I22: 25.1 | J22: 25.101
A23: =WEEKNUM(B23,2) -> 39 | B23: 46292 | C23: 11080098 | D23: com.fxpro.direct.application | E23: PK | F23: MTG | G23: 2 | H23: 0.6 | I23: 1.2
A24: =WEEKNUM(B24,2) -> 39 | B24: 46292 | C24: 11715627 | D24: com.esprit.rpg.cntrctfft | E24: RU | F24: MTG | G24: 0 | H24: 0 | I24: 0
A25: =WEEKNUM(B25,2) -> 39 | B25: 46292 | C25: 11715655 | D25: com.king.candycrushsodasaga | E25: BR | F25: MTG | G25: 0 | H25: 0 | I25: 0
A26: =WEEKNUM(B26,2) -> 39 | B26: 46292 | C26: 11715811 | D26: com.king.candycrushsodasaga | E26: TH | F26: MTG | G26: 0 | H26: 0 | I26: 0
A27: =WEEKNUM(B27,2) -> 39 | B27: 46292 | C27: 11729927 | D27: com.amazon.mShop.android.shopping | E27: ZA | F27: MTG | G27: 0 | H27: 0 | I27: 0
A28: =WEEKNUM(B28,2) -> 39 | B28: 46292 | C28: 11729820 | D28: com.amazon.mShop.android.shopping | E28: AE | F28: MTG | G28: 1 | H28: 0.3 | I28: 0.3
A29: =WEEKNUM(B29,2) -> 39 | B29: 46292 | C29: 11729830 | D29: com.amazon.mShop.android.shopping | E29: BR | F29: Bigo | G29: 0 | H29: 0 | I29: 0.0006
A30: =WEEKNUM(B30,2) -> 39 | B30: 46292 | C30: 11892329 | D30: com.amazon.mShop.android.shopping | E30: BR | F30: MTG | G30: 3270 | H30: 0.23 | I30: 751.99
A31: =WEEKNUM(B31,2) -> 39 | B31: 46292 | C31: 91560708 | D31: com.king.candycrushsaga | E31: FR | F31: MTG | G31: 274 | H31: 0.091 | I31: 24.947
A32: =WEEKNUM(B32,2) -> 39 | B32: 46292 | C32: 91560709 | D32: com.king.candycrushsaga | E32: VN | F32: MTG | G32: 500 | H32: 0.06 | I32: 30
A33: =WEEKNUM(B33,2) -> 39 | B33: 46292 | C33: 12064281 | D33: com.king.candycrushsodasaga | E33: DE | F33: MTG | G33: 0 | H33: 0 | I33: 0
A34: =WEEKNUM(B34,2) -> 39 | B34: 46292 | C34: 11987622 | D34: com.amazon.mShop.android.shopping | E34: BR | F34: Kwai | G34: 1 | H34: 0.67 | I34: 0.67 | J34: 0.675
A35: =WEEKNUM(B35,2) -> 39 | B35: 46292 | C35: 91567811 | D35: ru.banki.banki | E35: RU | F35: MTG | G35: 12 | H35: 1 | I35: 1.2
A36: =WEEKNUM(B36,2) -> 39 | B36: 46292 | C36: 91548044 | D36: ru.banki.banki | E36: RU | F36: Bigo | G36: 2 | H36: 10.026 | I36: 20.0511
A37: =WEEKNUM(B37,2) -> 39 | B37: 46292 | C37: 6061077 | D37: ru.aliexpress.buyer | E37: RU | F37: MTG | G37: 2 | H37: 1.019 | I37: 2.038
A38: =WEEKNUM(B38,2) -> 39 | B38: 46292 | C38: 6607117 | D38: ru.aliexpress.buyer | E38: RU | F38: MTG | G38: 133 | H38: 0.852 | I38: 113.32
A39: =WEEKNUM(B39,2) -> 39 | B39: 46292 | C39: 5497580 | D39: com.king.candycrushsaga | E39: TH | F39: MTG | G39: 1652 | H39: 0.251 | I39: 414.898
A40: =WEEKNUM(B40,2) -> 39 | B40: 46292 | C40: 91407542 | D40: com.king.candycrushsaga | E40: ID | F40: MTG | G40: 22 | H40: 0.02 | I40: 0.44
A41: =WEEKNUM(B41,2) -> 39 | B41: 46292 | C41: 8998645 | D41: com.king.candycrushsaga | E41: TH | F41: MTG | G41: 12 | H41: 0.364 | I41: 4.367
A42: =WEEKNUM(B42,2) -> 39 | B42: 46292 | C42: 4383473 | D42: ru.aliexpress.buyer | E42: RU | F42: MTG | G42: 150 | H42: 0.199 | I42: 29.916
A43: =WEEKNUM(B43,2) -> 39 | B43: 46292 | C43: 8094753 | D43: ru.aliexpress.buyer | E43: RU | F43: Mediago | G43: 303 | H43: 0.24 | I43: 73.92
A44: =WEEKNUM(B44,2) -> 39 | B44: 46292 | C44: 9415350 | D44: com.notissimus.allinstruments.android | E44: RU | F44: Mediago | G44: 38 | H44: 0.25 | I44: 9.43
A45: =WEEKNUM(B45,2) -> 39 | B45: 46292 | C45: 2783561 | D45: com.uma.musicvk | E45: RU | F45: MTG | G45: 435 | H45: 0.102 | I45: 44.315
A46: =WEEKNUM(B46,2) -> 39 | B46: 46292 | C46: 10599157 | D46: com.edadeal.android | E46: RU | F46: MTG | G46: 95 | H46: 0.313 | I46: 29.75
... A64: =WEEKNUM(B64,2) -> 39 | B64: 46292 | C64: 91399821 | D64: ru.kinopoisk | E64: RU | F64: Mediago | G64: 472 | H64: 0.13 | I64: 61.49
...

Sheet 优化师维度统计
A1: 日期 | B1: 投放人 | C1: Adpingid | D1: 包名 | E1: 地区 | F1: 平台 | G1: 单价 | H1: Daily install cap | I1: Weekly budget | J1: 时段 | K1: 展示 | L1: 点击 | M1: 转化 | N1: CPC | O1: CPI | P1: 花费 | Q1: cap达成率
A2: 每日汇总 | B2: 周一 | K2: =SUM(K3:K434) -> 4123891 | L2: =SUM(L3:L434) -> 673036 | P2: =SUM(P3:P434) -> 2004.3095
A3: 46293 | B3: 黄政 | C3: 10813123 | D3: com.amazon.mShop.android.shopping | E3: BR | F3: Bigo | G3: 0.25 | H3: 1000 | I3: =G3*H3*7 -> 1750 | J3: 截止10点 | Q3: =M5/H3 -> 0
J4: 截止18点
J5: 截止24点
C6: 1745925 | D6: tech.jm | E6: RU | F6: MTG | G6: 0.15 | H6: 500 | I6: =G6*H6*7 -> 525 | J6: 截止10点 | Q6: =M8/H6 -> 0
J7: 截止18点
J8: 截止24点
C9: 6951600 | D9: com.king.candycrushsodasaga | E9: TH | F9: MTG | G9: 0.17 | H9: 100 | I9: =G9*H9*7 -> 119 | J9: 截止10点 | Q9: =M11/H9 -> 0
J10: 截止18点
J11: 截止24点
C12: 6951594 | D12: com.king.candycrushsodasaga | E12: DE | F12: MTG | G12: 0.7 | H12: 400 | I12: =G12*H12*7 -> 1960 | J12: 截止10点 | Q12: =M14/H12 -> 0
J13: 截止18点
J14: 截止24点
C15: 2732727 | D15: com.amazon.mShop.android.shopping | E15: SA | F15: MTG | G15: 0.25 | H15: 1000 | I15: =G15*H15*7 -> 1750 | J15: 截止10点 | Q15: =M17/H15 -> 0
J16: 截止18点
J17: 截止24点
C18: 5619156 | D18: com.amazon.mShop.android.shopping | E18: SA | F18: Bigo | G18: 0.24 | H18: 500 | I18: =G18*H18*7 -> 840 | J18: 截止10点 | Q18: =M20/H18 -> 0
J19: 截止18点
J20: 截止24点
C21: 6425889 | D21: com.amazon.mShop.android.shopping | E21: ZA | F21: MTG | G21: 0.25 | H21: 400 | I21: =G21*H21*7 -> 700 | J21: 截止10点 | Q21: 0.003
J22: 截止18点
J23: 截止24点
C24: 6439005 | D24: com.amazon.mShop.android.shopping | E24: ZA | F24: Eagllwin | G24: 0.3 | H24: 300 | I24: =G24*H24*7 -> 630 | J24: 截止10点 | Q24: =M26/H24 -> 0
J25: 截止18点
J26: 截止24点
C27: 7203110 | D27: com.fxpro.direct.application | E27: SY | F27: MTG | G27: 0.2 | H27: 100 | I27: =G27*H27*7 -> 140 | J27: 截止10点 | Q27: =M29/H27 -> 0
J28: 截止18点
J29: 截止24点
C30: 7202934 | D30: com.fxpro.direct.application | E30: PK | F30: MTG | G30: 0.35 | H30: 200 | I30: =G30*H30*7 -> 490 | J30: 截止10点 | Q30: 0
J31: 截止18点
J32: 截止24点
C33: 5847496 | D33: com.amazon.mShop.android.shopping | E33: AE | F33: Bigo | G33: 0.3 | H33: 200 | I33: =G33*H33*7 -> 420 | J33: 截止10点 | Q33: =M35/H33 -> 0
J34: 截止18点
J35: 截止24点
C36: 7572369 | D36: com.amazon.mShop.android.shopping | E36: AE | F36: MTG | G36: 0.3 | H36: 400 | I36: =G36*H36*7 -> 840 | J36: 截止10点 | Q36: =M38/H36 -> 0
J37: 截止18点
J38: 截止24点
C39: 8460883 | D39: com.king.candycrushsodasaga | E39: BR | F39: MTG | G39: 0.14 | H39: 1400 | I39: =G39*H39*7 -> 1372 | J39: 截止10点 | Q39: =M41/H39 -> 0
J40: 截止18点
...

Sheet Playable素材统计
A1: 日期 | B1: 投放人 | C1: Adpingid | D1: 包名 | E1: 地区 | F1: 平台 | G1: 单价 | H1: Daily install cap | I1: Weekly budget | J1: 时段 | K1: 展示 | L1: 点击 | M1: 转化 | N1: CPC | O1: CPI | P1: 花费 | Q1: cap达成率 | S1: CTR | T1: CVR
A2: 每日汇总 | B2: 周三 | K2: =SUM(K3:K6) -> 0 | L2: =SUM(L3:L6) -> 0 | P2: =SUM(P3:P6) -> 0
A3: 46295 | B3: 万科 | C3: 8998645 | D3: com.king.candycrushsaga | E3: TH | F3: MTG | G3: 0.28 | H3: 200 | I3: =G3*H3*7 -> 392 | J3: 截止24点 | Q3: =M3/H3 -> 0 | S3: =IFERROR(L3/K3,0) -> 0 | T3: =IFERROR(M3/L3,0) -> 0
C4: 5497580 | D4: com.king.candycrushsaga | E4: TH | F4: MTG | G4: 0.28 | H4: 1300 | I4: =G4*H4*7 -> 2548 | J4: 截止24点 | Q4: =M4/H4 -> 0 | S4: =IFERROR(L4/K4,0) -> 0 | T4: =IFERROR(M4/L4,0) -> 0
C5: 91407542 | D5: com.king.candycrushsaga | E5: ID | F5: MTG | G5: 0.02 | H5: 600 | I5: =G5*H5*7 -> 84 | J5: 截止24点 | Q5: =M5/H5 -> 0 | S5: =IFERROR(L5/K5,0) -> 0 | T5: =IFERROR(M5/L5,0) -> 0
B6: 黄政 | C6: 6951594 | D6: com.king.candycrushsodasaga | E6: DE | F6: MTG | G6: 0.6 | H6: 250 | I6: =G6*H6*7 -> 1050 | J6: 截止24点 | Q6: =M6/H6 -> 0 | S6: =IFERROR(L6/K6,0) -> 0 | T6: =IFERROR(M6/L6,0) -> 0
B7: 周梓君 | C7: 12072287 | D7: com.yandex.bank | E7: RU | F7: MTG | G7: 0.5 | H7: 200 | I7: =G7*H7*7 -> 700 | J7: 截止24点 | Q7: =M7/H7 -> 0 | S7: =IFERROR(L7/K7,0) -> 0 | T7: =IFERROR(M7/L7,0) -> 0
A9: 每日汇总 | B9: 周二 | K9: =SUM(K10:K13) -> 0 | L9: =SUM(L10:L13) -> 0 | P9: =SUM(P10:P13) -> 0
A10: 46294 | B10: 万科 | C10: 8998645 | D10: com.king.candycrushsaga | E10: TH | F10: MTG | G10: 0.28 | H10: 200 | I10: =G10*H10*7 -> 392 | J10: 截止24点 | Q10: =M10/H10 -> 0 | S10: =IFERROR(L10/K10,0) -> 0 | T10: =IFERROR(M10/L10,0) -> 0
C11: 5497580 | D11: com.king.candycrushsaga | E11: TH | F11: MTG | G11: 0.28 | H11: 1300 | I11: =G11*H11*7 -> 2548 | J11: 截止24点 | Q11: =M11/H11 -> 0 | S11: =IFERROR(L11/K11,0) -> 0 | T11: =IFERROR(M11/L11,0) -> 0
C12: 91407542 | D12: com.king.candycrushsaga | E12: ID | F12: MTG | G12: 0.02 | H12: 600 | I12: =G12*H12*7 -> 84 | J12: 截止24点 | Q12: =M12/H12 -> 0 | S12: =IFERROR(L12/K12,0) -> 0 | T12: =IFERROR(M12/L12,0) -> 0
B13: 黄政 | C13: 6951594 | D13: com.king.candycrushsodasaga | E13: DE | F13: MTG | G13: 0.6 | H13: 250 | I13: =G13*H13*7 -> 1050 | J13: 截止24点 | Q13: =M13/H13 -> 0 | S13: =IFERROR(L13/K13,0) -> 0 | T13: =IFERROR(M13/L13,0) -> 0
B14: 周梓君 | C14: 12072287 | D14: com.yandex.bank | E14: RU | F14: MTG | G14: 0.5 | H14: 200 | I14: =G14*H14*7 -> 700 | J14: 截止24点 | Q14: =M14/H14 -> 0 | S14: =IFERROR(L14/K14,0) -> 0 | T14: =IFERROR(M14/L14,0) -> 0
A16: 每日汇总 | B16: 周一 | K16: =SUM(K17:K20) -> 0 | L16: =SUM(L17:L20) -> 0 | P16: =SUM(P17:P20) -> 0
A17: 46293 | B17: 万科 | C17: 8998645 | D17: com.king.candycrushsaga | E17: TH | F17: MTG | G17: 0.28 | H17: 200 | I17: =G17*H17*7 -> 392 | J17: 截止24点 | Q17: =M17/H17 -> 0 | S17: =IFERROR(L17/K17,0) -> 0 | T17: =IFERROR(M17/L17,0) -> 0
C18: 5497580 | D18: com.king.candycrushsaga | E18: TH | F18: MTG | G18: 0.28 | H18: 1300 | I18: =G18*H18*7 -> 2548 | J18: 截止24点 | Q18: =M18/H18 -> 0 | S18: =IFERROR(L18/K18,0) -> 0 | T18: =IFERROR(M18/L18,0) -> 0
C19: 91407542 | D19: com.king.candycrushsaga | E19: ID | F19: MTG | G19: 0.02 | H19: 600 | I19: =G19*H19*7 -> 84 | J19: 截止24点 | Q19: =M19/H19 -> 0 | S19: =IFERROR(L19/K19,0) -> 0 | T19: =IFERROR(M19/L19,0) -> 0
B20: 黄政 | C20: 6951594 | D20: com.king.candycrushsodasaga | E20: DE | F20: MTG | G20: 0.6 | H20: 250 | I20: =G20*H20*7 -> 1050 | J20: 截止24点 | Q20: =M20/H20 -> 0 | S20: =IFERROR(L20/K20,0) -> 0 | T20: =IFERROR(M20/L20,0) -> 0
B21: 周梓君 | C21: 12072287 | D21: com.yandex.bank | E21: RU | F21: MTG | G21: 0.5 | H21: 200 | I21: =G21*H21*7 -> 700 | J21: 截止24点 | Q21: =M21/H21 -> 0 | S21: =IFERROR(L21/K21,0) -> 0 | T21: =IFERROR(M21/L21,0) -> 0
A23: 每日汇总 | B23: 周日 | K23: =SUM(K24:K27) -> 141164 | L23: =SUM(L24:L27) -> 83095 | P23: =SUM(P24:P27) -> 289.167
A24: 46292 | B24: 万科 | C24: 8998645 | D24: com.king.candycrushsaga | E24: TH | F24: MTG | G24: 0.28 | H24: 200 | I24: =G24*H24*7 -> 392 | J24: 截止24点 | K24: 157 | L24: 67 | M24: 1 | N24: 0 | O24: 0.013 | P24: 0.013 | Q24: =M24/H24 -> 0.005 | S24: =IFERROR(L24/K24,0) -> 0.42675159 | T24: =IFERROR(M24/L24,0) -> 0.014925373
C25: 5497580 | D25: com.king.candycrushsaga | E25: TH | F25: MTG | G25: 0.28 | H25: 1300 | I25: =G25*H25*7 -> 2548 | J25: 截止24点 | K25: 107641 | L25: 61959 | M25: 820 | N25: 0.003 | O25: 0.25 | P25: 205.344 | Q25: =M25/H25 -> 0.63076923 | S25: =IFERROR(L25/K25,0) -> 0.57560781 | T25: =IFERROR(M25/L25,0) -> 0.013234558
C26: 91407542 | D26: com.king.candycrushsaga | E26: ID | F26: MTG | G26: 0.02 | H26: 600 | I26: =G26*H26*7 -> 84 | J26: 截止24点 | K26: 1176 | L26: 847 | M26: 1 | N26: 0 | O26: 0.02 | P26: 0.02 | Q26: =M26/H26 -> 0.0016666667 | S26: =IFERROR(L26/K26,0) -> 0.7202381 | T26: =IFERROR(M26/L26,0) -> 0.0011806375
B27: 黄政 | C27: 6951594 | D27: com.king.candycrushsodasaga | E27: DE | F27: MTG | G27: 0.6 | H27: 250 | I27: =G27*H27*7 -> 1050 | J27: 截止24点 | K27: 32190 | L27: 20222 | M27: 120 | N27: 0.004 | O27: 0.698 | P27: 83.79 | Q27: =M27/H27 -> 0.48 | S27: =IFERROR(L27/K27,0) -> 0.62820752 | T27: =IFERROR(M27/L27,0) -> 0.0059341311
B28: 周梓君 | C28: 12072287 | D28: com.yandex.bank | E28: RU | F28: MTG | G28: 0.5 | H28: 200 | I28: =G28*H28*7 -> 700 | J28: 截止24点 | K28: 10 | L28: 0 | M28: 0 | N28: 0 | O28: 0 | P28: 0 | Q28: =M28/H28 -> 0 | S28: =IFERROR(L28/K28,0) -> 0 | T28: =IFERROR(M28/L28,0) -> 0
A30: 每日汇总 | B30: 周六 | K30: =SUM(K31:K34) -> 104175 | L30: =SUM(L31:L34) -> 64421 | P30: =SUM(P31:P34) -> 208.312
A31: 46291 | B31: 万科 | C31: 8998645 | D31: com.king.candycrushsaga | E31: TH | F31: MTG | G31: 0.28 | H31: 200 | I31: =G31*H31*7 -> 392 | J31: 截止24点 | K31: 134 | L31: 66 | M31: 0 | N31: 0 | O31: 0 | P31: 0 | Q31: =M31/H31 -> 0 | S31: =IFERROR(L31/K31,0) -> 0.49253731 | T31: =IFERROR(M31/L31,0) -> 0
C32: 5497580 | D32: com.king.candycrushsaga | E32: TH | F32: MTG | G32: 0.28 | H32: 1300 | I32: =G32*H32*7 -> 2548 | J32: 截止24点 | K32: 77790 | L32: 47402 | M32: 587 | N32: 0.003 | O32: 0.249 | P32: 146.292 | Q32: =M32/H32 -> 0.45153846 | S32: =IFERROR(L32/K32,0) -> 0.60935853 | T32: =IFERROR(M32/L32,0) -> 0.012383444
C33: 91407542 | D33: com.king.candycrushsaga | E33: ID | F33: MTG | G33: 0.02 | H33: 600 | I33: =G33*H33*7 -> 84 | J33: 截止24点 | K33: 2214 | L33: 1492 | M33: 7 | N33: 0 | O33: 0.02 | P33: 0.14 | Q33: =M33/H33 -> 0.011666667 | S33: =IFERROR(L33/K33,0) -> 0.67389341 | T33: =IFERROR(M33/L33,0) -> 0.004691689
B34: 黄政 | C34: 6951594 | D34: com.king.candycrushsodasaga | E34: DE | F34: MTG | G34: 0.6 | H34: 250 | I34: =G34*H34*7 -> 1050 | J34: 截止24点 | K34: 24037 | L34: 15461 | M34: 88 | N34: 0.004 | O34: 0.703 | P34: 61.88 | Q34: =M34/H34 -> 0.352 | S34: =IFERROR(L34/K34,0) -> 0.64321671 | T34: =IFERROR(M34/L34,0) -> 0.0056917405
B35: 周梓君 | C35: 12072287 | D35: com.yandex.bank | E35: RU | F35: MTG | G35: 0.5 | H35: 200 | I35: =G35*H35*7 -> 700 | J35: 截止24点 | K35: 2 | L35: 1 | M35: 1 | N35: 0.381 | O35: 0.381 | P35: 0.381 | Q35: =M35/H35 -> 0.005 | S35: =IFERROR(L35/K35,0) -> 0.5 | T35: =IFERROR(M35/L35,0) -> 1
A37: 每日汇总 | B37: 周五 | K37: =SUM(K38:K41) -> 117416 | L37: =SUM(L38:L41) -> 70210 | P37: =SUM(P38:P41) -> 238.992
A38: 46290 | B38: 万科 | C38: 8998645 | D38: com.king.candycrushsaga | E38: TH | F38: MTG | G38: 0.28 | H38: 200 | I38: =G38*H38*7 -> 392 | J38: 截止24点 | K38: 102 | L38: 46 | M38: 0 | N38: 0 | O38: 0 | P38: 0 | Q38: =M38/H38 -> 0 | S38: =IFERROR(L38/K38,0) -> 0.45098039 | T38: =IFERROR(M38/L38,0) -> 0
C39: 5497580 | D39: com.king.candycrushsaga | E39: TH | F39: MTG | G39: 0.28 | H39: 1300 | I39: =G39*H39*7 -> 2548 | J39: 截止24点 | K39: 93675 | L39: 54941 | M39: 745 | N39: 0.003 | O39: 0.249 | P39: 185.722 | Q39: =M39/H39 -> 0.57307692 | S39: =IFERROR(L39/K39,0) -> 0.58650654 | T39: =IFERROR(M39/L39,0) -> 0.013560001
C40: 91407542 | D40: com.king.candycrushsaga | E40: ID | F40: MTG | G40: 0.02 | H40: 600 | I40: =G40*H40*7 -> 84 | J40: 截止24点 | K40: 1301 | L40: 870 | M40: 6 | N40: 0 | O40: 0.023 | P40: 0.14 | Q40: =M40/H40 -> 0.01 | S40: =IFERROR(L40/K40,0) -> 0.66871637 | T40: =IFERROR(M40/L40,0) -> 0.0068965517
B41: 黄政 | C41: 6951594 | D41: com.king.candycrushsodasaga | E41: DE | F41: MTG | G41: 0.6 | H41: 250 | I41: =G41*H41*7 -> 1050 | J41: 截止24点 | K41: 22338 | L41: 14353 | M41: 76 | N41: 0.004 | O41: 0.699 | P41: 53.13 | Q41: =M41/H41 -> 0.304 | S41: =IFERROR(L41/K41,0) -> 0.64253738 | T41: =IFERROR(M41/L41,0) -> 0.0052950603
B42: 周梓君 | C42: 12072287 | D42: com.yandex.bank | E42: RU | F42: MTG | G42: 0.5 | H42: 200 | I42: =G42*H42*7 -> 700 | J42: 截止24点 | K42: 2 | L42: 0 | M42: 0 | N42: 0 | O42: 0 | P42: 0 | Q42: =M42/H42 -> 0 | S42: =IFERROR(L42/K42,0) -> 0 | T42: =IFERROR(M42/L42,0) -> 0
A44: 每日汇总 | B44: 周四 | K44: =SUM(K45:K48) -> 92352 | L44: =SUM(L45:L48) -> 56374 | P44: =SUM(P45:P48) -> 259.156
A45: 46289 | B45: 万科 | C45: 8998645 | D45: com.king.candycrushsaga | E45: TH | F45: MTG | G45: 0.28 | H45: 200 | I45: =G45*H45*7 -> 392 | J45: 截止24点 | K45: 29 | L45: 12 | M45: 0 | N45: 0 | O45: 0 | P45: 0 | Q45: =M45/H45 -> 0 | S45: =IFERROR(L45/K45,0) -> 0.4137931 | T45: =IFERROR(M45/L45,0) -> 0
C46: 5497580 | D46: com.king.candycrushsaga | E46: TH | F46: MTG | G46: 0.28 | H46: 1300 | I46: =G46*H46*7 -> 2548 | J46: 截止24点 | K46: 72929 | L46: 43401 | M46: 801 | N46: 0.005 | O46: 0.253 | P46: 202.696 | Q46: =M46/H46 -> 0.61615385 | S46: =IFERROR(L46/K46,0) -> 0.59511306 | T46: =IFERROR(M46/L46,0) -> 0.018455796
...

Sheet 数据透视表
B1: 39
A3: Adpingid | B3: 包名 | C3: 平台 | D3: 地区 | E3: 求和:平台转化数量 | F3: 求和:花费
A4: 11892329 | B4: com.amazon.mShop.android.shopping | C4: MTG | D4: BR | E4: 20914 | F4: 4691.59
A5: 7815836 | B5: com.kwai.bulldog | C5: MTG | D5: ID | E5: 28079 | F5: 3321.85
A6: 5464039 | B6: com.king.candycrushsaga | C6: MTG | D6: MY | E6: 9832 | F6: 2934.38
A7: 5497580 | B7: com.king.candycrushsaga | C7: MTG | D7: TH | E7: 11655 | F7: 2931.196
A8: 11511535 | B8: com.yandex.bank | C8: Mediago | D8: RU | E8: 4036 | F8: 1575.48
A9: 8291713 | B9: ru.kinopoisk | C9: MTG | D9: RU | E9: 10500 | F9: 1417.5
A10: 5963354 | B10: ru.ozon.app.android | C10: MTG | D10: KZ | E10: 2325 | F10: 1337.533
A11: 11690181 | B11: astrum.ent.m2alyona | C11: MTG | D11: RU | E11: 2800 | F11: 1176
A12: 8628042 | B12: asrtum.ent.domovyata | C12: Mediago | D12: RU | E12: 2609 | F12: 983.24
A13: 8460883 | B13: com.king.candycrushsodasaga | C13: MTG | D13: BR | E13: 6713 | F13: 938.294
A14: 6951594 | B14: com.king.candycrushsodasaga | C14: MTG | D14: DE | E14: 1258 | F14: 880.53
A15: 6607117 | B15: ru.aliexpress.buyer | C15: MTG | D15: RU | E15: 839 | F15: 840.159
... A154: 10295313 | B154: ru.uteka.app | C154: MTG | D154: RU | E154: 0 | F154: 0

Sheet Week39
E1: Week
A2: Adpingid | B2: 包名 | C2: 平台 | D2: 地区 | E2: 39 | F2: 38 | G2: 消耗环比 | H2: 变动原因：差值在+-15%的都需要仔细复盘 1、具体的预算增加或者控量动作的时间点 2、如果有降预算问清楚降预算原因 3、广告自身的变化：素材增加/衰退后的表现，子渠道调整，价格调整 4、外部变化：平台流量变化/竞争原因，比如CPM？CPC？CTR？CVR？是否有变动？ | I2: 下一步计划 (根据变动原因需要做出的对应动作，以及需要什么支持？比如cap超跑需要帮助check是否有bug，需要check事件表现，需要新素材，需要提价&加预算等等)
A3: 11892329 | B3: com.amazon.mShop.android.shopping | C3: MTG | D3: BR | E3: =SUMIFS('平台消耗统计'!I:I,'平台消耗统计'!A:A,$E$2,'平台消耗统计'!C:C,A3) -> 4691.59 | F3: =SUMIFS('平台消耗统计'!I:I,'平台消耗统计'!A:A,$F$2,'平台消耗统计'!C:C,A3) -> 1633.26 | G3: =IFERROR((E3-F3)/F3,0) -> 1.872531
A4: 7815836 | B4: com.kwai.bulldog | C4: MTG | D4: ID | E4: =SUMIFS('平台消耗统计'!I:I,'平台消耗统计'!A:A,$E$2,'平台消耗统计'!C:C,A4) -> 3321.85 | F4: =SUMIFS('平台消耗统计'!I:I,'平台消耗统计'!A:A,$F$2,'平台消耗统计'!C:C,A4) -> 2174.34 | G4: =IFERROR((E4-F4)/F4,0) -> 0.52775095
A5: 5464039 | B5: com.king.candycrushsaga | C5: MTG | D5: MY | E5: =SUMIFS('平台消耗统计'!I:I,'平台消耗统计'!A:A,$E$2,'平台消耗统计'!C:C,A5) -> 2934.38 | F5: =SUMIFS('平台消耗统计'!I:I,'平台消耗统计'!A:A,$F$2,'平台消耗统计'!C:C,A5) -> 3258.14 | G5: =IFERROR((E5-F5)/F5,0) -> -0.099369579
A6: 5497580 | B6: com.king.candycrushsaga | C6: MTG | D6: TH | E6: =SUMIFS('平台消耗统计'!I:I,'平台消耗统计'!A:A,$E$2,'平台消耗统计'!C:C,A6) -> 2931.196 | F6: =SUMIFS('平台消耗统计'!I:I,'平台消耗统计'!A:A,$F$2,'平台消耗统计'!C:C,A6) -> 2718.167 | G6: =IFERROR((E6-F6)/F6,0) -> 0.0783723
A7: 11511535 | B7: com.yandex.bank | C7: Mediago | D7: RU | E7: =SUMIFS('平台消耗统计'!I:I,'平台消耗统计'!A:A,$E$2,'平台消耗统计'!C:C,A7) -> 1575.48 | F7: =SUMIFS('平台消耗统计'!I:I,'平台消耗统计'!A:A,$F$2,'平台消耗统计'!C:C,A7) -> 805.32 | G7: =IFERROR((E7-F7)/F7,0) -> 0.95634034
A8: 8291713 | B8: ru.kinopoisk | C8: MTG | D8: RU | E8: =SUMIFS('平台消耗统计'!I:I,'平台消耗统计'!A:A,$E$2,'平台消耗统计'!C:C,A8) -> 1417.5 | F8: =SUMIFS('平台消耗统计'!I:I,'平台消耗统计'!A:A,$F$2,'平台消耗统计'!C:C,A8) -> 1417.5 | G8: =IFERROR((E8-F8)/F8,0) -> 0
A9: 5963354 | B9: ru.ozon.app.android | C9: MTG | D9: KZ | E9: =SUMIFS('平台消耗统计'!I:I,'平台消耗统计'!A:A,$E$2,'平台消耗统计'!C:C,A9) -> 1337.533 | F9: =SUMIFS('平台消耗统计'!I:I,'平台消耗统计'!A:A,$F$2,'平台消耗统计'!C:C,A9) -> 1279.208 | G9: =IFERROR((E9-F9)/F9,0) -> 0.045594618
A10: 11690181 | B10: astrum.ent.m2alyona | C10: MTG | D10: RU | E10: =SUMIFS('平台消耗统计'!I:I,'平台消耗统计'!A:A,$E$2,'平台消耗统计'!C:C,A10) -> 1176 | F10: =SUMIFS('平台消耗统计'!I:I,'平台消耗统计'!A:A,$F$2,'平台消耗统计'!C:C,A10) -> 1260 | G10: =IFERROR((E10-F10)/F10,0) -> -0.066666667
A11: 8628042 | B11: asrtum.ent.domovyata | C11: Mediago | D11: RU | E11: =SUMIFS('平台消耗统计'!I:I,'平台消耗统计'!A:A,$E$2,'平台消耗统计'!C:C,A11) -> 983.24 | F11: =SUMIFS('平台消耗统计'!I:I,'平台消耗统计'!A:A,$F$2,'平台消耗统计'!C:C,A11) -> 1130.97 | G11: =IFERROR((E11-F11)/F11,0) -> -0.13062239
A12: 8460883 | B12: com.king.candycrushsodasaga | C12: MTG | D12: BR | E12: =SUMIFS('平台消耗统计'!I:I,'平台消耗统计'!A:A,$E$2,'平台消耗统计'!C:C,A12) -> 938.294 | F12: =SUMIFS('平台消耗统计'!I:I,'平台消耗统计'!A:A,$F$2,'平台消耗统计'!C:C,A12) -> 911.96 | G12: =IFERROR((E12-F12)/F12,0) -> 0.028876267
A13: 6951594 | B13: com.king.candycrushsodasaga | C13: MTG | D13: DE | E13: =SUMIFS('平台消耗统计'!I:I,'平台消耗统计'!A:A,$E$2,'平台消耗统计'!C:C,A13) -> 880.53 | F13: =SUMIFS('平台消耗统计'!I:I,'平台消耗统计'!A:A,$F$2,'平台消耗统计'!C:C,A13) -> 791.56 | G13: =IFERROR((E13-F13)/F13,0) -> 0.1123983
A14: 6607117 | B14: ru.aliexpress.buyer | C14: MTG | D14: RU | E14: =SUMIFS('平台消耗统计'!I:I,'平台消耗统计'!A:A,$E$2,'平台消耗统计'!C:C,A14) -> 840.159 | F14: =SUMIFS('平台消耗统计'!I:I,'平台消耗统计'!A:A,$F$2,'平台消耗统计'!C:C,A14) -> 1019.803 | G14: =IFERROR((E14-F14)/F14,0) -> -0.17615559
... A153: 10295313 | B153: ru.uteka.app | C153: MTG | D153: RU | E153: =SUMIFS('平台消耗统计'!I:I,'平台消耗统计'!A:A,$E$2,'平台消耗统计'!C:C,A153) -> 0 | F153: =SUMIFS('平台消耗统计'!I:I,'平台消耗统计'!A:A,$F$2,'平台消耗统计'!C:C,A153) -> 0 | G153: =IFERROR((E153-F153)/F153,0) -> 0
E154: =SUMIFS('平台消耗统计'!I:I,'平台消耗统计'!A:A,$E$2,'平台消耗统计'!C:C,A154) -> 0 | F154: =SUMIFS('平台消耗统计'!I:I,'平台消耗统计'!A:A,$F$2,'平台消耗统计'!C:C,A154) -> 0 | G154: =IFERROR((E154-F154)/F154,0) -> 0
E155: =SUMIFS('平台消耗统计'!I:I,'平台消耗统计'!A:A,$E$2,'平台消耗统计'!C:C,A155) -> 0 | F155: =SUMIFS('平台消耗统计'!I:I,'平台消耗统计'!A:A,$F$2,'平台消耗统计'!C:C,A155) -> 0 | G155: =IFERROR((E155-F155)/F155,0) -> 0
E156: =SUMIFS('平台消耗统计'!I:I,'平台消耗统计'!A:A,$E$2,'平台消耗统计'!C:C,A156) -> 0 | F156: =SUMIFS('平台消耗统计'!I:I,'平台消耗统计'!A:A,$F$2,'平台消耗统计'!C:C,A156) -> 0 | G156: =IFERROR((E156-F156)/F156,0) -> 0
E157: =SUMIFS('平台消耗统计'!I:I,'平台消耗统计'!A:A,$E$2,'平台消耗统计'!C:C,A157) -> 0 | F157: =SUMIFS('平台消耗统计'!I:I,'平台消耗统计'!A:A,$F$2,'平台消耗统计'!C:C,A157) -> 0 | G157: =IFERROR((E157-F157)/F157,0) -> 0
E158: =SUMIFS('平台消耗统计'!I:I,'平台消耗统计'!A:A,$E$2,'平台消耗统计'!C:C,A158) -> 0 | F158: =SUMIFS('平台消耗统计'!I:I,'平台消耗统计'!A:A,$F$2,'平台消耗统计'!C:C,A158) -> 0 | G158: =IFERROR((E158-F158)/F158,0) -> 0
E159: =SUMIFS('平台消耗统计'!I:I,'平台消耗统计'!A:A,$E$2,'平台消耗统计'!C:C,A159) -> 0 | F159: =SUMIFS('平台消耗统计'!I:I,'平台消耗统计'!A:A,$F$2,'平台消耗统计'!C:C,A159) -> 0 | G159: =IFERROR((E159-F159)/F159,0) -> 0
E160: =SUMIFS('平台消耗统计'!I:I,'平台消耗统计'!A:A,$E$2,'平台消耗统计'!C:C,A160) -> 0 | F160: =SUMIFS('平台消耗统计'!I:I,'平台消耗统计'!A:A,$F$2,'平台消耗统计'!C:C,A160) -> 0 | G160: =IFERROR((E160-F160)/F160,0) -> 0
E161: =SUMIFS('平台消耗统计'!I:I,'平台消耗统计'!A:A,$E$2,'平台消耗统计'!C:C,A161) -> 0 | F161: =SUMIFS('平台消耗统计'!I:I,'平台消耗统计'!A:A,$F$2,'平台消耗统计'!C:C,A161) -> 0 | G161: =IFERROR((E161-F161)/F161,0) -> 0
E162: =SUMIFS('平台消耗统计'!I:I,'平台消耗统计'!A:A,$E$2,'平台消耗统计'!C:C,A162) -> 0 | F162: =SUMIFS('平台消耗统计'!I:I,'平台消耗统计'!A:A,$F$2,'平台消耗统计'!C:C,A162) -> 0 | G162: =IFERROR((E162-F162)/F162,0) -> 0
E163: =SUMIFS('平台消耗统计'!I:I,'平台消耗统计'!A:A,$E$2,'平台消耗统计'!C:C,A163) -> 0 | F163: =SUMIFS('平台消耗统计'!I:I,'平台消耗统计'!A:A,$F$2,'平台消耗统计'!C:C,A163) -> 0 | G163: =IFERROR((E163-F163)/F163,0) -> 0
E164: =SUMIFS('平台消耗统计'!I:I,'平台消耗统计'!A:A,$E$2,'平台消耗统计'!C:C,A164) -> 0 | F164: =SUMIFS('平台消耗统计'!I:I,'平台消耗统计'!A:A,$F$2,'平台消耗统计'!C:C,A164) -> 0 | G164: =IFERROR((E164-F164)/F164,0) -> 0
E165: =SUMIFS('平台消耗统计'!I:I,'平台消耗统计'!A:A,$E$2,'平台消耗统计'!C:C,A165) -> 0 | F165: =SUMIFS('平台消耗统计'!I:I,'平台消耗统计'!A:A,$F$2,'平台消耗统计'!C:C,A165) -> 0 | G165: =IFERROR((E165-F165)/F165,0) -> 0
... E172: =SUMIFS('平台消耗统计'!I:I,'平台消耗统计'!A:A,$E$2,'平台消耗统计'!C:C,A172) -> 0 | F172: =SUMIFS('平台消耗统计'!I:I,'平台消耗统计'!A:A,$F$2,'平台消耗统计'!C:C,A172) -> 0 | G172: =IFERROR((E172-F172)/F172,0) -> 0

Sheet Week38
E1: Week
A2: Adpingid | B2: 包名 | C2: 平台 | D2: 地区 | E2: 38 | F2: 37 | G2: 消耗环比 | H2: 变动原因：差值在+-15%的都需要仔细复盘 1、具体的预算增加或者控量动作的时间点 2、如果有降预算问清楚降预算原因 3、广告自身的变化：素材增加/衰退后的表现，子渠道调整，价格调整 4、外部变化：平台流量变化/竞争原因，比如CPM？CPC？CTR？CVR？是否有变动？ | I2: 下一步计划 (根据变动原因需要做出的对应动作，以及需要什么支持？比如cap超跑需要帮助check是否有bug，需要check事件表现，需要新素材，需要提价&加预算等等)
A3: 5464039 | B3: com.king.candycrushsaga | C3: MTG | D3: MY | E3: =SUMIFS('平台消耗统计'!I:I,'平台消耗统计'!A:A,$E$2,'平台消耗统计'!C:C,A3) -> 3258.14 | F3: =SUMIFS('平台消耗统计'!I:I,'平台消耗统计'!A:A,$F$2,'平台消耗统计'!C:C,A3) -> 2964.658 | G3: =IFERROR((E3-F3)/F3,0) -> 0.098993543 | H3: 9/16cap加到1700了 | I3: 继续观察，定期优化子渠道
A4: 5497580 | B4: com.king.candycrushsaga | C4: MTG | D4: TH | E4: =SUMIFS('平台消耗统计'!I:I,'平台消耗统计'!A:A,$E$2,'平台消耗统计'!C:C,A4) -> 2718.167 | F4: =SUMIFS('平台消耗统计'!I:I,'平台消耗统计'!A:A,$F$2,'平台消耗统计'!C:C,A4) -> 2394.791 | G4: =IFERROR((E4-F4)/F4,0) -> 0.13503308 | H4: 9/16cap加到1700，每天打满稳定 | I4: 定期优化子渠道保持量级不变。
A5: 8628042 | B5: asrtum.ent.domovyata | C5: Mediago | D5: RU | E5: =SUMIFS('平台消耗统计'!I:I,'平台消耗统计'!A:A,$E$2,'平台消耗统计'!C:C,A5) -> 1130.97 | F5: =SUMIFS('平台消耗统计'!I:I,'平台消耗统计'!A:A,$F$2,'平台消耗统计'!C:C,A5) -> 2183.6 | G5: =IFERROR((E5-F5)/F5,0) -> -0.48206173 | H5: 9.15cap从600降到500，9.20继续降到400每天都能打满 这周的成本降到了0.35 整体成本也降到了0.5 | I5: 继续保持打满
A6: 7815836 | B6: com.kwai.bulldog | C6: MTG | D6: ID | E6: =SUMIFS('平台消耗统计'!I:I,'平台消耗统计'!A:A,$E$2,'平台消耗统计'!C:C,A6) -> 2174.34 | F6: =SUMIFS('平台消耗统计'!I:I,'平台消耗统计'!A:A,$F$2,'平台消耗统计'!C:C,A6) -> 1845.055 | G6: =IFERROR((E6-F6)/F6,0) -> 0.17846893 | H6: 9.15出价从0.09提到了0.1并把主力渠道提到了0.12后9.19继续把主力渠道提到了0.16并新建广告没有剔除任何子渠道但出价只有0.08并把拒绝高的几个子渠道价格控制在0.07 对比上周量上涨了2000多个成本上了0.002 | I6: 继续提价优化子渠道上新素材
A7: 8291713 | B7: ru.kinopoisk | C7: MTG | D7: RU | E7: =SUMIFS('平台消耗统计'!I:I,'平台消耗统计'!A:A,$E$2,'平台消耗统计'!C:C,A7) -> 1417.5 | F7: =SUMIFS('平台消耗统计'!I:I,'平台消耗统计'!A:A,$F$2,'平台消耗统计'!C:C,A7) -> 1419.397 | G7: =IFERROR((E7-F7)/F7,0) -> -0.001336483 | H7: 最近已变稳定，每日打满cap | I7: 继续保持打满cap
A8: 11690181 | B8: astrum.ent.m2alyona | C8: MTG | D8: RU | E8: =SUMIFS('平台消耗统计'!I:I,'平台消耗统计'!A:A,$E$2,'平台消耗统计'!C:C,A8) -> 1260 | F8: =SUMIFS('平台消耗统计'!I:I,'平台消耗统计'!A:A,$F$2,'平台消耗统计'!C:C,A8) -> 1412.55 | G8: =IFERROR((E8-F8)/F8,0) -> -0.10799618 | H8: 稳定订单 9.16cap从500降到400 每天都能打满 | I8: 继续保持打满
A9: 5963354 | B9: ru.ozon.app.android | C9: MTG | D9: KZ | E9: =SUMIFS('平台消耗统计'!I:I,'平台消耗统计'!A:A,$E$2,'平台消耗统计'!C:C,A9) -> 1279.208 | F9: =SUMIFS('平台消耗统计'!I:I,'平台消耗统计'!A:A,$F$2,'平台消耗统计'!C:C,A9) -> 1299.066 | G9: =IFERROR((E9-F9)/F9,0) -> -0.015286367 | H9: 合理范围内波动，转化量略有掉 | I9: 正常更新一组素材
A10: 8460883 | B10: com.king.candycrushsodasaga | C10: MTG | D10: BR | E10: =SUMIFS('平台消耗统计'!I:I,'平台消耗统计'!A:A,$E$2,'平台消耗统计'!C:C,A10) -> 911.96 | F10: =SUMIFS('平台消耗统计'!I:I,'平台消耗统计'!A:A,$F$2,'平台消耗统计'!C:C,A10) -> 1157.646 | G10: =IFERROR((E10-F10)/F10,0) -> -0.21222895 | H10: 更新了新的素材，之前有量的渠道在gp商店下架了有影响，也在做渠道的价格调整 | I10: 继续做渠道的调整
A11: 6951594 | B11: com.king.candycrushsodasaga | C11: MTG | D11: DE | E11: =SUMIFS('平台消耗统计'!I:I,'平台消耗统计'!A:A,$E$2,'平台消耗统计'!C:C,A11) -> 791.56 | F11: =SUMIFS('平台消耗统计'!I:I,'平台消耗统计'!A:A,$F$2,'平台消耗统计'!C:C,A11) -> 1113 | G11: =IFERROR((E11-F11)/F11,0) -> -0.28880503 | H11: 更新了新的素材，之前有量的渠道在gp商店下架了有影响，也在做渠道的价格调整 | I11: 继续做渠道的调整
A12: 10912510 | B12: com.amazon.mShop.android.shopping | C12: Kwai | D12: BR | E12: =SUMIFS('平台消耗统计'!I:I,'平台消耗统计'!A:A,$E$2,'平台消耗统计'!C:C,A12) -> 874.7 | F12: =SUMIFS('平台消耗统计'!I:I,'平台消耗统计'!A:A,$F$2,'平台消耗统计'!C:C,A12) -> 948.56 | G12: =IFERROR((E12-F12)/F12,0) -> -0.077865396 | H12: 差值没多少，但是转化量级差很多，目前基本是超成本在跑，新户成本更高接近2刀，考虑关掉新户 | I12: 继续上新素材和换户跑
A13: 6607117 | B13: ru.aliexpress.buyer | C13: MTG | D13: RU | E13: =SUMIFS('平台消耗统计'!I:I,'平台消耗统计'!A:A,$E$2,'平台消耗统计'!C:C,A13) -> 1019.803 | F13: =SUMIFS('平台消耗统计'!I:I,'平台消耗统计'!A:A,$F$2,'平台消耗统计'!C:C,A13) -> 879.32 | G13: =IFERROR((E13-F13)/F13,0) -> 0.15976323 | H13: CPE正常差值，成本上来了一点。每天基本稳定 | I13: 定期优化素材保持量级不变
A14: 2732727 | B14: com.amazon.mShop.android.shopping | C14: MTG | D14: SA | E14: =SUMIFS('平台消耗统计'!I:I,'平台消耗统计'!A:A,$E$2,'平台消耗统计'!C:C,A14) -> 616.35 | F14: =SUMIFS('平台消耗统计'!I:I,'平台消耗统计'!A:A,$F$2,'平台消耗统计'!C:C,A14) -> 807.725 | G14: =IFERROR((E14-F14)/F14,0) -> -0.23693089 | H14: 更新了新的素材，在做渠道价格调整 | I14: 继续做渠道的调整
... A25: 9333145 | B25: com.gloriajeans.mobile | C25: Mediago | D25: RU | E25: =SUMIFS('平台消耗统计'!I:I,'平台消耗统计'!A:A,$E$2,'平台消耗统计'!C:C,A25) -> 267.12 | F25: =SUMIFS('平台消耗统计'!I:I,'平台消耗统计'!A:A,$F$2,'平台消耗统计'!C:C,A25) -> 333.79 | G25: =IFERROR((E25-F25)/F25,0) -> -0.19973636 | H25: 9/15出价降到0.35 | I25: 新单元上了素材没跑出来，今天给老单元也上了，后续观察一下
A26: 2783561 | B26: com.uma.musicvk | C26: MTG | D26: RU | E26: =SUMIFS('平台消耗统计'!I:I,'平台消耗统计'!A:A,$E$2,'平台消耗统计'!C:C,A26) -> 310.05 | F26: =SUMIFS('平台消耗统计'!I:I,'平台消耗统计'!A:A,$F$2,'平台消耗统计'!C:C,A26) -> 305.94 | G26: =IFERROR((E26-F26)/F26,0) -> 0.013434007 | H26: 每天量最只能90%，争取全部拿满从子渠道和素材方面操作
A27: 10599681 | B27: ru.kinopoisk | C27: MTG | D27: RU | E27: =SUMIFS('平台消耗统计'!I:I,'平台消耗统计'!A:A,$E$2,'平台消耗统计'!C:C,A27) -> 279.63 | F27: =SUMIFS('平台消耗统计'!I:I,'平台消耗统计'!A:A,$F$2,'平台消耗统计'!C:C,A27) -> 290.94 | G27: =IFERROR((E27-F27)/F27,0) -> -0.038873995 | H27: 人群包订单每天打满，偶尔小波动。 | I27: 定期优化素材保持量级不变
A28: 10813123 | B28: com.amazon.mShop.android.shopping | C28: Bigo | D28: BR | E28: =SUMIFS('平台消耗统计'!I:I,'平台消耗统计'!A:A,$E$2,'平台消耗统计'!C:C,A28) -> 171.888 | F28: =SUMIFS('平台消耗统计'!I:I,'平台消耗统计'!A:A,$F$2,'平台消耗统计'!C:C,A28) -> 279.2833 | G28: =IFERROR((E28-F28)/F28,0) -> -0.38453893 | H28: 新户也没量，老户的量也在掉 | I28: 继续堆素材和户
A29: 10298628 | B29: ru.mobstudio.andgalaxy | C29: Mediago | D29: RU | E29: =SUMIFS('平台消耗统计'!I:I,'平台消耗统计'!A:A,$E$2,'平台消耗统计'!C:C,A29) -> 218.69 | F29: =SUMIFS('平台消耗统计'!I:I,'平台消耗统计'!A:A,$F$2,'平台消耗统计'!C:C,A29) -> 275.48 | G29: =IFERROR((E29-F29)/F29,0) -> -0.20614927 | H29: 控成本价格降下来了，每天打满。 | I29: 定期优化素材保持量级不变
A30: 91399821 | B30: ru.kinopoisk | C30: Mediago | D30: RU | E30: =SUMIFS('平台消耗统计'!I:I,'平台消耗统计'!A:A,$E$2,'平台消耗统计'!C:C,A30) -> 298.42 | F30: =SUMIFS('平台消耗统计'!I:I,'平台消耗统计'!A:A,$F$2,'平台消耗统计'!C:C,A30) -> 258.2 | G30: =IFERROR((E30-F30)/F30,0) -> 0.15577072 | H30: 稳定订单，有时会因为实际跑出CPI不同导致价格不一样 | I30: 继续观察
A31: 6425889 | B31: com.amazon.mShop.android.shopping | C31: MTG | D31: ZA | E31: =SUMIFS('平台消耗统计'!I:I,'平台消耗统计'!A:A,$E$2,'平台消耗统计'!C:C,A31) -> 263.55 | F31: =SUMIFS('平台消耗统计'!I:I,'平台消耗统计'!A:A,$F$2,'平台消耗统计'!C:C,A31) -> 246.025 | G31: =IFERROR((E31-F31)/F31,0) -> 0.071232598 | H31: 调整了渠道价格和素材，略有提升 | I31: 保持量级正常。
A32: 6060965 | B32: ru.aliexpress.buyer | C32: MTG | D32: RU | E32: =SUMIFS('平台消耗统计'!I:I,'平台消耗统计'!A:A,$E$2,'平台消耗统计'!C:C,A32) -> 189.02 | F32: =SUMIFS('平台消耗统计'!I:I,'平台消耗统计'!A:A,$F$2,'平台消耗统计'!C:C,A32) -> 227.03 | G32: =IFERROR((E32-F32)/F32,0) -> -0.16742281 | H32: 人群包订单9/8 cap200>100，目前每天打满 | I32: 定期优化子渠道保持量级不变。
A33: 7572369 | B33: com.amazon.mShop.android.shopping | C33: MTG | D33: AE | E33: =SUMIFS('平台消耗统计'!I:I,'平台消耗统计'!A:A,$E$2,'平台消耗统计'!C:C,A33) -> 196.68 | F33: =SUMIFS('平台消耗统计'!I:I,'平台消耗统计'!A:A,$F$2,'平台消耗统计'!C:C,A33) -> 220.89 | G33: =IFERROR((E33-F33)/F33,0) -> -0.10960206 | H33: 调整了渠道价格和素材，效果有限 | I33: 考虑直接关闭然后上新的系列
A34: 10599157 | B34: com.edadeal.android | C34: MTG | D34: RU | E34: =SUMIFS('平台消耗统计'!I:I,'平台消耗统计'!A:A,$E$2,'平台消耗统计'!C:C,A34) -> 218.8 | F34: =SUMIFS('平台消耗统计'!I:I,'平台消耗统计'!A:A,$F$2,'平台消耗统计'!C:C,A34) -> 219.95 | G34: =IFERROR((E34-F34)/F34,0) -> -0.005228461 | H34: 人群包订单每天打满，偶尔小波动。 | I34: 定期优化素材保持量级不变
A35: 4383473 | B35: ru.aliexpress.buyer | C35: MTG | D35: RU | E35: =SUMIFS('平台消耗统计'!I:I,'平台消耗统计'!A:A,$E$2,'平台消耗统计'!C:C,A35) -> 207.918 | F35: =SUMIFS('平台消耗统计'!I:I,'平台消耗统计'!A:A,$F$2,'平台消耗统计'!C:C,A35) -> 199.476 | G35: =IFERROR((E35-F35)/F35,0) -> 0.042320881 | H35: 订单每天打满 | I35: 定期优化素材保持量级不变
A36: 7202934 | B36: com.fxpro.direct.application | C36: MTG | D36: PK | E36: =SUMIFS('平台消耗统计'!I:I,'平台消耗统计'!A:A,$E$2,'平台消耗统计'!C:C,A36) -> 231.35 | F36: =SUMIFS('平台消耗统计'!I:I,'平台消耗统计'!A:A,$F$2,'平台消耗统计'!C:C,A36) -> 195.57 | G36: =IFERROR((E36-F36)/F36,0) -> 0.1829524 | H36: 上周与am沟通后，不能提价，但转化有所提升 | I36: 继续更新渠道
A37: 91551388 | B37: com.netease.newspike | C37: Bigo | D37: US | E37: =SUMIFS('平台消耗统计'!I:I,'平台消耗统计'!A:A,$E$2,'平台消耗统计'!C:C,A37) -> 144.3534 | F37: =SUMIFS('平台消耗统计'!I:I,'平台消耗统计'!A:A,$F$2,'平台消耗统计'!C:C,A37) -> 175.845 | G37: =IFERROR((E37-F37)/F37,0) -> -0.17908726 | H37: 素材掉量，上了新的素材但仍没转化 | I37: 已根据出转素材上新素材，观察一下情况，不行就去其他账户建新单元
A38: 91496146 | B38: com.vitastudio.mahjong | C38: MTG | D38: MY | E38: =SUMIFS('平台消耗统计'!I:I,'平台消耗统计'!A:A,$E$2,'平台消耗统计'!C:C,A38) -> 78.68 | F38: =SUMIFS('平台消耗统计'!I:I,'平台消耗统计'!A:A,$F$2,'平台消耗统计'!C:C,A38) -> 173.46 | G38: =IFERROR((E38-F38)/F38,0) -> -0.54640839 | H38: 这周建了新链接的订单后这个单子每天下午就不转化了 不知道是不是客户那边设置了 | I38: 上新素材优化渠道
... A41: 5963400 | B41: ru.ozon.app.android | C41: MTG | D41: UZ | E41: =SUMIFS('平台消耗统计'!I:I,'平台消耗统计'!A:A,$E$2,'平台消耗统计'!C:C,A41) -> 68.2 | F41: =SUMIFS('平台消耗统计'!I:I,'平台消耗统计'!A:A,$F$2,'平台消耗统计'!C:C,A41) -> 163.55 | G41: =IFERROR((E41-F41)/F41,0) -> -0.58300214 | H41: 9/7 cap 300→100 出价0.4→0.2，日消耗降低 | I41: 保持打满cap
A42: 91548043 | B42: com.king.candycrushsaga | C42: MTG | D42: FR | E42: =SUMIFS('平台消耗统计'!I:I,'平台消耗统计'!A:A,$E$2,'平台消耗统计'!C:C,A42) -> 20.8 | F42: =SUMIFS('平台消耗统计'!I:I,'平台消耗统计'!A:A,$F$2,'平台消耗统计'!C:C,A42) -> 158.4 | G42: =IFERROR((E42-F42)/F42,0) -> -0.86868687 | H42: 转到新的链接新的adpingid了
A43: 91560709 | B43: com.king.candycrushsaga | C43: MTG | D43: VN | E43: =SUMIFS('平台消耗统计'!I:I,'平台消耗统计'!A:A,$E$2,'平台消耗统计'!C:C,A43) -> 210 | F43: =SUMIFS('平台消耗统计'!I:I,'平台消耗统计'!A:A,$F$2,'平台消耗统计'!C:C,A43) -> 151.74 | G43: =IFERROR((E43-F43)/F43,0) -> 0.38394622 | H43: 每日打满 | I43: 保持打满cap
A44: 6439005 | B44: com.amazon.mShop.android.shopping | C44: Eagllwin | D44: ZA | E44: =SUMIFS('平台消耗统计'!I:I,'平台消耗统计'!A:A,$E$2,'平台消耗统计'!C:C,A44) -> 164.5 | F44: =SUMIFS('平台消耗统计'!I:I,'平台消耗统计'!A:A,$F$2,'平台消耗统计'!C:C,A44) -> 149.5 | G44: =IFERROR((E44-F44)/F44,0) -> 0.10033445 | H44: 正常波动 | I44: 保持量级正常。
A45: 91467820 | B45: com.vitastudio.mahjong | C45: MTG | D45: ID | E45: =SUMIFS('平台消耗统计'!I:I,'平台消耗统计'!A:A,$E$2,'平台消耗统计'!C:C,A45) -> 169.1 | F45: =SUMIFS('平台消耗统计'!I:I,'平台消耗统计'!A:A,$F$2,'平台消耗统计'!C:C,A45) -> 140 | G45: =IFERROR((E45-F45)/F45,0) -> 0.20785714 | H45: 稳定订单 week38每天都能跑超几十个 应该是客户那边后台设定上涨了一点 | I45: 继续保持
A46: 8819666 | B46: com.yandex.lavka | C46: Bigo | D46: RU | E46: =SUMIFS('平台消耗统计'!I:I,'平台消耗统计'!A:A,$E$2,'平台消耗统计'!C:C,A46) -> 140.4514 | F46: =SUMIFS('平台消耗统计'!I:I,'平台消耗统计'!A:A,$F$2,'平台消耗统计'!C:C,A46) -> 139.2306 | G46: =IFERROR((E46-F46)/F46,0) -> 0.0087681875 | H46: 每日打满 | I46: 继续保持
A47: 9686529 | B47: ru.ozon.app.android | C47: MTG | D47: KG | E47: =SUMIFS('平台消耗统计'!I:I,'平台消耗统计'!A:A,$E$2,'平台消耗统计'!C:C,A47) -> 134.5 | F47: =SUMIFS('平台消耗统计'!I:I,'平台消耗统计'!A:A,$F$2,'平台消耗统计'!C:C,A47) -> 135.5 | G47: =IFERROR((E47-F47)/F47,0) -> -0.0073800738 | H47: 合理范围内波动 | I47: 更新素材，提升CVR
A48: 91496147 | B48: com.vitastudio.mahjong | C48: MTG | D48: BR | E48: =SUMIFS('平台消耗统计'!I:I,'平台消耗统计'!A:A,$E$2,'平台消耗统计'!C:C,A48) -> 128.05 | F48: =SUMIFS('平台消耗统计'!I:I,'平台消耗统计'!A:A,$F$2,'平台消耗统计'!C:C,A48) -> 125.45 | G48: =IFERROR((E48-F48)/F48,0) -> 0.020725389 | H48: 稳定订单 | I48: 继续保持
A49: 12011132 | B49: ru.rt.video.app.mobile | C49: MTG | D49: RU | E49: =SUMIFS('平台消耗统计'!I:I,'平台消耗统计'!A:A,$E$2,'平台消耗统计'!C:C,A49) -> 180 | F49: =SUMIFS('平台消耗统计'!I:I,'平台消耗统计'!A:A,$F$2,'平台消耗统计'!C:C,A49) -> 120 | G49: =IFERROR((E49-F49)/F49,0) -> 0.5 | H49: 9/17 cap 100→150，日消耗增多 | I49: 继续保持打满cap
A50: 91467821 | B50: com.vitastudio.mahjong | C50: MTG | D50: TH | E50: =SUMIFS('平台消耗统计'!I:I,'平台消耗统计'!A:A,$E$2,'平台消耗统计'!C:C,A50) -> 117.81 | F50: =SUMIFS('平台消耗统计'!I:I,'平台消耗统计'!A:A,$F$2,'平台消耗统计'!C:C,A50) -> 119 | G50: =IFERROR((E50-F50)/F50,0) -> -0.01 | H50: 稳定订单 | I50: 继续保持
A51: 6951600 | B51: com.king.candycrushsodasaga | C51: MTG | D51: TH | E51: =SUMIFS('平台消耗统计'!I:I,'平台消耗统计'!A:A,$E$2,'平台消耗统计'!C:C,A51) -> 78.648 | F51: =SUMIFS('平台消耗统计'!I:I,'平台消耗统计'!A:A,$F$2,'平台消耗统计'!C:C,A51) -> 113.866 | G51: =IFERROR((E51-F51)/F51,0) -> -0.30929338 | H51: 现在极其不稳定，每日浮动巨大，可能与部分渠道转变有关 | I51: 更新素材，提升CVR
A52: 10765365 | B52: ph.com.bdo.pay | C52: MTG | D52: PH | E52: =SUMIFS('平台消耗统计'!I:I,'平台消耗统计'!A:A,$E$2,'平台消耗统计'!C:C,A52) -> 116.22 | F52: =SUMIFS('平台消耗统计'!I:I,'平台消耗统计'!A:A,$F$2,'平台消耗统计'!C:C,A52) -> 111.24 | G52: =IFERROR((E52-F52)/F52,0) -> 0.044768069 | H52: 稳定订单 每天都能打满 | I52: 继续保持
...

Sheet Week37
E1: Week
A2: Adpingid | B2: 包名 | C2: 平台 | D2: 地区 | E2: 37 | F2: 36 | G2: 消耗环比 | H2: 变动原因：差值在+-15%的都需要仔细复盘 1、具体的预算增加或者控量动作的时间点 2、如果有降预算问清楚降预算原因 3、广告自身的变化：素材增加/衰退后的表现，子渠道调整，价格调整 4、外部变化：平台流量变化/竞争原因，比如CPM？CPC？CTR？CVR？是否有变动？ | I2: 下一步计划 (根据变动原因需要做出的对应动作，以及需要什么支持？比如cap超跑需要帮助check是否有bug，需要check事件表现，需要新素材，需要提价&加预算等等)
A3: 5464039 | B3: com.king.candycrushsaga | C3: MTG | D3: MY | E3: =SUMIFS('平台消耗统计'!I:I,'平台消耗统计'!A:A,$E$2,'平台消耗统计'!C:C,A3) -> 2964.658 | F3: =SUMIFS('平台消耗统计'!I:I,'平台消耗统计'!A:A,$F$2,'平台消耗统计'!C:C,A3) -> 2285.57 | G3: =IFERROR((E3-F3)/F3,0) -> 0.29711976 | H3: 新单元之前降价量下降了，加了一点量慢慢起来了 | I3: 最近打满了，优化事件
A4: 5497580 | B4: com.king.candycrushsaga | C4: MTG | D4: TH | E4: =SUMIFS('平台消耗统计'!I:I,'平台消耗统计'!A:A,$E$2,'平台消耗统计'!C:C,A4) -> 2394.791 | F4: =SUMIFS('平台消耗统计'!I:I,'平台消耗统计'!A:A,$F$2,'平台消耗统计'!C:C,A4) -> 2143.948 | G4: =IFERROR((E4-F4)/F4,0) -> 0.11700051 | H4: 正常差值，稳定每天跑满。 | I4: 稳定流量，定期优化没用的子渠道
A5: 8628042 | B5: asrtum.ent.domovyata | C5: Mediago | D5: RU | E5: =SUMIFS('平台消耗统计'!I:I,'平台消耗统计'!A:A,$E$2,'平台消耗统计'!C:C,A5) -> 2183.6 | F5: =SUMIFS('平台消耗统计'!I:I,'平台消耗统计'!A:A,$F$2,'平台消耗统计'!C:C,A5) -> 2123.53 | G5: =IFERROR((E5-F5)/F5,0) -> 0.028287804 | H5: 正常差值，每天都在控成本，这周的成本从上周的0.59降到了0.51，整体成本在0.55还需要继续压下 | I5: 稳住消耗并继续下压成本
A6: 7815836 | B6: com.kwai.bulldog | C6: MTG | D6: ID | E6: =SUMIFS('平台消耗统计'!I:I,'平台消耗统计'!A:A,$E$2,'平台消耗统计'!C:C,A6) -> 1845.055 | F6: =SUMIFS('平台消耗统计'!I:I,'平台消耗统计'!A:A,$F$2,'平台消耗统计'!C:C,A6) -> 2308.63 | G6: =IFERROR((E6-F6)/F6,0) -> -0.20080091 | H6: 9.7下调了出价从0.15降到了0.095，直接导致量掉了很多，9.9又再上调到0.1并上新素材后稍微慢慢回复不过目前每天的量也只能在3000个左右 | I6: 先继续控住成本到0.1不亏，目前是0.103
A7: 8291713 | B7: ru.kinopoisk | C7: MTG | D7: RU | E7: =SUMIFS('平台消耗统计'!I:I,'平台消耗统计'!A:A,$E$2,'平台消耗统计'!C:C,A7) -> 1419.397 | F7: =SUMIFS('平台消耗统计'!I:I,'平台消耗统计'!A:A,$F$2,'平台消耗统计'!C:C,A7) -> 1468.57 | G7: =IFERROR((E7-F7)/F7,0) -> -0.033483593 | H7: 降低了一丢丢出价，消耗减少 | I7: 继续保持每日打满cap
A8: 11690181 | B8: astrum.ent.m2alyona | C8: MTG | D8: RU | E8: =SUMIFS('平台消耗统计'!I:I,'平台消耗统计'!A:A,$E$2,'平台消耗统计'!C:C,A8) -> 1412.55 | F8: =SUMIFS('平台消耗统计'!I:I,'平台消耗统计'!A:A,$F$2,'平台消耗统计'!C:C,A8) -> 745.14 | G8: =IFERROR((E8-F8)/F8,0) -> 0.89568403 | H8: 比较稳定 week36cap加到500后基本每天都能打满cap500个只有两天差二十多个 | I8: 继续保持稳定打满
A9: 5963354 | B9: ru.ozon.app.android | C9: MTG | D9: KZ | E9: =SUMIFS('平台消耗统计'!I:I,'平台消耗统计'!A:A,$E$2,'平台消耗统计'!C:C,A9) -> 1299.066 | F9: =SUMIFS('平台消耗统计'!I:I,'平台消耗统计'!A:A,$F$2,'平台消耗统计'!C:C,A9) -> 1396.642 | G9: =IFERROR((E9-F9)/F9,0) -> -0.069864718 | H9: Week37转化下降，合理波动 | I9: 正常更新素材
A10: 8460883 | B10: com.king.candycrushsodasaga | C10: MTG | D10: BR | E10: =SUMIFS('平台消耗统计'!I:I,'平台消耗统计'!A:A,$E$2,'平台消耗统计'!C:C,A10) -> 1157.646 | F10: =SUMIFS('平台消耗统计'!I:I,'平台消耗统计'!A:A,$F$2,'平台消耗统计'!C:C,A10) -> 988.918 | G10: =IFERROR((E10-F10)/F10,0) -> 0.1706188 | H10: 正常差值，转化略有提升 | I10: 争取拿到更多的量，定期优化素材
A11: 6951594 | B11: com.king.candycrushsodasaga | C11: MTG | D11: DE | E11: =SUMIFS('平台消耗统计'!I:I,'平台消耗统计'!A:A,$E$2,'平台消耗统计'!C:C,A11) -> 1113 | F11: =SUMIFS('平台消耗统计'!I:I,'平台消耗统计'!A:A,$F$2,'平台消耗统计'!C:C,A11) -> 950.85 | G11: =IFERROR((E11-F11)/F11,0) -> 0.17053163 | H11: 正常差值，转化略有提升 | I11: 争取拿到更多的量，定期优化素材
A12: 10912510 | B12: com.amazon.mShop.android.shopping | C12: Kwai | D12: BR | E12: =SUMIFS('平台消耗统计'!I:I,'平台消耗统计'!A:A,$E$2,'平台消耗统计'!C:C,A12) -> 948.56 | F12: =SUMIFS('平台消耗统计'!I:I,'平台消耗统计'!A:A,$F$2,'平台消耗统计'!C:C,A12) -> 1259.13 | G12: =IFERROR((E12-F12)/F12,0) -> -0.24665444 | H12: 周三掉量，目前在稳定恢复
A13: 6607117 | B13: ru.aliexpress.buyer | C13: MTG | D13: RU | E13: =SUMIFS('平台消耗统计'!I:I,'平台消耗统计'!A:A,$E$2,'平台消耗统计'!C:C,A13) -> 879.32 | F13: =SUMIFS('平台消耗统计'!I:I,'平台消耗统计'!A:A,$F$2,'平台消耗统计'!C:C,A13) -> 927.809 | G13: =IFERROR((E13-F13)/F13,0) -> -0.052261834 | H13: 正常差值，CPE订单偶尔有波动。 | I13: 争取拿到更多的量，定期优化素材
A14: 2732727 | B14: com.amazon.mShop.android.shopping | C14: MTG | D14: SA | E14: =SUMIFS('平台消耗统计'!I:I,'平台消耗统计'!A:A,$E$2,'平台消耗统计'!C:C,A14) -> 807.725 | F14: =SUMIFS('平台消耗统计'!I:I,'平台消耗统计'!A:A,$F$2,'平台消耗统计'!C:C,A14) -> 1000.725 | G14: =IFERROR((E14-F14)/F14,0) -> -0.19286018 | H14: 在掉量，已经调整渠道和新建系列 | I14: 争取拿到更多的量，定期优化素材
A15: 10514860 | B15: com.esprit.rpg.lttlefirykng | C15: MTG | D15: RU | E15: =SUMIFS('平台消耗统计'!I:I,'平台消耗统计'!A:A,$E$2,'平台消耗统计'!C:C,A15) -> 730.1 | F15: =SUMIFS('平台消耗统计'!I:I,'平台消耗统计'!A:A,$F$2,'平台消耗统计'!C:C,A15) -> 723.8 | G15: =IFERROR((E15-F15)/F15,0) -> 0.0087040619 | H15: 每天量波动比较大，但拉周来看量级很稳定 | I15: 继续观察
A16: 11892329 | B16: com.amazon.mShop.android.shopping | C16: MTG | D16: BR | E16: =SUMIFS('平台消耗统计'!I:I,'平台消耗统计'!A:A,$E$2,'平台消耗统计'!C:C,A16) -> 685.06 | F16: =SUMIFS('平台消耗统计'!I:I,'平台消耗统计'!A:A,$F$2,'平台消耗统计'!C:C,A16) -> 521.5 | G16: =IFERROR((E16-F16)/F16,0) -> 0.31363375 | H16: 比较稳定 正常差值，0.2打不满，提到了0.22 | I16: 争取拿到更多的量，定期优化素材
A17: 8094753 | B17: ru.aliexpress.buyer | C17: Mediago | D17: RU | E17: =SUMIFS('平台消耗统计'!I:I,'平台消耗统计'!A:A,$E$2,'平台消耗统计'!C:C,A17) -> 649.42 | F17: =SUMIFS('平台消耗统计'!I:I,'平台消耗统计'!A:A,$F$2,'平台消耗统计'!C:C,A17) -> 354.55 | G17: =IFERROR((E17-F17)/F17,0) -> 0.83167395 | H17: 9/9 cap 200>400 每天基本打满。 | I17: 定期优化素材，稳定流量。
A18: 8156506 | B18: com.yandex.lavka | C18: MTG | D18: RU | E18: =SUMIFS('平台消耗统计'!I:I,'平台消耗统计'!A:A,$E$2,'平台消耗统计'!C:C,A18) -> 583.1 | F18: =SUMIFS('平台消耗统计'!I:I,'平台消耗统计'!A:A,$F$2,'平台消耗统计'!C:C,A18) -> 601.55 | G18: =IFERROR((E18-F18)/F18,0) -> -0.030670767 | H18: 价格略低，不够稳定，目前已经提价0.1提到0.13 | I18: 已经提价
A19: 1745925 | B19: tech.jm | C19: MTG | D19: RU | E19: =SUMIFS('平台消耗统计'!I:I,'平台消耗统计'!A:A,$E$2,'平台消耗统计'!C:C,A19) -> 472.2 | F19: =SUMIFS('平台消耗统计'!I:I,'平台消耗统计'!A:A,$F$2,'平台消耗统计'!C:C,A19) -> 477.6 | G19: =IFERROR((E19-F19)/F19,0) -> -0.011306533 | H19: 有一天抽风没跑满，其余时间均跑满 | I19: 争取拿到更多的量，定期优化素材
A20: 7872826 | B20: asrtum.ent.domovyata | C20: MTG | D20: RU | E20: =SUMIFS('平台消耗统计'!I:I,'平台消耗统计'!A:A,$E$2,'平台消耗统计'!C:C,A20) -> 424.41 | F20: =SUMIFS('平台消耗统计'!I:I,'平台消耗统计'!A:A,$F$2,'平台消耗统计'!C:C,A20) -> 490.654 | G20: =IFERROR((E20-F20)/F20,0) -> -0.13501164 | H20: 降价和降cap后昨日已经重新打满新的cap要求 | I20: 争取拿到更多的量，定期优化素材
A21: 6395488 | B21: com.edadeal.android | C21: MTG | D21: RU | E21: =SUMIFS('平台消耗统计'!I:I,'平台消耗统计'!A:A,$E$2,'平台消耗统计'!C:C,A21) -> 420 | F21: =SUMIFS('平台消耗统计'!I:I,'平台消耗统计'!A:A,$F$2,'平台消耗统计'!C:C,A21) -> 420 | G21: =IFERROR((E21-F21)/F21,0) -> 0 | H21: 稳定订单 | I21: 继续保持每日打满cap
A22: 9297014 | B22: tech.jm | C22: Mediago | D22: RU | E22: =SUMIFS('平台消耗统计'!I:I,'平台消耗统计'!A:A,$E$2,'平台消耗统计'!C:C,A22) -> 407.45 | F22: =SUMIFS('平台消耗统计'!I:I,'平台消耗统计'!A:A,$F$2,'平台消耗统计'!C:C,A22) -> 287.49 | G22: =IFERROR((E22-F22)/F22,0) -> 0.41726669 | H22: 转化量就差了几十个但这周成本从0.19涨到了0.26 上涨比较多，9.11上新素材并下调价格后成本开始走低 | I22: 压住价格，持续上新素材
A23: 11511535 | B23: com.yandex.bank | C23: Mediago | D23: RU | E23: =SUMIFS('平台消耗统计'!I:I,'平台消耗统计'!A:A,$E$2,'平台消耗统计'!C:C,A23) -> 403.08 | F23: =SUMIFS('平台消耗统计'!I:I,'平台消耗统计'!A:A,$F$2,'平台消耗统计'!C:C,A23) -> 234.48 | G23: =IFERROR((E23-F23)/F23,0) -> 0.71903787 | H23: Week37转化量大幅提升，且成本可控，可喜可贺 | I23: 观察流量波动，调整出价
A24: 8566541 | B24: ru.yandex.music | C24: Mediago | D24: RU | E24: =SUMIFS('平台消耗统计'!I:I,'平台消耗统计'!A:A,$E$2,'平台消耗统计'!C:C,A24) -> 353.93 | F24: =SUMIFS('平台消耗统计'!I:I,'平台消耗统计'!A:A,$F$2,'平台消耗统计'!C:C,A24) -> 183.42 | G24: =IFERROR((E24-F24)/F24,0) -> 0.92961509 | H24: Week37转化量大幅提升，且成本可控，可喜可贺 | I24: 观察流量波动，调整出价
... A42: 91548043 | B42: com.king.candycrushsaga | C42: MTG | D42: FR | E42: =SUMIFS('平台消耗统计'!I:I,'平台消耗统计'!A:A,$E$2,'平台消耗统计'!C:C,A42) -> 158.4 | F42: =SUMIFS('平台消耗统计'!I:I,'平台消耗统计'!A:A,$F$2,'平台消耗统计'!C:C,A42) -> 121.8 | G42: =IFERROR((E42-F42)/F42,0) -> 0.30049261 | H42: 每日打满，但要换新的单号，过几天就可能要关了 | I42: 继续保持稳定打满
A43: 91560709 | B43: com.king.candycrushsaga | C43: MTG | D43: VN | E43: =SUMIFS('平台消耗统计'!I:I,'平台消耗统计'!A:A,$E$2,'平台消耗统计'!C:C,A43) -> 151.74 | F43: =SUMIFS('平台消耗统计'!I:I,'平台消耗统计'!A:A,$F$2,'平台消耗统计'!C:C,A43) -> 0 | G43: =IFERROR((E43-F43)/F43,0) -> 0 | H43: 9.8日开投
A44: 6439005 | B44: com.amazon.mShop.android.shopping | C44: Eagllwin | D44: ZA | E44: =SUMIFS('平台消耗统计'!I:I,'平台消耗统计'!A:A,$E$2,'平台消耗统计'!C:C,A44) -> 149.5 | F44: =SUMIFS('平台消耗统计'!I:I,'平台消耗统计'!A:A,$F$2,'平台消耗统计'!C:C,A44) -> 128.5 | G44: =IFERROR((E44-F44)/F44,0) -> 0.16342412 | H44: 目前维持在80左右的量级，在慢慢提升 | I44: 争取拿到更多的量，定期优化素材
A45: 91467820 | B45: com.vitastudio.mahjong | C45: MTG | D45: ID | E45: =SUMIFS('平台消耗统计'!I:I,'平台消耗统计'!A:A,$E$2,'平台消耗统计'!C:C,A45) -> 140 | F45: =SUMIFS('平台消耗统计'!I:I,'平台消耗统计'!A:A,$F$2,'平台消耗统计'!C:C,A45) -> 323.1 | G45: =IFERROR((E45-F45)/F45,0) -> -0.56669762 | H45: week36降了cap到200后每天还是都能打满 | I45: 继续保持每日打满cap
A46: 8819666 | B46: com.yandex.lavka | C46: Bigo | D46: RU | E46: =SUMIFS('平台消耗统计'!I:I,'平台消耗统计'!A:A,$E$2,'平台消耗统计'!C:C,A46) -> 139.2306 | F46: =SUMIFS('平台消耗统计'!I:I,'平台消耗统计'!A:A,$F$2,'平台消耗统计'!C:C,A46) -> 138.0552 | G46: =IFERROR((E46-F46)/F46,0) -> 0.0085139857 | H46: 稳定订单，每日基本打满 | I46: 继续保持稳定打满
A47: 9686529 | B47: ru.ozon.app.android | C47: MTG | D47: KG | E47: =SUMIFS('平台消耗统计'!I:I,'平台消耗统计'!A:A,$E$2,'平台消耗统计'!C:C,A47) -> 135.5 | F47: =SUMIFS('平台消耗统计'!I:I,'平台消耗统计'!A:A,$F$2,'平台消耗统计'!C:C,A47) -> 125.5 | G47: =IFERROR((E47-F47)/F47,0) -> 0.079681275 | H47: Week37转化增多，合理波动 | I47: 正常更新素材
A48: 91496147 | B48: com.vitastudio.mahjong | C48: MTG | D48: BR | E48: =SUMIFS('平台消耗统计'!I:I,'平台消耗统计'!A:A,$E$2,'平台消耗统计'!C:C,A48) -> 125.45 | F48: =SUMIFS('平台消耗统计'!I:I,'平台消耗统计'!A:A,$F$2,'平台消耗统计'!C:C,A48) -> 129.35 | G48: =IFERROR((E48-F48)/F48,0) -> -0.030150754 | H48: 稳定订单，每日基本打满 | I48: 继续保持
A49: 12011132 | B49: ru.rt.video.app.mobile | C49: MTG | D49: RU | E49: =SUMIFS('平台消耗统计'!I:I,'平台消耗统计'!A:A,$E$2,'平台消耗统计'!C:C,A49) -> 120 | F49: =SUMIFS('平台消耗统计'!I:I,'平台消耗统计'!A:A,$F$2,'平台消耗统计'!C:C,A49) -> 0 | G49: =IFERROR((E49-F49)/F49,0) -> 0 | H49: 9/8 开跑，目前每日能打满cap
A50: 91467821 | B50: com.vitastudio.mahjong | C50: MTG | D50: TH | E50: =SUMIFS('平台消耗统计'!I:I,'平台消耗统计'!A:A,$E$2,'平台消耗统计'!C:C,A50) -> 119 | F50: =SUMIFS('平台消耗统计'!I:I,'平台消耗统计'!A:A,$F$2,'平台消耗统计'!C:C,A50) -> 117.81 | G50: =IFERROR((E50-F50)/F50,0) -> 0.01010101 | H50: 稳定订单，每天打满 | I50: 继续保持
A51: 6951600 | B51: com.king.candycrushsodasaga | C51: MTG | D51: TH | E51: =SUMIFS('平台消耗统计'!I:I,'平台消耗统计'!A:A,$E$2,'平台消耗统计'!C:C,A51) -> 113.866 | F51: =SUMIFS('平台消耗统计'!I:I,'平台消耗统计'!A:A,$F$2,'平台消耗统计'!C:C,A51) -> 98.396 | G51: =IFERROR((E51-F51)/F51,0) -> 0.15722184 | H51: 目前已经稳定每日打满 | I51: 继续保持稳定打满
A52: 10765365 | B52: ph.com.bdo.pay | C52: MTG | D52: PH | E52: =SUMIFS('平台消耗统计'!I:I,'平台消耗统计'!A:A,$E$2,'平台消耗统计'!C:C,A52) -> 111.24 | F52: =SUMIFS('平台消耗统计'!I:I,'平台消耗统计'!A:A,$F$2,'平台消耗统计'!C:C,A52) -> 88.98 | G52: =IFERROR((E52-F52)/F52,0) -> 0.25016858 | H52: week36cap提到100后大部分时间都能打满只有周末两天掉量比较多 | I52: 提价稳定量级并上新素材
A53: 91532857 | B53: com.reefgames.fabletown | C53: Bigo | D53: RU | E53: =SUMIFS('平台消耗统计'!I:I,'平台消耗统计'!A:A,$E$2,'平台消耗统计'!C:C,A53) -> 99.9776 | F53: =SUMIFS('平台消耗统计'!I:I,'平台消耗统计'!A:A,$F$2,'平台消耗统计'!C:C,A53) -> 72.7499 | G53: =IFERROR((E53-F53)/F53,0) -> 0.37426443 | H53: 上了新素材，量有提升 | I53: 换了一个编号去新建了，继续观察
A54: 2937658 | B54: com.yandex.bank | C54: MTG | D54: RU | E54: =SUMIFS('平台消耗统计'!I:I,'平台消耗统计'!A:A,$E$2,'平台消耗统计'!C:C,A54) -> 86.1 | F54: =SUMIFS('平台消耗统计'!I:I,'平台消耗统计'!A:A,$F$2,'平台消耗统计'!C:C,A54) -> 86.162 | G54: =IFERROR((E54-F54)/F54,0) -> -0.00071957475 | H54: 稳定订单 | I54: 继续保持每日打满cap
A55: 8566084 | B55: com.intellihealth.truemeds | C55: MTG | D55: IN | E55: =SUMIFS('平台消耗统计'!I:I,'平台消耗统计'!A:A,$E$2,'平台消耗统计'!C:C,A55) -> 84 | F55: =SUMIFS('平台消耗统计'!I:I,'平台消耗统计'!A:A,$F$2,'平台消耗统计'!C:C,A55) -> 64.56 | G55: =IFERROR((E55-F55)/F55,0) -> 0.30111524 | H55: Week37每日打满cap，转化量增多 | I55: 继续保持每日打满cap
A56: 6706444 | B56: ru.ozon.app.android | C56: Bigo | D56: KZ | E56: =SUMIFS('平台消耗统计'!I:I,'平台消耗统计'!A:A,$E$2,'平台消耗统计'!C:C,A56) -> 83.595 | F56: =SUMIFS('平台消耗统计'!I:I,'平台消耗统计'!A:A,$F$2,'平台消耗统计'!C:C,A56) -> 69.2401 | G56: =IFERROR((E56-F56)/F56,0) -> 0.20732061 | H56: Week37 eCPI跑高了，转化量差不多 | I56: 换素材，降eCPI
A57: 11690183 | B57: com.uma.musicvk | C57: MTG | D57: RU | E57: =SUMIFS('平台消耗统计'!I:I,'平台消耗统计'!A:A,$E$2,'平台消耗统计'!C:C,A57) -> 82.2 | F57: =SUMIFS('平台消耗统计'!I:I,'平台消耗统计'!A:A,$F$2,'平台消耗统计'!C:C,A57) -> 70.5 | G57: =IFERROR((E57-F57)/F57,0) -> 0.16595745 | H57: 人群包订单，量相较Week36增加了一些。正常波动 | I57: 优化素材和子渠道，争取跑满
...

Sheet Week36
E1: Week
A2: Adpingid | B2: 包名 | C2: 平台 | D2: 地区 | E2: 36 | F2: 35 | G2: 消耗环比 | H2: 变动原因：差值在+-15%的都需要仔细复盘 1、具体的预算增加或者控量动作的时间点 2、如果有降预算问清楚降预算原因 3、广告自身的变化：素材增加/衰退后的表现，子渠道调整，价格调整 4、外部变化：平台流量变化/竞争原因，比如CPM？CPC？CTR？CVR？是否有变动？ | I2: 下一步计划 (根据变动原因需要做出的对应动作，以及需要什么支持？比如cap超跑需要帮助check是否有bug，需要check事件表现，需要新素材，需要提价&加预算等等)
A3: 7815836 | B3: com.kwai.bulldog | C3: MTG | D3: ID | E3: =SUMIFS('平台消耗统计'!I:I,'平台消耗统计'!A:A,$E$2,'平台消耗统计'!C:C,A3) -> 2308.63 | F3: =VLOOKUP(A3,'数据透视表'!J:N,5,FALSE) -> #N/A | G3: =IFERROR((E3-F3)/F3,0) -> 0 | H3: 8.31排了很多的无效子渠道导致曝光点击量都下滑很多掉量但cvr ivr都有上涨很多了 最近两天转化量也在慢慢恢复 | I3: 继续观察 然后压价
A4: 5464039 | B4: com.king.candycrushsaga | C4: MTG | D4: MY | E4: =SUMIFS('平台消耗统计'!I:I,'平台消耗统计'!A:A,$E$2,'平台消耗统计'!C:C,A4) -> 2285.57 | F4: =VLOOKUP(A4,'数据透视表'!J:N,5,FALSE) -> #N/A | G4: =IFERROR((E4-F4)/F4,0) -> 0 | H4: 尝试降价后掉量 | I4: 加点价观察
A5: 5497580 | B5: com.king.candycrushsaga | C5: MTG | D5: TH | E5: =SUMIFS('平台消耗统计'!I:I,'平台消耗统计'!A:A,$E$2,'平台消耗统计'!C:C,A5) -> 2143.948 | F5: =VLOOKUP(A5,'数据透视表'!J:N,5,FALSE) -> #N/A | G5: =IFERROR((E5-F5)/F5,0) -> 0 | H5: 正常差值，每天跑满。 | I5: 稳定流量，定期优化没用的子渠道
A6: 8628042 | B6: asrtum.ent.domovyata | C6: Mediago | D6: RU | E6: =SUMIFS('平台消耗统计'!I:I,'平台消耗统计'!A:A,$E$2,'平台消耗统计'!C:C,A6) -> 2123.53 | F6: =VLOOKUP(A6,'数据透视表'!J:N,5,FALSE) -> #N/A | G6: =IFERROR((E6-F6)/F6,0) -> 0 | H6: week35一直没量提价到了1，然后9.1突然出量但成本涨了很多后续量也比较稳定成本也在慢慢下压 | I6: 继续压价
A7: 8291713 | B7: ru.kinopoisk | C7: MTG | D7: RU | E7: =SUMIFS('平台消耗统计'!I:I,'平台消耗统计'!A:A,$E$2,'平台消耗统计'!C:C,A7) -> 1468.57 | F7: =VLOOKUP(A7,'数据透视表'!J:N,5,FALSE) -> #N/A | G7: =IFERROR((E7-F7)/F7,0) -> 0 | H7: week36每日都打满了cap，比week35多了些转化量 | I7: 继续保持打满cap的同时稍微控制下成本，降一丢丢价
A8: 5963354 | B8: ru.ozon.app.android | C8: MTG | D8: KZ | E8: =SUMIFS('平台消耗统计'!I:I,'平台消耗统计'!A:A,$E$2,'平台消耗统计'!C:C,A8) -> 1396.642 | F8: =VLOOKUP(A8,'数据透视表'!J:N,5,FALSE) -> #N/A | G8: =IFERROR((E8-F8)/F8,0) -> 0 | H8: week36出量比week35多了一些 | I8: 稍微控一下价格，往给的price靠
A9: 10912510 | B9: com.amazon.mShop.android.shopping | C9: Kwai | D9: BR | E9: =SUMIFS('平台消耗统计'!I:I,'平台消耗统计'!A:A,$E$2,'平台消耗统计'!C:C,A9) -> 1259.13 | F9: =VLOOKUP(A9,'数据透视表'!J:N,5,FALSE) -> #N/A | G9: =IFERROR((E9-F9)/F9,0) -> 0 | H9: 9月2日cap500加到1000，9月3日cap加到1500，目前稳定在1000以上，但跑不满1500 | I9: 持续更新素材
A10: 2732727 | B10: com.amazon.mShop.android.shopping | C10: MTG | D10: SA | E10: =SUMIFS('平台消耗统计'!I:I,'平台消耗统计'!A:A,$E$2,'平台消耗统计'!C:C,A10) -> 1000.725 | F10: =VLOOKUP(A10,'数据透视表'!J:N,5,FALSE) -> #N/A | G10: =IFERROR((E10-F10)/F10,0) -> 0 | H10: 新开系列，更换素材，转化量都不涨 | I10: 继续更新素材和新建系列
A11: 8460883 | B11: com.king.candycrushsodasaga | C11: MTG | D11: BR | E11: =SUMIFS('平台消耗统计'!I:I,'平台消耗统计'!A:A,$E$2,'平台消耗统计'!C:C,A11) -> 988.918 | F11: =VLOOKUP(A11,'数据透视表'!J:N,5,FALSE) -> #N/A | G11: =IFERROR((E11-F11)/F11,0) -> 0 | H11: 9.4日转化突然掉到100，直接掉了90%，第二天回到1000+的转化，新素材表现不佳，准备重新在做素材 | I11: 重新上素材
A12: 6951594 | B12: com.king.candycrushsodasaga | C12: MTG | D12: DE | E12: =SUMIFS('平台消耗统计'!I:I,'平台消耗统计'!A:A,$E$2,'平台消耗统计'!C:C,A12) -> 950.85 | F12: =VLOOKUP(A12,'数据透视表'!J:N,5,FALSE) -> #N/A | G12: =IFERROR((E12-F12)/F12,0) -> 0 | H12: 也是9.4日突然掉量，后续只能维持在200左右的转化量级 | I12: 新素材表现不佳，继续更新素材
A13: 6607117 | B13: ru.aliexpress.buyer | C13: MTG | D13: RU | E13: =SUMIFS('平台消耗统计'!I:I,'平台消耗统计'!A:A,$E$2,'平台消耗统计'!C:C,A13) -> 927.809 | F13: =VLOOKUP(A13,'数据透视表'!J:N,5,FALSE) -> #N/A | G13: =IFERROR((E13-F13)/F13,0) -> 0 | H13: 前期跑的有点超，预算控制下来了。 | I13: 定期更新素材，量保持稳住
A14: 5963400 | B14: ru.ozon.app.android | C14: MTG | D14: UZ | E14: =SUMIFS('平台消耗统计'!I:I,'平台消耗统计'!A:A,$E$2,'平台消耗统计'!C:C,A14) -> 793.15 | F14: =VLOOKUP(A14,'数据透视表'!J:N,5,FALSE) -> #N/A | G14: =IFERROR((E14-F14)/F14,0) -> 0 | H14: week36转化量比week35大幅提升，9/7 cap 300→100 出价0.4→0.2 | I14: 按新出价打满cap
... A18: 10813123 | B18: com.amazon.mShop.android.shopping | C18: Bigo | D18: BR | E18: =SUMIFS('平台消耗统计'!I:I,'平台消耗统计'!A:A,$E$2,'平台消耗统计'!C:C,A18) -> 546.1175 | F18: =VLOOKUP(A18,'数据透视表'!J:N,5,FALSE) -> #N/A | G18: =IFERROR((E18-F18)/F18,0) -> 0 | H18: 目前每日都在更新素材，但表现不佳，曝光点击事件率都在降，量级目前只能维持在200左右 | I18: 持续更新素材
A19: 11892329 | B19: com.amazon.mShop.android.shopping | C19: MTG | D19: BR | E19: =SUMIFS('平台消耗统计'!I:I,'平台消耗统计'!A:A,$E$2,'平台消耗统计'!C:C,A19) -> 521.5 | F19: =IFERROR(VLOOKUP(A19,'数据透视表'!J:N,5,FALSE),0) -> 0 | G19: =IFERROR((E19-F19)/F19,0) -> 0 | H19: 9.2日开投，目前每日打满，且超跑
A20: 7872826 | B20: asrtum.ent.domovyata | C20: MTG | D20: RU | E20: =SUMIFS('平台消耗统计'!I:I,'平台消耗统计'!A:A,$E$2,'平台消耗统计'!C:C,A20) -> 490.654 | F20: =IFERROR(VLOOKUP(A20,'数据透视表'!J:N,5,FALSE),0) -> 0 | G20: =IFERROR((E20-F20)/F20,0) -> 0 | H20: 9.4日cap400降到200后，每日打不满，目前在调整 | I20: 持续更新素材
A21: 1745925 | B21: tech.jm | C21: MTG | D21: RU | E21: =SUMIFS('平台消耗统计'!I:I,'平台消耗统计'!A:A,$E$2,'平台消耗统计'!C:C,A21) -> 477.6 | F21: =IFERROR(VLOOKUP(A21,'数据透视表'!J:N,5,FALSE),0) -> 0 | G21: =IFERROR((E21-F21)/F21,0) -> 0 | H21: 每日基本打满500cap | I21: 继续保持打满cap
A22: 6395488 | B22: com.edadeal.android | C22: MTG | D22: RU | E22: =SUMIFS('平台消耗统计'!I:I,'平台消耗统计'!A:A,$E$2,'平台消耗统计'!C:C,A22) -> 420 | F22: =IFERROR(VLOOKUP(A22,'数据透视表'!J:N,5,FALSE),0) -> 0 | G22: =IFERROR((E22-F22)/F22,0) -> 0 | H22: 稳定订单，每日打满cap | I22: 继续保持打满cap
A23: 7202934 | B23: com.fxpro.direct.application | C23: MTG | D23: PK | E23: =SUMIFS('平台消耗统计'!I:I,'平台消耗统计'!A:A,$E$2,'平台消耗统计'!C:C,A23) -> 384.41 | F23: =IFERROR(VLOOKUP(A23,'数据透视表'!J:N,5,FALSE),0) -> 0 | G23: =IFERROR((E23-F23)/F23,0) -> 0 | H23: 9.3日出价从0.36降到0.35后，开始掉量，打不满，可能是加个降低后，重新对渠道继续了优先级的调整 | I23: 先继续观察，观察后打不满就进行提价
A24: 6060965 | B24: ru.aliexpress.buyer | C24: MTG | D24: RU | E24: =SUMIFS('平台消耗统计'!I:I,'平台消耗统计'!A:A,$E$2,'平台消耗统计'!C:C,A24) -> 365.54 | F24: =IFERROR(VLOOKUP(A24,'数据透视表'!J:N,5,FALSE),0) -> 0 | G24: =IFERROR((E24-F24)/F24,0) -> 0 | H24: 人群包订单，前面有点掉量优化了素材和子渠道量上来了。 | I24: 定期更新素材，优化子渠道，量保持稳住
A25: 8094753 | B25: ru.aliexpress.buyer | C25: Mediago | D25: RU | E25: =SUMIFS('平台消耗统计'!I:I,'平台消耗统计'!A:A,$E$2,'平台消耗统计'!C:C,A25) -> 354.55 | F25: =IFERROR(VLOOKUP(A25,'数据透视表'!J:N,5,FALSE),0) -> 0 | G25: =IFERROR((E25-F25)/F25,0) -> 0 | H25: 前面压价跑的利润有点超然后转化没打满现在回来了转化跑满。正常差值 | I25: 定期更新素材量保持稳住
A26: 6425889 | B26: com.amazon.mShop.android.shopping | C26: MTG | D26: ZA | E26: =SUMIFS('平台消耗统计'!I:I,'平台消耗统计'!A:A,$E$2,'平台消耗统计'!C:C,A26) -> 344.55 | F26: =IFERROR(VLOOKUP(A26,'数据透视表'!J:N,5,FALSE),0) -> 0 | G26: =IFERROR((E26-F26)/F26,0) -> 0 | H26: 9.4日转化降低后，在缓慢恢复，已经更新过新的素材和新的系列 | I26: 持续更新素材
A27: 7572369 | B27: com.amazon.mShop.android.shopping | C27: MTG | D27: AE | E27: =SUMIFS('平台消耗统计'!I:I,'平台消耗统计'!A:A,$E$2,'平台消耗统计'!C:C,A27) -> 342.75 | F27: =IFERROR(VLOOKUP(A27,'数据透视表'!J:N,5,FALSE),0) -> 0 | G27: =IFERROR((E27-F27)/F27,0) -> 0 | H27: 9.4日转化降低后，在缓慢恢复，已经更新过新的素材和新的系列 | I27: 持续更新素材
A28: 91467820 | B28: com.vitastudio.mahjong | C28: MTG | D28: ID | E28: =SUMIFS('平台消耗统计'!I:I,'平台消耗统计'!A:A,$E$2,'平台消耗统计'!C:C,A28) -> 323.1 | F28: =IFERROR(VLOOKUP(A28,'数据透视表'!J:N,5,FALSE),0) -> 0 | G28: =IFERROR((E28-F28)/F28,0) -> 0 | H28: 9.3cap从600降到500后9.4继续降到200，每天都能打满cap | I28: 继续保持打满
A29: 10599681 | B29: ru.kinopoisk | C29: MTG | D29: RU | E29: =SUMIFS('平台消耗统计'!I:I,'平台消耗统计'!A:A,$E$2,'平台消耗统计'!C:C,A29) -> 313.95 | F29: =IFERROR(VLOOKUP(A29,'数据透视表'!J:N,5,FALSE),0) -> 0 | G29: =IFERROR((E29-F29)/F29,0) -> 0 | H29: 人群包订单，优化了一下素材上量了现在每天打满 | I29: 定期更新素材，优化子渠道，量保持稳住
A30: 91399821 | B30: ru.kinopoisk | C30: Mediago | D30: RU | E30: =SUMIFS('平台消耗统计'!I:I,'平台消耗统计'!A:A,$E$2,'平台消耗统计'!C:C,A30) -> 295.82 | F30: =IFERROR(VLOOKUP(A30,'数据透视表'!J:N,5,FALSE),0) -> 0 | G30: =IFERROR((E30-F30)/F30,0) -> 0 | H30: 平台流量变化 | I30: 继续观察
A31: 9297014 | B31: tech.jm | C31: Mediago | D31: RU | E31: =SUMIFS('平台消耗统计'!I:I,'平台消耗统计'!A:A,$E$2,'平台消耗统计'!C:C,A31) -> 287.49 | F31: =IFERROR(VLOOKUP(A31,'数据透视表'!J:N,5,FALSE),0) -> 0 | G31: =IFERROR((E31-F31)/F31,0) -> 0 | H31: 8.31-9.3每天都能打满300cap但超成本后压价到0.18，后续成本降回正常但量少了很多 | I31: 保持订单稳定
... A41: 91551388 | B41: com.netease.newspike | C41: Bigo | D41: US | E41: =SUMIFS('平台消耗统计'!I:I,'平台消耗统计'!A:A,$E$2,'平台消耗统计'!C:C,A41) -> 174.816 | F41: =IFERROR(VLOOKUP(A41,'数据透视表'!J:N,5,FALSE),0) -> 0 | G41: =IFERROR((E41-F41)/F41,0) -> 0 | H41: 跑出价超了 | I41: 上些素材降价
A42: 7953512 | B42: ru.mobstudio.andgalaxy | C42: MTG | D42: RU | E42: =SUMIFS('平台消耗统计'!I:I,'平台消耗统计'!A:A,$E$2,'平台消耗统计'!C:C,A42) -> 171.82 | F42: =IFERROR(VLOOKUP(A42,'数据透视表'!J:N,5,FALSE),0) -> 0 | G42: =IFERROR((E42-F42)/F42,0) -> 0 | H42: 9/4暂停容易跑超事件不行。
A43: 11690182 | B43: astrum.ent.m2alyona | C43: Mediago | D43: RU | E43: =SUMIFS('平台消耗统计'!I:I,'平台消耗统计'!A:A,$E$2,'平台消耗统计'!C:C,A43) -> 151.06 | F43: =IFERROR(VLOOKUP(A43,'数据透视表'!J:N,5,FALSE),0) -> 0 | G43: =IFERROR((E43-F43)/F43,0) -> 0 | H43: 9.1爆了拒绝 成本也很高 am关停 | I43: 等待重启后压价
A44: 8819666 | B44: com.yandex.lavka | C44: Bigo | D44: RU | E44: =SUMIFS('平台消耗统计'!I:I,'平台消耗统计'!A:A,$E$2,'平台消耗统计'!C:C,A44) -> 138.0552 | F44: =IFERROR(VLOOKUP(A44,'数据透视表'!J:N,5,FALSE),0) -> 0 | G44: =IFERROR((E44-F44)/F44,0) -> 0 | H44: 稳定订单，每日打满cap | I44: 继续保持打满
A45: 91496147 | B45: com.vitastudio.mahjong | C45: MTG | D45: BR | E45: =SUMIFS('平台消耗统计'!I:I,'平台消耗统计'!A:A,$E$2,'平台消耗统计'!C:C,A45) -> 129.35 | F45: =IFERROR(VLOOKUP(A45,'数据透视表'!J:N,5,FALSE),0) -> 0 | G45: =IFERROR((E45-F45)/F45,0) -> 0 | H45: week35cap提到150大部分时间都能打满 其余时间每天就差十来个 | I45: 上新素材打满订单
A46: 6439005 | B46: com.amazon.mShop.android.shopping | C46: Eagllwin | D46: ZA | E46: =SUMIFS('平台消耗统计'!I:I,'平台消耗统计'!A:A,$E$2,'平台消耗统计'!C:C,A46) -> 128.5 | F46: =IFERROR(VLOOKUP(A46,'数据透视表'!J:N,5,FALSE),0) -> 0 | G46: =IFERROR((E46-F46)/F46,0) -> 0 | H46: 转化9。4日后有所提升，目前只能维持在100左右 | I46: 上新素材打满订单
A47: 91550293 | B47: net.peakgames.Yuzbir | C47: MTG | D47: TR | E47: =SUMIFS('平台消耗统计'!I:I,'平台消耗统计'!A:A,$E$2,'平台消耗统计'!C:C,A47) -> 126 | F47: =IFERROR(VLOOKUP(A47,'数据透视表'!J:N,5,FALSE),0) -> 0 | G47: =IFERROR((E47-F47)/F47,0) -> 0 | H47: 8/26开投 | I47: /
A48: 9686529 | B48: ru.ozon.app.android | C48: MTG | D48: KG | E48: =SUMIFS('平台消耗统计'!I:I,'平台消耗统计'!A:A,$E$2,'平台消耗统计'!C:C,A48) -> 125.5 | F48: =IFERROR(VLOOKUP(A48,'数据透视表'!J:N,5,FALSE),0) -> 0 | G48: =IFERROR((E48-F48)/F48,0) -> 0 | H48: 曝光点击量增多，对应的转化量增多，但是CVR依旧很低0.2%左右 | I48: 正常更新一组素材，看能否稳定当前的转化量
A49: 91548043 | B49: com.king.candycrushsaga | C49: MTG | D49: FR | E49: =SUMIFS('平台消耗统计'!I:I,'平台消耗统计'!A:A,$E$2,'平台消耗统计'!C:C,A49) -> 121.8 | F49: =IFERROR(VLOOKUP(A49,'数据透视表'!J:N,5,FALSE),0) -> 0 | G49: =IFERROR((E49-F49)/F49,0) -> 0 | H49: 9.4日转化降低后，在缓慢恢复，已经更新过新的素材 | I49: 保持观察，目前在恢复中
A50: 91467821 | B50: com.vitastudio.mahjong | C50: MTG | D50: TH | E50: =SUMIFS('平台消耗统计'!I:I,'平台消耗统计'!A:A,$E$2,'平台消耗统计'!C:C,A50) -> 117.81 | F50: =IFERROR(VLOOKUP(A50,'数据透视表'!J:N,5,FALSE),0) -> 0 | G50: =IFERROR((E50-F50)/F50,0) -> 0 | H50: 稳定订单只有一天差几个打满 | I50: 继续保持打满
A51: 9298539 | B51: com.gloriajeans.mobile | C51: MTG | D51: RU | E51: =SUMIFS('平台消耗统计'!I:I,'平台消耗统计'!A:A,$E$2,'平台消耗统计'!C:C,A51) -> 114 | F51: =IFERROR(VLOOKUP(A51,'数据透视表'!J:N,5,FALSE),0) -> 0 | G51: =IFERROR((E51-F51)/F51,0) -> 0 | H51: 9/4重启 | I51: /
A52: 91538334 | B52: cn.com.vtmarkets | C52: MTG | D52: DE | E52: =SUMIFS('平台消耗统计'!I:I,'平台消耗统计'!A:A,$E$2,'平台消耗统计'!C:C,A52) -> 103.2 | F52: =IFERROR(VLOOKUP(A52,'数据透视表'!J:N,5,FALSE),0) -> 0 | G52: =IFERROR((E52-F52)/F52,0) -> 0 | H52: 9/1加价到0.8 | I52: 继续观察
...
