Workbook

Sheet 平台消耗统计
A1: Week | B1: Date | C1: Adpingid | D1: 包名 | E1: 地区 | F1: 平台 | G1: 平台转化数量 | H1: CPI平台成本 | I1: 花费 | J1: 信用消耗金额
A2: =WEEKNUM(B2,2) -> 38 | B2: 46280 | C2: 10813123 | D2: com.amazon.mShop.android.shopping | E2: BR | F2: Bigo | G2: 80 | H2: 0.4163 | I2: 33.3017
A3: =WEEKNUM(B3,2) -> 38 | B3: 46280 | C3: 1745925 | D3: tech.jm | E3: RU | F3: MTG | G3: 479 | H3: 0.15 | I3: 71.85
A4: =WEEKNUM(B4,2) -> 38 | B4: 46280 | C4: 6951600 | D4: com.king.candycrushsodasaga | E4: TH | F4: MTG | G4: 83 | H4: 0.173 | I4: 14.348
A5: =WEEKNUM(B5,2) -> 38 | B5: 46280 | C5: 6951594 | D5: com.king.candycrushsodasaga | E5: DE | F5: MTG | G5: 187 | H5: 0.7 | I5: 130.9
A6: =WEEKNUM(B6,2) -> 38 | B6: 46280 | C6: 2732727 | D6: com.amazon.mShop.android.shopping | E6: SA | F6: MTG | G6: 360 | H6: 0.25 | I6: 89.925
A7: =WEEKNUM(B7,2) -> 38 | B7: 46280 | C7: 5619156 | D7: com.amazon.mShop.android.shopping | E7: SA | F7: Bigo | G7: 7 | H7: 0.399 | I7: 2.7915
A8: =WEEKNUM(B8,2) -> 38 | B8: 46280 | C8: 6425889 | D8: com.amazon.mShop.android.shopping | E8: ZA | F8: MTG | G8: 139 | H8: 0.253 | I8: 35.125
A9: =WEEKNUM(B9,2) -> 38 | B9: 46280 | C9: 6439005 | D9: com.amazon.mShop.android.shopping | E9: ZA | F9: Eagllwin | G9: 72 | H9: 0.25 | I9: 18
A10: =WEEKNUM(B10,2) -> 38 | B10: 46280 | C10: 7203110 | D10: com.fxpro.direct.application | E10: SY | F10: MTG | G10: 3 | H10: 0.2 | I10: 0.6
A11: =WEEKNUM(B11,2) -> 38 | B11: 46280 | C11: 7202934 | D11: com.fxpro.direct.application | E11: PK | F11: MTG | G11: 91 | H11: 0.35 | I11: 31.85
A12: =WEEKNUM(B12,2) -> 38 | B12: 46280 | C12: 5847496 | D12: com.amazon.mShop.android.shopping | E12: AE | F12: Bigo | G12: 2 | H12: 0.54 | I12: 1.0802
A13: =WEEKNUM(B13,2) -> 38 | B13: 46280 | C13: 7572369 | D13: com.amazon.mShop.android.shopping | E13: AE | F13: MTG | G13: 187 | H13: 0.304 | I13: 56.82
... A22: =WEEKNUM(B22,2) -> 38 | B22: 46280 | C22: 10501490 | D22: tech.jm | E22: RU | F22: MTG | G22: 9 | H22: 0.13 | I22: 1.17
A23: =WEEKNUM(B23,2) -> 38 | B23: 46280 | C23: 10912510 | D23: com.amazon.mShop.android.shopping | E23: BR | F23: Kwai | G23: 640 | H23: 0.23 | I23: 148.96 | J23: 148.959
A24: =WEEKNUM(B24,2) -> 38 | B24: 46280 | C24: 11080098 | D24: com.fxpro.direct.application | E24: PK | F24: MTG | G24: 0 | H24: 0 | I24: 0
A25: =WEEKNUM(B25,2) -> 38 | B25: 46280 | C25: 91540124 | D25: com.puzzlegames.puzzlebrickslegend | E25: US | F25: Bigo | G25: 22 | H25: 0.8 | I25: 17.5911
A26: =WEEKNUM(B26,2) -> 38 | B26: 46280 | C26: 91548042 | D26: tech.jm | E26: RU | F26: Bigo | G26: 50 | H26: 0.38 | I26: 19.0217
A27: =WEEKNUM(B27,2) -> 38 | B27: 46280 | C27: 11715627 | D27: com.esprit.rpg.cntrctfft | E27: RU | F27: MTG | G27: 0 | H27: 0 | I27: 0
A28: =WEEKNUM(B28,2) -> 38 | B28: 46280 | C28: 11715655 | D28: com.king.candycrushsodasaga | E28: BR | F28: MTG | G28: 0 | H28: 0 | I28: 0
A29: =WEEKNUM(B29,2) -> 38 | B29: 46280 | C29: 11715811 | D29: com.king.candycrushsodasaga | E29: TH | F29: MTG | G29: 0 | H29: 0 | I29: 0
A30: =WEEKNUM(B30,2) -> 38 | B30: 46280 | C30: 11729927 | D30: com.amazon.mShop.android.shopping | E30: ZA | F30: MTG | G30: 0 | H30: 0 | I30: 0
A31: =WEEKNUM(B31,2) -> 38 | B31: 46280 | C31: 11729820 | D31: com.amazon.mShop.android.shopping | E31: AE | F31: MTG | G31: 0 | H31: 0 | I31: 0
A32: =WEEKNUM(B32,2) -> 38 | B32: 46280 | C32: 11729830 | D32: com.amazon.mShop.android.shopping | E32: BR | F32: Bigo | G32: 0 | H32: 0 | I32: 0.0259
A33: =WEEKNUM(B33,2) -> 38 | B33: 46280 | C33: 11892329 | D33: com.amazon.mShop.android.shopping | E33: BR | F33: MTG | G33: 801 | H33: 0.22 | I33: 176.22
A34: =WEEKNUM(B34,2) -> 38 | B34: 46280 | C34: 91557162 | D34: com.olimpbk.app.bet | E34: RU | F34: Bigo | G34: 0 | H34: 0 | I34: 0
A35: =WEEKNUM(B35,2) -> 38 | B35: 46280 | C35: 91560708 | D35: com.king.candycrushsaga | E35: FR | F35: MTG | G35: 230 | H35: 0.09 | I35: 20.7
... A37: =WEEKNUM(B37,2) -> 38 | B37: 46280 | C37: 12064281 | D37: com.king.candycrushsodasaga | E37: DE | F37: MTG | G37: 1 | H37: 0.14 | I37: 0.14
A38: =WEEKNUM(B38,2) -> 38 | B38: 46280 | C38: 11987622 | D38: com.amazon.mShop.android.shopping | E38: BR | F38: Kwai | G38: 3 | H38: 0.19 | I38: 0.57 | J38: 0.565
A39: =WEEKNUM(B39,2) -> 38 | B39: 46280 | C39: 91565960 | D39: com.puzzlegames.puzzlebrickslegend | E39: US | F39: Bigo | G39: 3 | H39: 4.323 | I39: 12.9687
A40: =WEEKNUM(B40,2) -> 38 | B40: 46280 | C40: 6061077 | D40: ru.aliexpress.buyer | E40: RU | F40: MTG | G40: 5 | H40: 1.076 | I40: 5.379
A41: =WEEKNUM(B41,2) -> 38 | B41: 46280 | C41: 6607117 | D41: ru.aliexpress.buyer | E41: RU | F41: MTG | G41: 195 | H41: 0.559 | I41: 109.095
A42: =WEEKNUM(B42,2) -> 38 | B42: 46280 | C42: 5497580 | D42: com.king.candycrushsaga | E42: TH | F42: MTG | G42: 1351 | H42: 0.252 | I42: 340.724
A43: =WEEKNUM(B43,2) -> 38 | B43: 46280 | C43: 91407542 | D43: com.king.candycrushsaga | E43: ID | F43: MTG | G43: 298 | H43: 0.021 | I43: 6.114
A44: =WEEKNUM(B44,2) -> 38 | B44: 46280 | C44: 8998645 | D44: com.king.candycrushsaga | E44: TH | F44: MTG | G44: 10 | H44: 0.612 | I44: 6.12
A45: =WEEKNUM(B45,2) -> 38 | B45: 46280 | C45: 4383473 | D45: ru.aliexpress.buyer | E45: RU | F45: MTG | G45: 150 | H45: 0.206 | I45: 30.942
A46: =WEEKNUM(B46,2) -> 38 | B46: 46280 | C46: 8094753 | D46: ru.aliexpress.buyer | E46: RU | F46: Mediago | G46: 371 | H46: 0.44 | I46: 164.99
A47: =WEEKNUM(B47,2) -> 38 | B47: 46280 | C47: 9415350 | D47: com.notissimus.allinstruments.android | E47: RU | F47: Mediago | G47: 33 | H47: 0.33 | I47: 10.81
A48: =WEEKNUM(B48,2) -> 38 | B48: 46280 | C48: 2783561 | D48: com.uma.musicvk | E48: RU | F48: MTG | G48: 415 | H48: 0.103 | I48: 42.66
A49: =WEEKNUM(B49,2) -> 38 | B49: 46280 | C49: 10599157 | D49: com.edadeal.android | E49: RU | F49: MTG | G49: 96 | H49: 0.309 | I49: 29.65
...

Sheet 优化师维度统计
A1: 日期 | B1: 投放人 | C1: Adpingid | D1: 包名 | E1: 地区 | F1: 平台 | G1: 单价 | H1: Daily install cap | I1: Weekly budget | J1: 时段 | K1: 展示 | L1: 点击 | M1: 转化 | N1: CPC | O1: CPI | P1: 花费 | Q1: cap达成率
A2: 每日汇总 | B2: 周三 | K2: =SUM(K3:K443) -> 1675793 | L2: =SUM(L3:L443) -> 281886 | P2: =SUM(P3:P443) -> 653.2697
A3: 46281 | B3: 黄政 | C3: 10813123 | D3: com.amazon.mShop.android.shopping | E3: BR | F3: Bigo | G3: 0.25 | H3: 1000 | I3: =G3*H3*7 -> 1750 | J3: 截止10点 | K3: 19878 | L3: 1632 | M3: 4 | N3: 0.001 | O3: 0.448 | P3: 1.7928 | Q3: =M5/H3 -> 0
J4: 截止18点
J5: 截止24点
C6: 1745925 | D6: tech.jm | E6: RU | F6: MTG | G6: 0.15 | H6: 500 | I6: =G6*H6*7 -> 525 | J6: 截止10点 | K6: 876 | L6: 456 | M6: 0 | N6: 0 | O6: 0 | P6: 0 | Q6: =M8/H6 -> 0
J7: 截止18点
J8: 截止24点
C9: 6951600 | D9: com.king.candycrushsodasaga | E9: TH | F9: MTG | G9: 0.17 | H9: 100 | I9: =G9*H9*7 -> 119 | J9: 截止10点 | K9: 764 | L9: 47 | M9: 0 | N9: 0 | O9: 0 | P9: 0 | Q9: =M11/H9 -> 0
J10: 截止18点
J11: 截止24点
C12: 6951594 | D12: com.king.candycrushsodasaga | E12: DE | F12: MTG | G12: 0.7 | H12: 400 | I12: =G12*H12*7 -> 1960 | J12: 截止10点 | K12: 876 | L12: 321 | M12: 0 | N12: 0 | O12: 0 | P12: 0 | Q12: =M14/H12 -> 0
J13: 截止18点
J14: 截止24点
C15: 2732727 | D15: com.amazon.mShop.android.shopping | E15: SA | F15: MTG | G15: 0.25 | H15: 1000 | I15: =G15*H15*7 -> 1750 | J15: 截止10点 | K15: 567 | L15: 73 | M15: 0 | N15: 0 | O15: 0 | P15: 0 | Q15: =M17/H15 -> 0
J16: 截止18点
J17: 截止24点
C18: 5619156 | D18: com.amazon.mShop.android.shopping | E18: SA | F18: Bigo | G18: 0.24 | H18: 500 | I18: =G18*H18*7 -> 840 | J18: 截止10点 | K18: 2032 | L18: 383 | M18: 0 | N18: 0 | O18: 0 | P18: 0.1004 | Q18: =M20/H18 -> 0
J19: 截止18点
J20: 截止24点
C21: 6425889 | D21: com.amazon.mShop.android.shopping | E21: ZA | F21: MTG | G21: 0.25 | H21: 400 | I21: =G21*H21*7 -> 700 | J21: 截止10点 | K21: 482 | L21: 76 | M21: 0 | N21: 0 | O21: 0 | P21: 0 | Q21: 0.003
J22: 截止18点
J23: 截止24点
C24: 6439005 | D24: com.amazon.mShop.android.shopping | E24: ZA | F24: Eagllwin | G24: 0.25 | H24: 300 | I24: =G24*H24*7 -> 525 | J24: 截止10点 | K24: 0 | L24: 0 | M24: 0 | N24: 0 | O24: 0 | P24: 0 | Q24: =M26/H24 -> 0
J25: 截止18点
J26: 截止24点
C27: 7203110 | D27: com.fxpro.direct.application | E27: SY | F27: MTG | G27: 0.2 | H27: 100 | I27: =G27*H27*7 -> 140 | J27: 截止10点 | K27: 478 | L27: 213 | M27: 0 | N27: 0 | O27: 0 | P27: 0 | Q27: =M29/H27 -> 0
J28: 截止18点
J29: 截止24点
C30: 7202934 | D30: com.fxpro.direct.application | E30: PK | F30: MTG | G30: 0.35 | H30: 200 | I30: =G30*H30*7 -> 490 | J30: 截止10点 | K30: 876 | L30: 456 | M30: 0 | N30: 0 | O30: 0 | P30: 0 | Q30: 0
J31: 截止18点
J32: 截止24点
C33: 5847496 | D33: com.amazon.mShop.android.shopping | E33: AE | F33: Bigo | G33: 0.3 | H33: 200 | I33: =G33*H33*7 -> 420 | J33: 截止10点 | K33: 538 | L33: 26 | M33: 0 | N33: 0 | O33: 0 | P33: 0.037 | Q33: =M35/H33 -> 0
J34: 截止18点
J35: 截止24点
C36: 7572369 | D36: com.amazon.mShop.android.shopping | E36: AE | F36: MTG | G36: 0.3 | H36: 400 | I36: =G36*H36*7 -> 840 | J36: 截止10点 | K36: 942 | L36: 278 | M36: 0 | N36: 0 | O36: 0 | P36: 0 | Q36: =M38/H36 -> 0
J37: 截止18点
J38: 截止24点
C39: 8460883 | D39: com.king.candycrushsodasaga | E39: BR | F39: MTG | G39: 0.14 | H39: 1400 | I39: =G39*H39*7 -> 1372 | J39: 截止10点 | K39: 9050 | L39: 2936 | M39: 95 | N39: 0.005 | O39: 0.141 | P39: 13.398 | Q39: =M41/H39 -> 0
J40: 截止18点
...

Sheet Playable素材统计
A1: 日期 | B1: 投放人 | C1: Adpingid | D1: 包名 | E1: 地区 | F1: 平台 | G1: 单价 | H1: Daily install cap | I1: Weekly budget | J1: 时段 | K1: 展示 | L1: 点击 | M1: 转化 | N1: CPC | O1: CPI | P1: 花费 | Q1: cap达成率 | S1: CTR | T1: CVR
A2: 每日汇总 | B2: 周三 | K2: =SUM(K3:K6) -> 0 | L2: =SUM(L3:L6) -> 0 | P2: =SUM(P3:P6) -> 0
A3: 46281 | B3: 万科 | C3: 8998645 | D3: com.king.candycrushsaga | E3: TH | F3: MTG | G3: 0.28 | H3: 200 | I3: =G3*H3*7 -> 392 | J3: 截止24点 | Q3: =M3/H3 -> 0 | S3: =IFERROR(L3/K3,0) -> 0 | T3: =IFERROR(M3/L3,0) -> 0
C4: 5497580 | D4: com.king.candycrushsaga | E4: TH | F4: MTG | G4: 0.28 | H4: 1300 | I4: =G4*H4*7 -> 2548 | J4: 截止24点 | Q4: =M4/H4 -> 0 | S4: =IFERROR(L4/K4,0) -> 0 | T4: =IFERROR(M4/L4,0) -> 0
C5: 91407542 | D5: com.king.candycrushsaga | E5: ID | F5: MTG | G5: 0.02 | H5: 600 | I5: =G5*H5*7 -> 84 | J5: 截止24点 | Q5: =M5/H5 -> 0 | S5: =IFERROR(L5/K5,0) -> 0 | T5: =IFERROR(M5/L5,0) -> 0
B6: 黄政 | C6: 6951594 | D6: com.king.candycrushsodasaga | E6: DE | F6: MTG | G6: 0.6 | H6: 250 | I6: =G6*H6*7 -> 1050 | J6: 截止24点 | Q6: =M6/H6 -> 0 | S6: =IFERROR(L6/K6,0) -> 0 | T6: =IFERROR(M6/L6,0) -> 0
A8: 每日汇总 | B8: 周二 | K8: =SUM(K9:K12) -> 173027 | L8: =SUM(L9:L12) -> 100653 | P8: =SUM(P9:P12) -> 247.504
A9: 46280 | B9: 万科 | C9: 8998645 | D9: com.king.candycrushsaga | E9: TH | F9: MTG | G9: 0.28 | H9: 200 | I9: =G9*H9*7 -> 392 | J9: 截止24点 | K9: 210 | L9: 75 | M9: 0 | N9: 0 | O9: 0 | P9: 0 | Q9: =M9/H9 -> 0 | S9: =IFERROR(L9/K9,0) -> 0.35714286 | T9: =IFERROR(M9/L9,0) -> 0
C10: 5497580 | D10: com.king.candycrushsaga | E10: TH | F10: MTG | G10: 0.28 | H10: 1300 | I10: =G10*H10*7 -> 2548 | J10: 截止24点 | K10: 106336 | L10: 59347 | M10: 769 | N10: 0.003 | O10: 0.252 | P10: 193.744 | Q10: =M10/H10 -> 0.59153846 | S10: =IFERROR(L10/K10,0) -> 0.55810826 | T10: =IFERROR(M10/L10,0) -> 0.01295769
C11: 91407542 | D11: com.king.candycrushsaga | E11: ID | F11: MTG | G11: 0.02 | H11: 600 | I11: =G11*H11*7 -> 84 | J11: 截止24点 | K11: 26074 | L11: 15848 | M11: 126 | N11: 0 | O11: 0.021 | P11: 2.66 | Q11: =M11/H11 -> 0.21 | S11: =IFERROR(L11/K11,0) -> 0.60780854 | T11: =IFERROR(M11/L11,0) -> 0.00795053
B12: 黄政 | C12: 6951594 | D12: com.king.candycrushsodasaga | E12: DE | F12: MTG | G12: 0.6 | H12: 250 | I12: =G12*H12*7 -> 1050 | J12: 截止24点 | K12: 40407 | L12: 25383 | M12: 73 | N12: 0.002 | O12: 0.7 | P12: 51.1 | Q12: =M12/H12 -> 0.292 | S12: =IFERROR(L12/K12,0) -> 0.62818324 | T12: =IFERROR(M12/L12,0) -> 0.0028759406
A14: 每日汇总 | B14: 周一 | K14: =SUM(K15:K18) -> 101690 | L14: =SUM(L15:L18) -> 60647 | P14: =SUM(P15:P18) -> 266.66
A15: 46279 | B15: 万科 | C15: 8998645 | D15: com.king.candycrushsaga | E15: TH | F15: MTG | G15: 0.28 | H15: 200 | I15: =G15*H15*7 -> 392 | J15: 截止24点 | K15: 113 | L15: 55 | M15: 3 | N15: 0.009 | O15: 0.159 | P15: 0.478 | Q15: =M15/H15 -> 0.015 | S15: =IFERROR(L15/K15,0) -> 0.48672566 | T15: =IFERROR(M15/L15,0) -> 0.054545455
C16: 5497580 | D16: com.king.candycrushsaga | E16: TH | F16: MTG | G16: 0.28 | H16: 1300 | I16: =G16*H16*7 -> 2548 | J16: 截止24点 | K16: 44523 | L16: 23648 | M16: 717 | N16: 0.008 | O16: 0.256 | P16: 183.782 | Q16: =M16/H16 -> 0.55153846 | S16: =IFERROR(L16/K16,0) -> 0.53114121 | T16: =IFERROR(M16/L16,0) -> 0.030319689
C17: 91407542 | D17: com.king.candycrushsaga | E17: ID | F17: MTG | G17: 0.02 | H17: 600 | I17: =G17*H17*7 -> 84 | J17: 截止24点 | K17: 18141 | L17: 11783 | M17: 231 | N17: 0 | O17: 0.02 | P17: 4.7 | Q17: =M17/H17 -> 0.385 | S17: =IFERROR(L17/K17,0) -> 0.64952318 | T17: =IFERROR(M17/L17,0) -> 0.019604515
B18: 黄政 | C18: 6951594 | D18: com.king.candycrushsodasaga | E18: DE | F18: MTG | G18: 0.6 | H18: 250 | I18: =G18*H18*7 -> 1050 | J18: 截止24点 | K18: 38913 | L18: 25161 | M18: 111 | N18: 0.003 | O18: 0.7 | P18: 77.7 | Q18: =M18/H18 -> 0.444 | S18: =IFERROR(L18/K18,0) -> 0.64659625 | T18: =IFERROR(M18/L18,0) -> 0.0044115894
A20: 每日汇总 | B20: 周日 | K20: =SUM(K21:K24) -> 151876 | L20: =SUM(L21:L24) -> 90316 | P20: =SUM(P21:P24) -> 286.476
A21: 46278 | B21: 万科 | C21: 8998645 | D21: com.king.candycrushsaga | E21: TH | F21: MTG | G21: 0.28 | H21: 200 | I21: =G21*H21*7 -> 392 | J21: 截止24点 | K21: 334 | L21: 131 | M21: 2 | N21: 0.006 | O21: 0.384 | P21: 0.768 | Q21: =M21/H21 -> 0.01 | S21: =IFERROR(L21/K21,0) -> 0.39221557 | T21: =IFERROR(M21/L21,0) -> 0.015267176
C22: 5497580 | D22: com.king.candycrushsaga | E22: TH | F22: MTG | G22: 0.28 | H22: 1300 | I22: =G22*H22*7 -> 2548 | J22: 截止24点 | K22: 100283 | L22: 56291 | M22: 828 | N22: 0.004 | O22: 0.254 | P22: 209.928 | Q22: =M22/H22 -> 0.63692308 | S22: =IFERROR(L22/K22,0) -> 0.56132146 | T22: =IFERROR(M22/L22,0) -> 0.014709279
C23: 91407542 | D23: com.king.candycrushsaga | E23: ID | F23: MTG | G23: 0.02 | H23: 600 | I23: =G23*H23*7 -> 84 | J23: 截止24点 | K23: 27058 | L23: 18097 | M23: 317 | N23: 0 | O23: 0.02 | P23: 6.48 | Q23: =M23/H23 -> 0.52833333 | S23: =IFERROR(L23/K23,0) -> 0.66882253 | T23: =IFERROR(M23/L23,0) -> 0.017516715
B24: 黄政 | C24: 6951594 | D24: com.king.candycrushsodasaga | E24: DE | F24: MTG | G24: 0.6 | H24: 250 | I24: =G24*H24*7 -> 1050 | J24: 截止24点 | K24: 24201 | L24: 15797 | M24: 99 | N24: 0.004 | O24: 0.7 | P24: 69.3 | Q24: =M24/H24 -> 0.396 | S24: =IFERROR(L24/K24,0) -> 0.65274162 | T24: =IFERROR(M24/L24,0) -> 0.0062670127
A26: 每日汇总 | B26: 周六 | K26: =SUM(K27:K30) -> 132106 | L26: =SUM(L27:L30) -> 81733 | P26: =SUM(P27:P30) -> 218.649
A27: 46277 | B27: 万科 | C27: 8998645 | D27: com.king.candycrushsaga | E27: TH | F27: MTG | G27: 0.28 | H27: 200 | I27: =G27*H27*7 -> 392 | J27: 截止24点 | K27: 256 | L27: 116 | M27: 2 | N27: 0.001 | O27: 0.049 | P27: 0.099 | Q27: =M27/H27 -> 0.01 | S27: =IFERROR(L27/K27,0) -> 0.453125 | T27: =IFERROR(M27/L27,0) -> 0.017241379
C28: 5497580 | D28: com.king.candycrushsaga | E28: TH | F28: MTG | G28: 0.28 | H28: 1300 | I28: =G28*H28*7 -> 2548 | J28: 截止24点 | K28: 78456 | L28: 46260 | M28: 623 | N28: 0.003 | O28: 0.253 | P28: 157.41 | Q28: =M28/H28 -> 0.47923077 | S28: =IFERROR(L28/K28,0) -> 0.58962986 | T28: =IFERROR(M28/L28,0) -> 0.013467358
C29: 91407542 | D29: com.king.candycrushsaga | E29: ID | F29: MTG | G29: 0.02 | H29: 600 | I29: =G29*H29*7 -> 84 | J29: 截止24点 | K29: 23074 | L29: 15682 | M29: 288 | N29: 0 | O29: 0.02 | P29: 5.84 | Q29: =M29/H29 -> 0.48 | S29: =IFERROR(L29/K29,0) -> 0.67963942 | T29: =IFERROR(M29/L29,0) -> 0.018365004
B30: 黄政 | C30: 6951594 | D30: com.king.candycrushsodasaga | E30: DE | F30: MTG | G30: 0.6 | H30: 250 | I30: =G30*H30*7 -> 1050 | J30: 截止24点 | K30: 30320 | L30: 19675 | M30: 79 | N30: 0.003 | O30: 0.7 | P30: 55.3 | Q30: =M30/H30 -> 0.316 | S30: =IFERROR(L30/K30,0) -> 0.64891161 | T30: =IFERROR(M30/L30,0) -> 0.0040152478
A32: 每日汇总 | B32: 周五 | K32: =SUM(K33:K36) -> 99421 | L32: =SUM(L33:L36) -> 59978 | P32: =SUM(P33:P36) -> 199.058
A33: 46276 | B33: 万科 | C33: 8998645 | D33: com.king.candycrushsaga | E33: TH | F33: MTG | G33: 0.28 | H33: 200 | I33: =G33*H33*7 -> 392 | J33: 截止24点 | K33: 271 | L33: 134 | M33: 2 | N33: 0.002 | O33: 0.122 | P33: 0.243 | Q33: =M33/H33 -> 0.01 | S33: =IFERROR(L33/K33,0) -> 0.49446494 | T33: =IFERROR(M33/L33,0) -> 0.014925373
C34: 5497580 | D34: com.king.candycrushsaga | E34: TH | F34: MTG | G34: 0.28 | H34: 1300 | I34: =G34*H34*7 -> 2548 | J34: 截止24点 | K34: 37572 | L34: 20195 | M34: 563 | N34: 0.007 | O34: 0.25 | P34: 140.855 | Q34: =M34/H34 -> 0.43307692 | S34: =IFERROR(L34/K34,0) -> 0.53750133 | T34: =IFERROR(M34/L34,0) -> 0.027878188
C35: 91407542 | D35: com.king.candycrushsaga | E35: ID | F35: MTG | G35: 0.02 | H35: 600 | I35: =G35*H35*7 -> 84 | J35: 截止24点 | K35: 31022 | L35: 20483 | M35: 298 | N35: 0 | O35: 0.021 | P35: 6.16 | Q35: =M35/H35 -> 0.49666667 | S35: =IFERROR(L35/K35,0) -> 0.66027335 | T35: =IFERROR(M35/L35,0) -> 0.01454865
B36: 黄政 | C36: 6951594 | D36: com.king.candycrushsodasaga | E36: DE | F36: MTG | G36: 0.6 | H36: 250 | I36: =G36*H36*7 -> 1050 | J36: 截止24点 | K36: 30556 | L36: 19166 | M36: 74 | N36: 0.003 | O36: 0.7 | P36: 51.8 | Q36: =M36/H36 -> 0.296 | S36: =IFERROR(L36/K36,0) -> 0.62724179 | T36: =IFERROR(M36/L36,0) -> 0.0038610039
A38: 每日汇总 | B38: 周四 | K38: =SUM(K39:K42) -> 107364 | L38: =SUM(L39:L42) -> 63943 | P38: =SUM(P39:P42) -> 228.62
A39: 46275 | B39: 万科 | C39: 8998645 | D39: com.king.candycrushsaga | E39: TH | F39: MTG | G39: 0.28 | H39: 200 | I39: =G39*H39*7 -> 392 | J39: 截止24点 | K39: 163 | L39: 75 | M39: 0 | N39: 0 | O39: 0 | P39: 0 | Q39: =M39/H39 -> 0 | S39: =IFERROR(L39/K39,0) -> 0.4601227 | T39: =IFERROR(M39/L39,0) -> 0
C40: 5497580 | D40: com.king.candycrushsaga | E40: TH | F40: MTG | G40: 0.28 | H40: 1300 | I40: =G40*H40*7 -> 2548 | J40: 截止24点 | K40: 56750 | L40: 30691 | M40: 690 | N40: 0.006 | O40: 0.251 | P40: 173.28 | Q40: =M40/H40 -> 0.53076923 | S40: =IFERROR(L40/K40,0) -> 0.54081057 | T40: =IFERROR(M40/L40,0) -> 0.022482161
C41: 91407542 | D41: com.king.candycrushsaga | E41: ID | F41: MTG | G41: 0.02 | H41: 600 | I41: =G41*H41*7 -> 84 | J41: 截止24点 | K41: 32573 | L41: 22068 | M41: 347 | N41: 0 | O41: 0.02 | P41: 7.04 | Q41: =M41/H41 -> 0.57833333 | S41: =IFERROR(L41/K41,0) -> 0.67749363 | T41: =IFERROR(M41/L41,0) -> 0.015724125
B42: 黄政 | C42: 6951594 | D42: com.king.candycrushsodasaga | E42: DE | F42: MTG | G42: 0.6 | H42: 250 | I42: =G42*H42*7 -> 1050 | J42: 截止24点 | K42: 17878 | L42: 11109 | M42: 69 | N42: 0.004 | O42: 0.7 | P42: 48.3 | Q42: =M42/H42 -> 0.276 | S42: =IFERROR(L42/K42,0) -> 0.62137823 | T42: =IFERROR(M42/L42,0) -> 0.0062111801
A44: 每日汇总 | B44: 周三 | K44: =SUM(K45:K48) -> 127404 | L44: =SUM(L45:L48) -> 76239 | P44: =SUM(P45:P48) -> 259.145
A45: 46274 | B45: 万科 | C45: 8998645 | D45: com.king.candycrushsaga | E45: TH | F45: MTG | G45: 0.28 | H45: 200 | I45: =G45*H45*7 -> 392 | J45: 截止24点 | K45: 102 | L45: 45 | M45: 0 | N45: 0 | O45: 0 | P45: 0 | Q45: =M45/H45 -> 0 | S45: =IFERROR(L45/K45,0) -> 0.44117647 | T45: =IFERROR(M45/L45,0) -> 0
C46: 5497580 | D46: com.king.candycrushsaga | E46: TH | F46: MTG | G46: 0.28 | H46: 1300 | I46: =G46*H46*7 -> 2548 | J46: 截止24点 | K46: 64150 | L46: 35927 | M46: 816 | N46: 0.006 | O46: 0.251 | P46: 204.505 | Q46: =M46/H46 -> 0.62769231 | S46: =IFERROR(L46/K46,0) -> 0.56004677 | T46: =IFERROR(M46/L46,0) -> 0.022712723
C47: 91407542 | D47: com.king.candycrushsaga | E47: ID | F47: MTG | G47: 0.02 | H47: 600 | I47: =G47*H47*7 -> 84 | J47: 截止24点 | K47: 29057 | L47: 19720 | M47: 383 | N47: 0 | O47: 0.02 | P47: 7.74 | Q47: =M47/H47 -> 0.63833333 | S47: =IFERROR(L47/K47,0) -> 0.67866607 | T47: =IFERROR(M47/L47,0) -> 0.019421907
...

Sheet 数据透视表
B1: 37 | N1: Week
J2: Adpingid | K2: 包名 | L2: 平台 | M2: 地区 | N2: 35
A3: Adpingid | B3: 包名 | C3: 平台 | D3: 地区 | E3: 求和:平台转化数量 | F3: 求和:花费 | J3: 7815836 | K3: com.kwai.bulldog | L3: MTG | M3: ID | N3: 2711.24
A4: 5464039 | B4: com.king.candycrushsaga | C4: MTG | D4: MY | E4: 10004 | F4: 2964.658 | J4: 5464039 | K4: com.king.candycrushsaga | L4: MTG | M4: MY | N4: 2521.29
A5: 5497580 | B5: com.king.candycrushsaga | C5: MTG | D5: TH | E5: 9475 | F5: 2394.791 | J5: 5497580 | K5: com.king.candycrushsaga | L5: MTG | M5: TH | N5: 2182.83
A6: 8628042 | B6: asrtum.ent.domovyata | C6: Mediago | D6: RU | E6: 4276 | F6: 2183.6 | J6: 8291713 | K6: ru.kinopoisk | L6: MTG | M6: RU | N6: 1395.8
A7: 7815836 | B7: com.kwai.bulldog | C7: MTG | D7: ID | E7: 19066 | F7: 1845.055 | J7: 6607117 | K7: ru.aliexpress.buyer | L7: MTG | M7: RU | N7: 1374.971
A8: 8291713 | B8: ru.kinopoisk | C8: MTG | D8: RU | E8: 10499 | F8: 1419.397 | J8: 8460883 | K8: com.king.candycrushsodasaga | L8: MTG | M8: BR | N8: 1214.332
A9: 11690181 | B9: astrum.ent.m2alyona | C9: MTG | D9: RU | E9: 3363 | F9: 1412.55 | J9: 5963354 | K9: ru.ozon.app.android | L9: MTG | M9: KZ | N9: 1159.41
A10: 5963354 | B10: ru.ozon.app.android | C10: MTG | D10: KZ | E10: 2187 | F10: 1299.066 | J10: 6951594 | K10: com.king.candycrushsodasaga | L10: MTG | M10: DE | N10: 1145.725
A11: 8460883 | B11: com.king.candycrushsodasaga | C11: MTG | D11: BR | E11: 8232 | F11: 1157.646 | J11: 2732727 | K11: com.amazon.mShop.android.shopping | L11: MTG | M11: SA | N11: 1013.9
A12: 6951594 | B12: com.king.candycrushsodasaga | C12: MTG | D12: DE | E12: 1590 | F12: 1113 | J12: 8156506 | K12: com.yandex.lavka | L12: MTG | M12: RU | N12: 640.85
A13: 10912510 | B13: com.amazon.mShop.android.shopping | C13: Kwai | D13: BR | E13: 4180 | F13: 948.56 | J13: 8628042 | K13: asrtum.ent.domovyata | L13: Mediago | M13: RU | N13: 622.39
A14: 6607117 | B14: ru.aliexpress.buyer | C14: MTG | D14: RU | E14: 1426 | F14: 879.32 | J14: 10514860 | K14: com.esprit.rpg.lttlefirykng | L14: MTG | M14: RU | N14: 553.25
A15: 2732727 | B15: com.amazon.mShop.android.shopping | C15: MTG | D15: SA | E15: 3232 | F15: 807.725 | J15: 11690181 | K15: astrum.ent.m2alyona | L15: MTG | M15: RU | N15: 540
... A144: 91528810 | B144: daily.number.match.free.puzzle | C144: MTG | D144: RU | E144: 0 | F144: 0 | J144: 11080833 | K144: ru.ozon.app.android | L144: MTG | M144: KG | N144: 0
J145: 11081056 | K145: ru.ozon.app.android | L145: MTG | M145: AM | N145: 0
J146: 91538307 | K146: com.vitastudio.mahjong | L146: MTG | M146: TH | N146: 0
J147: 91538308 | K147: com.vitastudio.mahjong | L147: MTG | M147: BR | N147: 0
J148: 11332331 | K148: com.dearmart.app | L148: MTG | M148: TH | N148: 0

Sheet Week37
E1: Week
A2: Adpingid | B2: 包名 | C2: 平台 | D2: 地区 | E2: 37 | F2: 36 | G2: 消耗环比 | H2: 变动原因：差值在+-15%的都需要仔细复盘 1、具体的预算增加或者控量动作的时间点 2、如果有降预算问清楚降预算原因 3、广告自身的变化：素材增加/衰退后的表现，子渠道调整，价格调整 4、外部变化：平台流量变化/竞争原因，比如CPM？CPC？CTR？CVR？是否有变动？ | I2: 下一步计划 (根据变动原因需要做出的对应动作，以及需要什么支持？比如cap超跑需要帮助check是否有bug，需要check事件表现，需要新素材，需要提价&加预算等等)
A3: 5464039 | B3: com.king.candycrushsaga | C3: MTG | D3: MY | E3: =SUMIFS('平台消耗统计'!I:I,'平台消耗统计'!A:A,$E$2,'平台消耗统计'!C:C,A3) -> 2964.658 | F3: =SUMIFS('平台消耗统计'!I:I,'平台消耗统计'!A:A,$F$2,'平台消耗统计'!C:C,A3) -> 2285.57 | G3: =IFERROR((E3-F3)/F3,0) -> 0.29711976 | H3: 新单元之前降价量下降了，加了一点量慢慢起来了 | I3: 最近打满了，优化事件
A4: 5497580 | B4: com.king.candycrushsaga | C4: MTG | D4: TH | E4: =SUMIFS('平台消耗统计'!I:I,'平台消耗统计'!A:A,$E$2,'平台消耗统计'!C:C,A4) -> 2394.791 | F4: =SUMIFS('平台消耗统计'!I:I,'平台消耗统计'!A:A,$F$2,'平台消耗统计'!C:C,A4) -> 2143.948 | G4: =IFERROR((E4-F4)/F4,0) -> 0.11700051 | H4: 正常差值，稳定每天跑满。 | I4: 稳定流量，定期优化没用的子渠道
A5: 8628042 | B5: asrtum.ent.domovyata | C5: Mediago | D5: RU | E5: =SUMIFS('平台消耗统计'!I:I,'平台消耗统计'!A:A,$E$2,'平台消耗统计'!C:C,A5) -> 2183.6 | F5: =SUMIFS('平台消耗统计'!I:I,'平台消耗统计'!A:A,$F$2,'平台消耗统计'!C:C,A5) -> 2123.53 | G5: =IFERROR((E5-F5)/F5,0) -> 0.028287804 | H5: 正常差值，每天都在控成本，这周的成本从上周的0.59降到了0.51，整体成本在0.55还需要继续压下 | I5: 稳住消耗并继续下压成本
A6: 7815836 | B6: com.kwai.bulldog | C6: MTG | D6: ID | E6: =SUMIFS('平台消耗统计'!I:I,'平台消耗统计'!A:A,$E$2,'平台消耗统计'!C:C,A6) -> 1845.055 | F6: =SUMIFS('平台消耗统计'!I:I,'平台消耗统计'!A:A,$F$2,'平台消耗统计'!C:C,A6) -> 2308.63 | G6: =IFERROR((E6-F6)/F6,0) -> -0.20080091 | H6: 9.7下调了出价从0.15降到了0.095，直接导致量掉了很多，9.9又再上调到0.1并上新素材后稍微慢慢回复不过目前每天的量也只能在3000个左右 | I6: 先继续控住成本到0.1不亏，目前是0.103
A7: 8291713 | B7: ru.kinopoisk | C7: MTG | D7: RU | E7: =SUMIFS('平台消耗统计'!I:I,'平台消耗统计'!A:A,$E$2,'平台消耗统计'!C:C,A7) -> 1419.397 | F7: =SUMIFS('平台消耗统计'!I:I,'平台消耗统计'!A:A,$F$2,'平台消耗统计'!C:C,A7) -> 1468.57 | G7: =IFERROR((E7-F7)/F7,0) -> -0.033483593 | H7: 降低了一丢丢出价，消耗减少 | I7: 继续保持每日打满cap
A8: 11690181 | B8: astrum.ent.m2alyona | C8: MTG | D8: RU | E8: =SUMIFS('平台消耗统计'!I:I,'平台消耗统计'!A:A,$E$2,'平台消耗统计'!C:C,A8) -> 1412.55 | F8: =SUMIFS('平台消耗统计'!I:I,'平台消耗统计'!A:A,$F$2,'平台消耗统计'!C:C,A8) -> 745.14 | G8: =IFERROR((E8-F8)/F8,0) -> 0.89568403 | H8: 比较稳定 week36cap加到500后基本每天都能打满cap500个只有两天差二十多个 | I8: 继续保持稳定打满
A9: 5963354 | B9: ru.ozon.app.android | C9: MTG | D9: KZ | E9: =SUMIFS('平台消耗统计'!I:I,'平台消耗统计'!A:A,$E$2,'平台消耗统计'!C:C,A9) -> 1299.066 | F9: =SUMIFS('平台消耗统计'!I:I,'平台消耗统计'!A:A,$F$2,'平台消耗统计'!C:C,A9) -> 1396.642 | G9: =IFERROR((E9-F9)/F9,0) -> -0.069864718 | H9: Week37转化下降，合理波动 | I9: 正常更新素材
A10: 8460883 | B10: com.king.candycrushsodasaga | C10: MTG | D10: BR | E10: =SUMIFS('平台消耗统计'!I:I,'平台消耗统计'!A:A,$E$2,'平台消耗统计'!C:C,A10) -> 1157.646 | F10: =SUMIFS('平台消耗统计'!I:I,'平台消耗统计'!A:A,$F$2,'平台消耗统计'!C:C,A10) -> 988.918 | G10: =IFERROR((E10-F10)/F10,0) -> 0.1706188 | H10: 正常差值，转化略有提升 | I10: 争取拿到更多的量，定期优化素材
A11: 6951594 | B11: com.king.candycrushsodasaga | C11: MTG | D11: DE | E11: =SUMIFS('平台消耗统计'!I:I,'平台消耗统计'!A:A,$E$2,'平台消耗统计'!C:C,A11) -> 1113 | F11: =SUMIFS('平台消耗统计'!I:I,'平台消耗统计'!A:A,$F$2,'平台消耗统计'!C:C,A11) -> 950.85 | G11: =IFERROR((E11-F11)/F11,0) -> 0.17053163 | H11: 正常差值，转化略有提升 | I11: 争取拿到更多的量，定期优化素材
A12: 10912510 | B12: com.amazon.mShop.android.shopping | C12: Kwai | D12: BR | E12: =SUMIFS('平台消耗统计'!I:I,'平台消耗统计'!A:A,$E$2,'平台消耗统计'!C:C,A12) -> 948.56 | F12: =SUMIFS('平台消耗统计'!I:I,'平台消耗统计'!A:A,$F$2,'平台消耗统计'!C:C,A12) -> 1259.13 | G12: =IFERROR((E12-F12)/F12,0) -> -0.24665444 | H12: 周三掉量，目前在稳定恢复
A13: 6607117 | B13: ru.aliexpress.buyer | C13: MTG | D13: RU | E13: =SUMIFS('平台消耗统计'!I:I,'平台消耗统计'!A:A,$E$2,'平台消耗统计'!C:C,A13) -> 879.32 | F13: =SUMIFS('平台消耗统计'!I:I,'平台消耗统计'!A:A,$F$2,'平台消耗统计'!C:C,A13) -> 927.809 | G13: =IFERROR((E13-F13)/F13,0) -> -0.052261834 | H13: 正常差值，CPE订单偶尔有波动。 | I13: 争取拿到更多的量，定期优化素材
A14: 2732727 | B14: com.amazon.mShop.android.shopping | C14: MTG | D14: SA | E14: =SUMIFS('平台消耗统计'!I:I,'平台消耗统计'!A:A,$E$2,'平台消耗统计'!C:C,A14) -> 807.725 | F14: =SUMIFS('平台消耗统计'!I:I,'平台消耗统计'!A:A,$F$2,'平台消耗统计'!C:C,A14) -> 1000.725 | G14: =IFERROR((E14-F14)/F14,0) -> -0.19286018 | H14: 在掉量，已经调整渠道和新建系列 | I14: 争取拿到更多的量，定期优化素材
A15: 10514860 | B15: com.esprit.rpg.lttlefirykng | C15: MTG | D15: RU | E15: =SUMIFS('平台消耗统计'!I:I,'平台消耗统计'!A:A,$E$2,'平台消耗统计'!C:C,A15) -> 730.1 | F15: =SUMIFS('平台消耗统计'!I:I,'平台消耗统计'!A:A,$F$2,'平台消耗统计'!C:C,A15) -> 723.8 | G15: =IFERROR((E15-F15)/F15,0) -> 0.0087040619 | H15: 每天量波动比较大，但拉周来看量级很稳定 | I15: 继续观察
A16: 11892329 | B16: com.amazon.mShop.android.shopping | C16: MTG | D16: BR | E16: =SUMIFS('平台消耗统计'!I:I,'平台消耗统计'!A:A,$E$2,'平台消耗统计'!C:C,A16) -> 685.06 | F16: =SUMIFS('平台消耗统计'!I:I,'平台消耗统计'!A:A,$F$2,'平台消耗统计'!C:C,A16) -> 521.5 | G16: =IFERROR((E16-F16)/F16,0) -> 0.31363375 | H16: 比较稳定 正常差值，0.2打不满，提到了0.22 | I16: 争取拿到更多的量，定期优化素材
A17: 8094753 | B17: ru.aliexpress.buyer | C17: Mediago | D17: RU | E17: =SUMIFS('平台消耗统计'!I:I,'平台消耗统计'!A:A,$E$2,'平台消耗统计'!C:C,A17) -> 649.42 | F17: =SUMIFS('平台消耗统计'!I:I,'平台消耗统计'!A:A,$F$2,'平台消耗统计'!C:C,A17) -> 354.55 | G17: =IFERROR((E17-F17)/F17,0) -> 0.83167395 | H17: 9/9 cap 200>400 每天基本打满。 | I17: 定期优化素材，稳定流量。
A18: 8156506 | B18: com.yandex.lavka | C18: MTG | D18: RU | E18: =SUMIFS('平台消耗统计'!I:I,'平台消耗统计'!A:A,$E$2,'平台消耗统计'!C:C,A18) -> 583.1 | F18: =SUMIFS('平台消耗统计'!I:I,'平台消耗统计'!A:A,$F$2,'平台消耗统计'!C:C,A18) -> 601.55 | G18: =IFERROR((E18-F18)/F18,0) -> -0.030670767 | H18: 价格略低，不够稳定，目前已经提价0.1提到0.13 | I18: 已经提价
A19: 1745925 | B19: tech.jm | C19: MTG | D19: RU | E19: =SUMIFS('平台消耗统计'!I:I,'平台消耗统计'!A:A,$E$2,'平台消耗统计'!C:C,A19) -> 472.2 | F19: =SUMIFS('平台消耗统计'!I:I,'平台消耗统计'!A:A,$F$2,'平台消耗统计'!C:C,A19) -> 477.6 | G19: =IFERROR((E19-F19)/F19,0) -> -0.011306533 | H19: 有一天抽风没跑满，其余时间均跑满 | I19: 争取拿到更多的量，定期优化素材
A20: 7872826 | B20: asrtum.ent.domovyata | C20: MTG | D20: RU | E20: =SUMIFS('平台消耗统计'!I:I,'平台消耗统计'!A:A,$E$2,'平台消耗统计'!C:C,A20) -> 424.41 | F20: =SUMIFS('平台消耗统计'!I:I,'平台消耗统计'!A:A,$F$2,'平台消耗统计'!C:C,A20) -> 490.654 | G20: =IFERROR((E20-F20)/F20,0) -> -0.13501164 | H20: 降价和降cap后昨日已经重新打满新的cap要求 | I20: 争取拿到更多的量，定期优化素材
A21: 6395488 | B21: com.edadeal.android | C21: MTG | D21: RU | E21: =SUMIFS('平台消耗统计'!I:I,'平台消耗统计'!A:A,$E$2,'平台消耗统计'!C:C,A21) -> 420 | F21: =SUMIFS('平台消耗统计'!I:I,'平台消耗统计'!A:A,$F$2,'平台消耗统计'!C:C,A21) -> 420 | G21: =IFERROR((E21-F21)/F21,0) -> 0 | H21: 稳定订单 | I21: 继续保持每日打满cap
A22: 9297014 | B22: tech.jm | C22: Mediago | D22: RU | E22: =SUMIFS('平台消耗统计'!I:I,'平台消耗统计'!A:A,$E$2,'平台消耗统计'!C:C,A22) -> 407.45 | F22: =SUMIFS('平台消耗统计'!I:I,'平台消耗统计'!A:A,$F$2,'平台消耗统计'!C:C,A22) -> 287.49 | G22: =IFERROR((E22-F22)/F22,0) -> 0.41726669 | H22: 转化量就差了几十个但这周成本从0.19涨到了0.26 上涨比较多，9.11上新素材并下调价格后成本开始走低 | I22: 压住价格，持续上新素材
A23: 11511535 | B23: com.yandex.bank | C23: Mediago | D23: RU | E23: =SUMIFS('平台消耗统计'!I:I,'平台消耗统计'!A:A,$E$2,'平台消耗统计'!C:C,A23) -> 403.08 | F23: =SUMIFS('平台消耗统计'!I:I,'平台消耗统计'!A:A,$F$2,'平台消耗统计'!C:C,A23) -> 234.48 | G23: =IFERROR((E23-F23)/F23,0) -> 0.71903787 | H23: Week37转化量大幅提升，且成本可控，可喜可贺 | I23: 观察流量波动，调整出价
A24: 8566541 | B24: ru.yandex.music | C24: Mediago | D24: RU | E24: =SUMIFS('平台消耗统计'!I:I,'平台消耗统计'!A:A,$E$2,'平台消耗统计'!C:C,A24) -> 353.93 | F24: =SUMIFS('平台消耗统计'!I:I,'平台消耗统计'!A:A,$F$2,'平台消耗统计'!C:C,A24) -> 183.42 | G24: =IFERROR((E24-F24)/F24,0) -> 0.92961509 | H24: Week37转化量大幅提升，且成本可控，可喜可贺 | I24: 观察流量波动，调整出价
... A42: 91548043 | B42: com.king.candycrushsaga | C42: MTG | D42: FR | E42: =SUMIFS('平台消耗统计'!I:I,'平台消耗统计'!A:A,$E$2,'平台消耗统计'!C:C,A42) -> 158.4 | F42: =SUMIFS('平台消耗统计'!I:I,'平台消耗统计'!A:A,$F$2,'平台消耗统计'!C:C,A42) -> 121.8 | G42: =IFERROR((E42-F42)/F42,0) -> 0.30049261 | H42: 每日打满，但要换新的单号，过几天就可能要关了 | I42: 继续保持稳定打满
A43: 91560709 | B43: com.king.candycrushsaga | C43: MTG | D43: VN | E43: =SUMIFS('平台消耗统计'!I:I,'平台消耗统计'!A:A,$E$2,'平台消耗统计'!C:C,A43) -> 151.74 | F43: =SUMIFS('平台消耗统计'!I:I,'平台消耗统计'!A:A,$F$2,'平台消耗统计'!C:C,A43) -> 0 | G43: =IFERROR((E43-F43)/F43,0) -> 0 | H43: 9.8日开投
A44: 6439005 | B44: com.amazon.mShop.android.shopping | C44: Eagllwin | D44: ZA | E44: =SUMIFS('平台消耗统计'!I:I,'平台消耗统计'!A:A,$E$2,'平台消耗统计'!C:C,A44) -> 149.5 | F44: =SUMIFS('平台消耗统计'!I:I,'平台消耗统计'!A:A,$F$2,'平台消耗统计'!C:C,A44) -> 128.5 | G44: =IFERROR((E44-F44)/F44,0) -> 0.16342412 | H44: 目前维持在80左右的量级，在慢慢提升 | I44: 争取拿到更多的量，定期优化素材
A45: 91467820 | B45: com.vitastudio.mahjong | C45: MTG | D45: ID | E45: =SUMIFS('平台消耗统计'!I:I,'平台消耗统计'!A:A,$E$2,'平台消耗统计'!C:C,A45) -> 140 | F45: =SUMIFS('平台消耗统计'!I:I,'平台消耗统计'!A:A,$F$2,'平台消耗统计'!C:C,A45) -> 323.1 | G45: =IFERROR((E45-F45)/F45,0) -> -0.56669762 | H45: week36降了cap到200后每天还是都能打满 | I45: 继续保持每日打满cap
A46: 8819666 | B46: com.yandex.lavka | C46: Bigo | D46: RU | E46: =SUMIFS('平台消耗统计'!I:I,'平台消耗统计'!A:A,$E$2,'平台消耗统计'!C:C,A46) -> 139.2306 | F46: =SUMIFS('平台消耗统计'!I:I,'平台消耗统计'!A:A,$F$2,'平台消耗统计'!C:C,A46) -> 138.0552 | G46: =IFERROR((E46-F46)/F46,0) -> 0.0085139857 | H46: 稳定订单，每日基本打满 | I46: 继续保持稳定打满
A47: 9686529 | B47: ru.ozon.app.android | C47: MTG | D47: KG | E47: =SUMIFS('平台消耗统计'!I:I,'平台消耗统计'!A:A,$E$2,'平台消耗统计'!C:C,A47) -> 135.5 | F47: =SUMIFS('平台消耗统计'!I:I,'平台消耗统计'!A:A,$F$2,'平台消耗统计'!C:C,A47) -> 125.5 | G47: =IFERROR((E47-F47)/F47,0) -> 0.079681275 | H47: Week37转化增多，合理波动 | I47: 正常更新素材
A48: 91496147 | B48: com.vitastudio.mahjong | C48: MTG | D48: BR | E48: =SUMIFS('平台消耗统计'!I:I,'平台消耗统计'!A:A,$E$2,'平台消耗统计'!C:C,A48) -> 125.45 | F48: =SUMIFS('平台消耗统计'!I:I,'平台消耗统计'!A:A,$F$2,'平台消耗统计'!C:C,A48) -> 129.35 | G48: =IFERROR((E48-F48)/F48,0) -> -0.030150754 | H48: 稳定订单，每日基本打满 | I48: 继续保持
A49: 12011132 | B49: ru.rt.video.app.mobile | C49: MTG | D49: RU | E49: =SUMIFS('平台消耗统计'!I:I,'平台消耗统计'!A:A,$E$2,'平台消耗统计'!C:C,A49) -> 120 | F49: =SUMIFS('平台消耗统计'!I:I,'平台消耗统计'!A:A,$F$2,'平台消耗统计'!C:C,A49) -> 0 | G49: =IFERROR((E49-F49)/F49,0) -> 0 | H49: 9/8 开跑，目前每日能打满cap
A50: 91467821 | B50: com.vitastudio.mahjong | C50: MTG | D50: TH | E50: =SUMIFS('平台消耗统计'!I:I,'平台消耗统计'!A:A,$E$2,'平台消耗统计'!C:C,A50) -> 119 | F50: =SUMIFS('平台消耗统计'!I:I,'平台消耗统计'!A:A,$F$2,'平台消耗统计'!C:C,A50) -> 117.81 | G50: =IFERROR((E50-F50)/F50,0) -> 0.01010101 | H50: 稳定订单，每天打满 | I50: 继续保持
A51: 6951600 | B51: com.king.candycrushsodasaga | C51: MTG | D51: TH | E51: =SUMIFS('平台消耗统计'!I:I,'平台消耗统计'!A:A,$E$2,'平台消耗统计'!C:C,A51) -> 113.866 | F51: =SUMIFS('平台消耗统计'!I:I,'平台消耗统计'!A:A,$F$2,'平台消耗统计'!C:C,A51) -> 98.396 | G51: =IFERROR((E51-F51)/F51,0) -> 0.15722184 | H51: 目前已经稳定每日打满 | I51: 继续保持稳定打满
A52: 10765365 | B52: ph.com.bdo.pay | C52: MTG | D52: PH | E52: =SUMIFS('平台消耗统计'!I:I,'平台消耗统计'!A:A,$E$2,'平台消耗统计'!C:C,A52) -> 111.24 | F52: =SUMIFS('平台消耗统计'!I:I,'平台消耗统计'!A:A,$F$2,'平台消耗统计'!C:C,A52) -> 88.98 | G52: =IFERROR((E52-F52)/F52,0) -> 0.25016858 | H52: week36cap提到100后大部分时间都能打满只有周末两天掉量比较多 | I52: 提价稳定量级并上新素材
A53: 91532857 | B53: com.reefgames.fabletown | C53: Bigo | D53: RU | E53: =SUMIFS('平台消耗统计'!I:I,'平台消耗统计'!A:A,$E$2,'平台消耗统计'!C:C,A53) -> 99.9776 | F53: =SUMIFS('平台消耗统计'!I:I,'平台消耗统计'!A:A,$F$2,'平台消耗统计'!C:C,A53) -> 72.7499 | G53: =IFERROR((E53-F53)/F53,0) -> 0.37426443 | H53: 上了新素材，量有提升 | I53: 换了一个编号去新建了，继续观察
A54: 2937658 | B54: com.yandex.bank | C54: MTG | D54: RU | E54: =SUMIFS('平台消耗统计'!I:I,'平台消耗统计'!A:A,$E$2,'平台消耗统计'!C:C,A54) -> 86.1 | F54: =SUMIFS('平台消耗统计'!I:I,'平台消耗统计'!A:A,$F$2,'平台消耗统计'!C:C,A54) -> 86.162 | G54: =IFERROR((E54-F54)/F54,0) -> -0.00071957475 | H54: 稳定订单 | I54: 继续保持每日打满cap
A55: 8566084 | B55: com.intellihealth.truemeds | C55: MTG | D55: IN | E55: =SUMIFS('平台消耗统计'!I:I,'平台消耗统计'!A:A,$E$2,'平台消耗统计'!C:C,A55) -> 84 | F55: =SUMIFS('平台消耗统计'!I:I,'平台消耗统计'!A:A,$F$2,'平台消耗统计'!C:C,A55) -> 64.56 | G55: =IFERROR((E55-F55)/F55,0) -> 0.30111524 | H55: Week37每日打满cap，转化量增多 | I55: 继续保持每日打满cap
A56: 6706444 | B56: ru.ozon.app.android | C56: Bigo | D56: KZ | E56: =SUMIFS('平台消耗统计'!I:I,'平台消耗统计'!A:A,$E$2,'平台消耗统计'!C:C,A56) -> 83.595 | F56: =SUMIFS('平台消耗统计'!I:I,'平台消耗统计'!A:A,$F$2,'平台消耗统计'!C:C,A56) -> 69.2401 | G56: =IFERROR((E56-F56)/F56,0) -> 0.20732061 | H56: Week37 eCPI跑高了，转化量差不多 | I56: 换素材，降eCPI
A57: 11690183 | B57: com.uma.musicvk | C57: MTG | D57: RU | E57: =SUMIFS('平台消耗统计'!I:I,'平台消耗统计'!A:A,$E$2,'平台消耗统计'!C:C,A57) -> 82.2 | F57: =SUMIFS('平台消耗统计'!I:I,'平台消耗统计'!A:A,$F$2,'平台消耗统计'!C:C,A57) -> 70.5 | G57: =IFERROR((E57-F57)/F57,0) -> 0.16595745 | H57: 人群包订单，量相较Week36增加了一些。正常波动 | I57: 优化素材和子渠道，争取跑满
...

Sheet Week36
E1: Week
A2: Adpingid | B2: 包名 | C2: 平台 | D2: 地区 | E2: 36 | F2: 35 | G2: 消耗环比 | H2: 变动原因：差值在+-15%的都需要仔细复盘 1、具体的预算增加或者控量动作的时间点 2、如果有降预算问清楚降预算原因 3、广告自身的变化：素材增加/衰退后的表现，子渠道调整，价格调整 4、外部变化：平台流量变化/竞争原因，比如CPM？CPC？CTR？CVR？是否有变动？ | I2: 下一步计划 (根据变动原因需要做出的对应动作，以及需要什么支持？比如cap超跑需要帮助check是否有bug，需要check事件表现，需要新素材，需要提价&加预算等等)
A3: 7815836 | B3: com.kwai.bulldog | C3: MTG | D3: ID | E3: =SUMIFS('平台消耗统计'!I:I,'平台消耗统计'!A:A,$E$2,'平台消耗统计'!C:C,A3) -> 2308.63 | F3: =VLOOKUP(A3,'数据透视表'!J:N,5,FALSE) -> 2711.24 | G3: =IFERROR((E3-F3)/F3,0) -> -0.14849663 | H3: 8.31排了很多的无效子渠道导致曝光点击量都下滑很多掉量但cvr ivr都有上涨很多了 最近两天转化量也在慢慢恢复 | I3: 继续观察 然后压价
A4: 5464039 | B4: com.king.candycrushsaga | C4: MTG | D4: MY | E4: =SUMIFS('平台消耗统计'!I:I,'平台消耗统计'!A:A,$E$2,'平台消耗统计'!C:C,A4) -> 2285.57 | F4: =VLOOKUP(A4,'数据透视表'!J:N,5,FALSE) -> 2521.29 | G4: =IFERROR((E4-F4)/F4,0) -> -0.093491824 | H4: 尝试降价后掉量 | I4: 加点价观察
A5: 5497580 | B5: com.king.candycrushsaga | C5: MTG | D5: TH | E5: =SUMIFS('平台消耗统计'!I:I,'平台消耗统计'!A:A,$E$2,'平台消耗统计'!C:C,A5) -> 2143.948 | F5: =VLOOKUP(A5,'数据透视表'!J:N,5,FALSE) -> 2182.83 | G5: =IFERROR((E5-F5)/F5,0) -> -0.017812656 | H5: 正常差值，每天跑满。 | I5: 稳定流量，定期优化没用的子渠道
A6: 8628042 | B6: asrtum.ent.domovyata | C6: Mediago | D6: RU | E6: =SUMIFS('平台消耗统计'!I:I,'平台消耗统计'!A:A,$E$2,'平台消耗统计'!C:C,A6) -> 2123.53 | F6: =VLOOKUP(A6,'数据透视表'!J:N,5,FALSE) -> 622.39 | G6: =IFERROR((E6-F6)/F6,0) -> 2.4118961 | H6: week35一直没量提价到了1，然后9.1突然出量但成本涨了很多后续量也比较稳定成本也在慢慢下压 | I6: 继续压价
A7: 8291713 | B7: ru.kinopoisk | C7: MTG | D7: RU | E7: =SUMIFS('平台消耗统计'!I:I,'平台消耗统计'!A:A,$E$2,'平台消耗统计'!C:C,A7) -> 1468.57 | F7: =VLOOKUP(A7,'数据透视表'!J:N,5,FALSE) -> 1395.8 | G7: =IFERROR((E7-F7)/F7,0) -> 0.052134976 | H7: week36每日都打满了cap，比week35多了些转化量 | I7: 继续保持打满cap的同时稍微控制下成本，降一丢丢价
A8: 5963354 | B8: ru.ozon.app.android | C8: MTG | D8: KZ | E8: =SUMIFS('平台消耗统计'!I:I,'平台消耗统计'!A:A,$E$2,'平台消耗统计'!C:C,A8) -> 1396.642 | F8: =VLOOKUP(A8,'数据透视表'!J:N,5,FALSE) -> 1159.41 | G8: =IFERROR((E8-F8)/F8,0) -> 0.20461442 | H8: week36出量比week35多了一些 | I8: 稍微控一下价格，往给的price靠
A9: 10912510 | B9: com.amazon.mShop.android.shopping | C9: Kwai | D9: BR | E9: =SUMIFS('平台消耗统计'!I:I,'平台消耗统计'!A:A,$E$2,'平台消耗统计'!C:C,A9) -> 1259.13 | F9: =VLOOKUP(A9,'数据透视表'!J:N,5,FALSE) -> 498.08 | G9: =IFERROR((E9-F9)/F9,0) -> 1.5279674 | H9: 9月2日cap500加到1000，9月3日cap加到1500，目前稳定在1000以上，但跑不满1500 | I9: 持续更新素材
A10: 2732727 | B10: com.amazon.mShop.android.shopping | C10: MTG | D10: SA | E10: =SUMIFS('平台消耗统计'!I:I,'平台消耗统计'!A:A,$E$2,'平台消耗统计'!C:C,A10) -> 1000.725 | F10: =VLOOKUP(A10,'数据透视表'!J:N,5,FALSE) -> 1013.9 | G10: =IFERROR((E10-F10)/F10,0) -> -0.012994378 | H10: 新开系列，更换素材，转化量都不涨 | I10: 继续更新素材和新建系列
A11: 8460883 | B11: com.king.candycrushsodasaga | C11: MTG | D11: BR | E11: =SUMIFS('平台消耗统计'!I:I,'平台消耗统计'!A:A,$E$2,'平台消耗统计'!C:C,A11) -> 988.918 | F11: =VLOOKUP(A11,'数据透视表'!J:N,5,FALSE) -> 1214.332 | G11: =IFERROR((E11-F11)/F11,0) -> -0.18562798 | H11: 9.4日转化突然掉到100，直接掉了90%，第二天回到1000+的转化，新素材表现不佳，准备重新在做素材 | I11: 重新上素材
A12: 6951594 | B12: com.king.candycrushsodasaga | C12: MTG | D12: DE | E12: =SUMIFS('平台消耗统计'!I:I,'平台消耗统计'!A:A,$E$2,'平台消耗统计'!C:C,A12) -> 950.85 | F12: =VLOOKUP(A12,'数据透视表'!J:N,5,FALSE) -> 1145.725 | G12: =IFERROR((E12-F12)/F12,0) -> -0.17008881 | H12: 也是9.4日突然掉量，后续只能维持在200左右的转化量级 | I12: 新素材表现不佳，继续更新素材
A13: 6607117 | B13: ru.aliexpress.buyer | C13: MTG | D13: RU | E13: =SUMIFS('平台消耗统计'!I:I,'平台消耗统计'!A:A,$E$2,'平台消耗统计'!C:C,A13) -> 927.809 | F13: =VLOOKUP(A13,'数据透视表'!J:N,5,FALSE) -> 1374.971 | G13: =IFERROR((E13-F13)/F13,0) -> -0.32521559 | H13: 前期跑的有点超，预算控制下来了。 | I13: 定期更新素材，量保持稳住
A14: 5963400 | B14: ru.ozon.app.android | C14: MTG | D14: UZ | E14: =SUMIFS('平台消耗统计'!I:I,'平台消耗统计'!A:A,$E$2,'平台消耗统计'!C:C,A14) -> 793.15 | F14: =VLOOKUP(A14,'数据透视表'!J:N,5,FALSE) -> 495.22 | G14: =IFERROR((E14-F14)/F14,0) -> 0.60161141 | H14: week36转化量比week35大幅提升，9/7 cap 300→100 出价0.4→0.2 | I14: 按新出价打满cap
... A18: 10813123 | B18: com.amazon.mShop.android.shopping | C18: Bigo | D18: BR | E18: =SUMIFS('平台消耗统计'!I:I,'平台消耗统计'!A:A,$E$2,'平台消耗统计'!C:C,A18) -> 546.1175 | F18: =VLOOKUP(A18,'数据透视表'!J:N,5,FALSE) -> 95.0468 | G18: =IFERROR((E18-F18)/F18,0) -> 4.7457747 | H18: 目前每日都在更新素材，但表现不佳，曝光点击事件率都在降，量级目前只能维持在200左右 | I18: 持续更新素材
A19: 11892329 | B19: com.amazon.mShop.android.shopping | C19: MTG | D19: BR | E19: =SUMIFS('平台消耗统计'!I:I,'平台消耗统计'!A:A,$E$2,'平台消耗统计'!C:C,A19) -> 521.5 | F19: =IFERROR(VLOOKUP(A19,'数据透视表'!J:N,5,FALSE),0) -> 0 | G19: =IFERROR((E19-F19)/F19,0) -> 0 | H19: 9.2日开投，目前每日打满，且超跑
A20: 7872826 | B20: asrtum.ent.domovyata | C20: MTG | D20: RU | E20: =SUMIFS('平台消耗统计'!I:I,'平台消耗统计'!A:A,$E$2,'平台消耗统计'!C:C,A20) -> 490.654 | F20: =IFERROR(VLOOKUP(A20,'数据透视表'!J:N,5,FALSE),0) -> 530.599 | G20: =IFERROR((E20-F20)/F20,0) -> -0.075282841 | H20: 9.4日cap400降到200后，每日打不满，目前在调整 | I20: 持续更新素材
A21: 1745925 | B21: tech.jm | C21: MTG | D21: RU | E21: =SUMIFS('平台消耗统计'!I:I,'平台消耗统计'!A:A,$E$2,'平台消耗统计'!C:C,A21) -> 477.6 | F21: =IFERROR(VLOOKUP(A21,'数据透视表'!J:N,5,FALSE),0) -> 248.1 | G21: =IFERROR((E21-F21)/F21,0) -> 0.92503023 | H21: 每日基本打满500cap | I21: 继续保持打满cap
A22: 6395488 | B22: com.edadeal.android | C22: MTG | D22: RU | E22: =SUMIFS('平台消耗统计'!I:I,'平台消耗统计'!A:A,$E$2,'平台消耗统计'!C:C,A22) -> 420 | F22: =IFERROR(VLOOKUP(A22,'数据透视表'!J:N,5,FALSE),0) -> 420 | G22: =IFERROR((E22-F22)/F22,0) -> 0 | H22: 稳定订单，每日打满cap | I22: 继续保持打满cap
A23: 7202934 | B23: com.fxpro.direct.application | C23: MTG | D23: PK | E23: =SUMIFS('平台消耗统计'!I:I,'平台消耗统计'!A:A,$E$2,'平台消耗统计'!C:C,A23) -> 384.41 | F23: =IFERROR(VLOOKUP(A23,'数据透视表'!J:N,5,FALSE),0) -> 498.96 | G23: =IFERROR((E23-F23)/F23,0) -> -0.22957752 | H23: 9.3日出价从0.36降到0.35后，开始掉量，打不满，可能是加个降低后，重新对渠道继续了优先级的调整 | I23: 先继续观察，观察后打不满就进行提价
A24: 6060965 | B24: ru.aliexpress.buyer | C24: MTG | D24: RU | E24: =SUMIFS('平台消耗统计'!I:I,'平台消耗统计'!A:A,$E$2,'平台消耗统计'!C:C,A24) -> 365.54 | F24: =IFERROR(VLOOKUP(A24,'数据透视表'!J:N,5,FALSE),0) -> 289.69 | G24: =IFERROR((E24-F24)/F24,0) -> 0.26183161 | H24: 人群包订单，前面有点掉量优化了素材和子渠道量上来了。 | I24: 定期更新素材，优化子渠道，量保持稳住
A25: 8094753 | B25: ru.aliexpress.buyer | C25: Mediago | D25: RU | E25: =SUMIFS('平台消耗统计'!I:I,'平台消耗统计'!A:A,$E$2,'平台消耗统计'!C:C,A25) -> 354.55 | F25: =IFERROR(VLOOKUP(A25,'数据透视表'!J:N,5,FALSE),0) -> 244.71 | G25: =IFERROR((E25-F25)/F25,0) -> 0.44885783 | H25: 前面压价跑的利润有点超然后转化没打满现在回来了转化跑满。正常差值 | I25: 定期更新素材量保持稳住
A26: 6425889 | B26: com.amazon.mShop.android.shopping | C26: MTG | D26: ZA | E26: =SUMIFS('平台消耗统计'!I:I,'平台消耗统计'!A:A,$E$2,'平台消耗统计'!C:C,A26) -> 344.55 | F26: =IFERROR(VLOOKUP(A26,'数据透视表'!J:N,5,FALSE),0) -> 366.55 | G26: =IFERROR((E26-F26)/F26,0) -> -0.060019097 | H26: 9.4日转化降低后，在缓慢恢复，已经更新过新的素材和新的系列 | I26: 持续更新素材
A27: 7572369 | B27: com.amazon.mShop.android.shopping | C27: MTG | D27: AE | E27: =SUMIFS('平台消耗统计'!I:I,'平台消耗统计'!A:A,$E$2,'平台消耗统计'!C:C,A27) -> 342.75 | F27: =IFERROR(VLOOKUP(A27,'数据透视表'!J:N,5,FALSE),0) -> 432.69 | G27: =IFERROR((E27-F27)/F27,0) -> -0.20786244 | H27: 9.4日转化降低后，在缓慢恢复，已经更新过新的素材和新的系列 | I27: 持续更新素材
A28: 91467820 | B28: com.vitastudio.mahjong | C28: MTG | D28: ID | E28: =SUMIFS('平台消耗统计'!I:I,'平台消耗统计'!A:A,$E$2,'平台消耗统计'!C:C,A28) -> 323.1 | F28: =IFERROR(VLOOKUP(A28,'数据透视表'!J:N,5,FALSE),0) -> 271.3 | G28: =IFERROR((E28-F28)/F28,0) -> 0.19093255 | H28: 9.3cap从600降到500后9.4继续降到200，每天都能打满cap | I28: 继续保持打满
A29: 10599681 | B29: ru.kinopoisk | C29: MTG | D29: RU | E29: =SUMIFS('平台消耗统计'!I:I,'平台消耗统计'!A:A,$E$2,'平台消耗统计'!C:C,A29) -> 313.95 | F29: =IFERROR(VLOOKUP(A29,'数据透视表'!J:N,5,FALSE),0) -> 246.74 | G29: =IFERROR((E29-F29)/F29,0) -> 0.27239199 | H29: 人群包订单，优化了一下素材上量了现在每天打满 | I29: 定期更新素材，优化子渠道，量保持稳住
A30: 91399821 | B30: ru.kinopoisk | C30: Mediago | D30: RU | E30: =SUMIFS('平台消耗统计'!I:I,'平台消耗统计'!A:A,$E$2,'平台消耗统计'!C:C,A30) -> 295.82 | F30: =IFERROR(VLOOKUP(A30,'数据透视表'!J:N,5,FALSE),0) -> 185.98 | G30: =IFERROR((E30-F30)/F30,0) -> 0.59060114 | H30: 平台流量变化 | I30: 继续观察
A31: 9297014 | B31: tech.jm | C31: Mediago | D31: RU | E31: =SUMIFS('平台消耗统计'!I:I,'平台消耗统计'!A:A,$E$2,'平台消耗统计'!C:C,A31) -> 287.49 | F31: =IFERROR(VLOOKUP(A31,'数据透视表'!J:N,5,FALSE),0) -> 241.67 | G31: =IFERROR((E31-F31)/F31,0) -> 0.18959738 | H31: 8.31-9.3每天都能打满300cap但超成本后压价到0.18，后续成本降回正常但量少了很多 | I31: 保持订单稳定
... A41: 91551388 | B41: com.netease.newspike | C41: Bigo | D41: US | E41: =SUMIFS('平台消耗统计'!I:I,'平台消耗统计'!A:A,$E$2,'平台消耗统计'!C:C,A41) -> 174.816 | F41: =IFERROR(VLOOKUP(A41,'数据透视表'!J:N,5,FALSE),0) -> 74.0133 | G41: =IFERROR((E41-F41)/F41,0) -> 1.3619539 | H41: 跑出价超了 | I41: 上些素材降价
A42: 7953512 | B42: ru.mobstudio.andgalaxy | C42: MTG | D42: RU | E42: =SUMIFS('平台消耗统计'!I:I,'平台消耗统计'!A:A,$E$2,'平台消耗统计'!C:C,A42) -> 171.82 | F42: =IFERROR(VLOOKUP(A42,'数据透视表'!J:N,5,FALSE),0) -> 239.32 | G42: =IFERROR((E42-F42)/F42,0) -> -0.28204914 | H42: 9/4暂停容易跑超事件不行。
A43: 11690182 | B43: astrum.ent.m2alyona | C43: Mediago | D43: RU | E43: =SUMIFS('平台消耗统计'!I:I,'平台消耗统计'!A:A,$E$2,'平台消耗统计'!C:C,A43) -> 151.06 | F43: =IFERROR(VLOOKUP(A43,'数据透视表'!J:N,5,FALSE),0) -> 236.8 | G43: =IFERROR((E43-F43)/F43,0) -> -0.3620777 | H43: 9.1爆了拒绝 成本也很高 am关停 | I43: 等待重启后压价
A44: 8819666 | B44: com.yandex.lavka | C44: Bigo | D44: RU | E44: =SUMIFS('平台消耗统计'!I:I,'平台消耗统计'!A:A,$E$2,'平台消耗统计'!C:C,A44) -> 138.0552 | F44: =IFERROR(VLOOKUP(A44,'数据透视表'!J:N,5,FALSE),0) -> 135.6385 | G44: =IFERROR((E44-F44)/F44,0) -> 0.017817213 | H44: 稳定订单，每日打满cap | I44: 继续保持打满
A45: 91496147 | B45: com.vitastudio.mahjong | C45: MTG | D45: BR | E45: =SUMIFS('平台消耗统计'!I:I,'平台消耗统计'!A:A,$E$2,'平台消耗统计'!C:C,A45) -> 129.35 | F45: =IFERROR(VLOOKUP(A45,'数据透视表'!J:N,5,FALSE),0) -> 105.69 | G45: =IFERROR((E45-F45)/F45,0) -> 0.22386224 | H45: week35cap提到150大部分时间都能打满 其余时间每天就差十来个 | I45: 上新素材打满订单
A46: 6439005 | B46: com.amazon.mShop.android.shopping | C46: Eagllwin | D46: ZA | E46: =SUMIFS('平台消耗统计'!I:I,'平台消耗统计'!A:A,$E$2,'平台消耗统计'!C:C,A46) -> 128.5 | F46: =IFERROR(VLOOKUP(A46,'数据透视表'!J:N,5,FALSE),0) -> 92.5 | G46: =IFERROR((E46-F46)/F46,0) -> 0.38918919 | H46: 转化9。4日后有所提升，目前只能维持在100左右 | I46: 上新素材打满订单
A47: 91550293 | B47: net.peakgames.Yuzbir | C47: MTG | D47: TR | E47: =SUMIFS('平台消耗统计'!I:I,'平台消耗统计'!A:A,$E$2,'平台消耗统计'!C:C,A47) -> 126 | F47: =IFERROR(VLOOKUP(A47,'数据透视表'!J:N,5,FALSE),0) -> 44.7 | G47: =IFERROR((E47-F47)/F47,0) -> 1.8187919 | H47: 8/26开投 | I47: /
A48: 9686529 | B48: ru.ozon.app.android | C48: MTG | D48: KG | E48: =SUMIFS('平台消耗统计'!I:I,'平台消耗统计'!A:A,$E$2,'平台消耗统计'!C:C,A48) -> 125.5 | F48: =IFERROR(VLOOKUP(A48,'数据透视表'!J:N,5,FALSE),0) -> 88.9 | G48: =IFERROR((E48-F48)/F48,0) -> 0.41169854 | H48: 曝光点击量增多，对应的转化量增多，但是CVR依旧很低0.2%左右 | I48: 正常更新一组素材，看能否稳定当前的转化量
A49: 91548043 | B49: com.king.candycrushsaga | C49: MTG | D49: FR | E49: =SUMIFS('平台消耗统计'!I:I,'平台消耗统计'!A:A,$E$2,'平台消耗统计'!C:C,A49) -> 121.8 | F49: =IFERROR(VLOOKUP(A49,'数据透视表'!J:N,5,FALSE),0) -> 72.7 | G49: =IFERROR((E49-F49)/F49,0) -> 0.67537827 | H49: 9.4日转化降低后，在缓慢恢复，已经更新过新的素材 | I49: 保持观察，目前在恢复中
A50: 91467821 | B50: com.vitastudio.mahjong | C50: MTG | D50: TH | E50: =SUMIFS('平台消耗统计'!I:I,'平台消耗统计'!A:A,$E$2,'平台消耗统计'!C:C,A50) -> 117.81 | F50: =IFERROR(VLOOKUP(A50,'数据透视表'!J:N,5,FALSE),0) -> 118.66 | G50: =IFERROR((E50-F50)/F50,0) -> -0.0071633238 | H50: 稳定订单只有一天差几个打满 | I50: 继续保持打满
A51: 9298539 | B51: com.gloriajeans.mobile | C51: MTG | D51: RU | E51: =SUMIFS('平台消耗统计'!I:I,'平台消耗统计'!A:A,$E$2,'平台消耗统计'!C:C,A51) -> 114 | F51: =IFERROR(VLOOKUP(A51,'数据透视表'!J:N,5,FALSE),0) -> 0 | G51: =IFERROR((E51-F51)/F51,0) -> 0 | H51: 9/4重启 | I51: /
A52: 91538334 | B52: cn.com.vtmarkets | C52: MTG | D52: DE | E52: =SUMIFS('平台消耗统计'!I:I,'平台消耗统计'!A:A,$E$2,'平台消耗统计'!C:C,A52) -> 103.2 | F52: =IFERROR(VLOOKUP(A52,'数据透视表'!J:N,5,FALSE),0) -> 0 | G52: =IFERROR((E52-F52)/F52,0) -> 0 | H52: 9/1加价到0.8 | I52: 继续观察
...
